BEGIN:VCALENDAR
VERSION:2.0
PRODID:-//Bla Bla by McGettigan&#039;s - ECPv6.15.13//NONSGML v1.0//EN
CALSCALE:GREGORIAN
METHOD:PUBLISH
X-ORIGINAL-URL:https://blabladubai.ae
X-WR-CALDESC:Events for Bla Bla by McGettigan&#039;s
REFRESH-INTERVAL;VALUE=DURATION:PT1H
X-Robots-Tag:noindex
X-PUBLISHED-TTL:PT1H
BEGIN:VTIMEZONE
TZID:Asia/Dubai
BEGIN:STANDARD
TZOFFSETFROM:+0400
TZOFFSETTO:+0400
TZNAME:+04
DTSTART:20250101T000000
END:STANDARD
END:VTIMEZONE
BEGIN:VTIMEZONE
TZID:UTC
BEGIN:STANDARD
TZOFFSETFROM:+0000
TZOFFSETTO:+0000
TZNAME:UTC
DTSTART:20250101T000000
END:STANDARD
END:VTIMEZONE
BEGIN:VEVENT
DTSTART;TZID=Asia/Dubai:20260414T100000
DTEND;TZID=Asia/Dubai:20260414T170000
DTSTAMP:20260426T042052
CREATED:20260326T124534Z
LAST-MODIFIED:20260422T103500Z
UID:10024802-1776160800-1776186000@blabladubai.ae
SUMMARY:Summer Escape | Beach Club
DESCRIPTION:Summer Escape is here. Enjoy free entry at the Beach Bar\, then take it further with full Beach Club pool access\, available with a minimum spend of AED 150. \nAvailable daily from 10 AM.\nTerms & conditions apply.
URL:https://blabladubai.ae/event/summer-escape-beach-club/2026-04-14/
CATEGORIES:Bars,Beach Club
ATTACH;FMTTYPE=image/png:https://blabladubai.ae/wp-content/uploads/2026/03/spring.png
END:VEVENT
BEGIN:VEVENT
DTSTART;TZID=UTC:20260414T100000
DTEND;TZID=UTC:20260423T160000
DTSTAMP:20260426T042052
CREATED:20260424T164544Z
LAST-MODIFIED:20260424T164544Z
UID:10035217-1776160800-1776960000@blabladubai.ae
SUMMARY:Pour Decisions | Beach Bar
DESCRIPTION:Some decisions are better made poolside. \nHead to the Beach Bar and enjoy Pour Decisions\, a daily offer featuring 4 selected cocktails for AED 100\, perfect for long\, sun-soaked afternoons. \nRunning from 10:00 AM to 4:00 PM\, it’s your go-to for easy drinks\, good company\, and laid-back beach club vibes. \nBeach BarDaily | 10am to 4pm \nT&Cs apply
URL:https://blabladubai.ae/event/pour-decisions-beach-bar/2026-04-14/
LOCATION:Bla Bla Dubai\, Dubai\, United Arab Emirates
CATEGORIES:Bars,Beach Club
END:VEVENT
BEGIN:VEVENT
DTSTART;TZID=UTC:20260415T090000
DTEND;TZID=UTC:20260415T140000
DTSTAMP:20260426T042052
CREATED:20260326T125835Z
LAST-MODIFIED:20260422T182627Z
UID:10026631-1776243600-1776261600@blabladubai.ae
SUMMARY:Breakfast | A Casa Restaurant
DESCRIPTION:Start your day the right way at A Casa. \nOur extended breakfast menu is now available\, giving you more time to ease into the day with your favourites. \nDaily | 9am to 2pm \nA Casa Restaurant \n*T&Cs apply
URL:https://blabladubai.ae/event/breakfast-a-casa-restaurant/2026-04-15/
CATEGORIES:Restaurant
ATTACH;FMTTYPE=image/png:https://blabladubai.ae/wp-content/uploads/2026/03/18.png
END:VEVENT
BEGIN:VEVENT
DTSTART;TZID=Asia/Dubai:20260415T100000
DTEND;TZID=Asia/Dubai:20260415T170000
DTSTAMP:20260426T042052
CREATED:20260326T124534Z
LAST-MODIFIED:20260422T103500Z
UID:10024803-1776247200-1776272400@blabladubai.ae
SUMMARY:Summer Escape | Beach Club
DESCRIPTION:Summer Escape is here. Enjoy free entry at the Beach Bar\, then take it further with full Beach Club pool access\, available with a minimum spend of AED 150. \nAvailable daily from 10 AM.\nTerms & conditions apply.
URL:https://blabladubai.ae/event/summer-escape-beach-club/2026-04-15/
CATEGORIES:Bars,Beach Club
ATTACH;FMTTYPE=image/png:https://blabladubai.ae/wp-content/uploads/2026/03/spring.png
END:VEVENT
BEGIN:VEVENT
DTSTART;TZID=UTC:20260415T100000
DTEND;TZID=UTC:20260424T160000
DTSTAMP:20260426T042052
CREATED:20260424T164544Z
LAST-MODIFIED:20260424T164544Z
UID:10035218-1776247200-1777046400@blabladubai.ae
SUMMARY:Pour Decisions | Beach Bar
DESCRIPTION:Some decisions are better made poolside. \nHead to the Beach Bar and enjoy Pour Decisions\, a daily offer featuring 4 selected cocktails for AED 100\, perfect for long\, sun-soaked afternoons. \nRunning from 10:00 AM to 4:00 PM\, it’s your go-to for easy drinks\, good company\, and laid-back beach club vibes. \nBeach BarDaily | 10am to 4pm \nT&Cs apply
URL:https://blabladubai.ae/event/pour-decisions-beach-bar/2026-04-15/
LOCATION:Bla Bla Dubai\, Dubai\, United Arab Emirates
CATEGORIES:Bars,Beach Club
END:VEVENT
BEGIN:VEVENT
DTSTART;TZID=UTC:20260415T130000
DTEND;TZID=UTC:20270407T170000
DTSTAMP:20260426T042052
CREATED:20250422T091410Z
LAST-MODIFIED:20260409T092524Z
UID:10016896-1776258000-1807117200@blabladubai.ae
SUMMARY:Muchas Margaritas | Beach Club
DESCRIPTION:Wednesdays just became the new Fridays. Get ready to sip\, dip\, and vibe at Muchas Margaritas\, Bla Bla Dubai’s midweek poolside drunch. \nAll day pool access from 10 am – Sunset\n👉Bottomless margaritas and beer from 1 pm – 5pm\n👉3 rounds of pinza ( margarita\, chicken and pepperoni)\n👉AED 299 per person\n👉Sunbed included\n👉Live DJ  entertainment spinning Latin beats.\n👉Amenities: towels\, lockers\, changing facilities\, showers\, toiletries\, hair dryers and straighteners.\n\n\n\nSEE MENU\n\n\n\nBla Bla Dubai:\n +971 58 606 3535 (Call/WhatsApp)\n reserve@blabladubai.ae\nThe Beach\, opposite JBR\n Strictly over 21 years of age\n\n\n\nAbout The Beach Club:\nThe Beach Club at Bla Bla is casual yet stylish and offers infinity and spa pools\, refreshing cocktails and poolside dining against the stunning backdrop of the Ain Dubai. Sun lounger options vary from a single lounger to VIP sofa areas.
URL:https://blabladubai.ae/event/muchas-margaritas-2/2026-04-15/
LOCATION:Bla Bla Dubai\, Dubai\, United Arab Emirates
CATEGORIES:Beach Club
ATTACH;FMTTYPE=image/png:https://blabladubai.ae/wp-content/uploads/2025/04/muchas-margaritas.png
END:VEVENT
BEGIN:VEVENT
DTSTART;TZID=UTC:20260416T090000
DTEND;TZID=UTC:20260416T140000
DTSTAMP:20260426T042052
CREATED:20260326T125835Z
LAST-MODIFIED:20260422T182627Z
UID:10026632-1776330000-1776348000@blabladubai.ae
SUMMARY:Breakfast | A Casa Restaurant
DESCRIPTION:Start your day the right way at A Casa. \nOur extended breakfast menu is now available\, giving you more time to ease into the day with your favourites. \nDaily | 9am to 2pm \nA Casa Restaurant \n*T&Cs apply
URL:https://blabladubai.ae/event/breakfast-a-casa-restaurant/2026-04-16/
CATEGORIES:Restaurant
ATTACH;FMTTYPE=image/png:https://blabladubai.ae/wp-content/uploads/2026/03/18.png
END:VEVENT
BEGIN:VEVENT
DTSTART;TZID=Asia/Dubai:20260416T100000
DTEND;TZID=Asia/Dubai:20260416T170000
DTSTAMP:20260426T042052
CREATED:20260326T124534Z
LAST-MODIFIED:20260422T103500Z
UID:10024804-1776333600-1776358800@blabladubai.ae
SUMMARY:Summer Escape | Beach Club
DESCRIPTION:Summer Escape is here. Enjoy free entry at the Beach Bar\, then take it further with full Beach Club pool access\, available with a minimum spend of AED 150. \nAvailable daily from 10 AM.\nTerms & conditions apply.
URL:https://blabladubai.ae/event/summer-escape-beach-club/2026-04-16/
CATEGORIES:Bars,Beach Club
ATTACH;FMTTYPE=image/png:https://blabladubai.ae/wp-content/uploads/2026/03/spring.png
END:VEVENT
BEGIN:VEVENT
DTSTART;TZID=UTC:20260416T100000
DTEND;TZID=UTC:20260425T160000
DTSTAMP:20260426T042052
CREATED:20260424T164544Z
LAST-MODIFIED:20260424T164544Z
UID:10035219-1776333600-1777132800@blabladubai.ae
SUMMARY:Pour Decisions | Beach Bar
DESCRIPTION:Some decisions are better made poolside. \nHead to the Beach Bar and enjoy Pour Decisions\, a daily offer featuring 4 selected cocktails for AED 100\, perfect for long\, sun-soaked afternoons. \nRunning from 10:00 AM to 4:00 PM\, it’s your go-to for easy drinks\, good company\, and laid-back beach club vibes. \nBeach BarDaily | 10am to 4pm \nT&Cs apply
URL:https://blabladubai.ae/event/pour-decisions-beach-bar/2026-04-16/
LOCATION:Bla Bla Dubai\, Dubai\, United Arab Emirates
CATEGORIES:Bars,Beach Club
END:VEVENT
BEGIN:VEVENT
DTSTART;TZID=UTC:20260416T230000
DTEND;TZID=UTC:20270401T030000
DTSTAMP:20260426T042052
CREATED:20241206T120934Z
LAST-MODIFIED:20260411T090709Z
UID:10008289-1776380400-1806548400@blabladubai.ae
SUMMARY:Safe House | Thursdays
DESCRIPTION:Step into Safe House\, the ultimate house music sanctuary at The Tent\, Bla Bla Dubai.\nEvery Thursday from 11pm ’til late\, with Live DJ to ignite your night with electrifying beats and the best of house music. \nBla Bla Dubai:\n +971 4 584 4111 (Call)\n +971 58 606 3535 (WhatsApp)\n reserve@blabladubai.ae\nThe Beach\, JBR\n Strictly 21 and over\nNestled in the vibrant heart of JBR\, The Tent is Bla Bla Dubai’s iconic nightclub\, renowned for its energy\, state-of-the-art sound\, and captivating atmosphere. With pulsating rhythms and a crowd ready to move\,Tent is your go-to destination to kickstart the weekend
URL:https://blabladubai.ae/event/safe-house-thursdays/2026-04-16/
LOCATION:Bla Bla Dubai\, Dubai\, United Arab Emirates
CATEGORIES:Night Club
ATTACH;FMTTYPE=image/png:https://blabladubai.ae/wp-content/uploads/2024/12/LIVE-DJ-SAFE-HOUSE-1080-x-1080-px.png
END:VEVENT
BEGIN:VEVENT
DTSTART;TZID=UTC:20260417T090000
DTEND;TZID=UTC:20260417T140000
DTSTAMP:20260426T042052
CREATED:20260326T125835Z
LAST-MODIFIED:20260422T182627Z
UID:10026633-1776416400-1776434400@blabladubai.ae
SUMMARY:Breakfast | A Casa Restaurant
DESCRIPTION:Start your day the right way at A Casa. \nOur extended breakfast menu is now available\, giving you more time to ease into the day with your favourites. \nDaily | 9am to 2pm \nA Casa Restaurant \n*T&Cs apply
URL:https://blabladubai.ae/event/breakfast-a-casa-restaurant/2026-04-17/
CATEGORIES:Restaurant
ATTACH;FMTTYPE=image/png:https://blabladubai.ae/wp-content/uploads/2026/03/18.png
END:VEVENT
BEGIN:VEVENT
DTSTART;TZID=Asia/Dubai:20260417T100000
DTEND;TZID=Asia/Dubai:20260417T170000
DTSTAMP:20260426T042052
CREATED:20260326T124534Z
LAST-MODIFIED:20260422T103500Z
UID:10024805-1776420000-1776445200@blabladubai.ae
SUMMARY:Summer Escape | Beach Club
DESCRIPTION:Summer Escape is here. Enjoy free entry at the Beach Bar\, then take it further with full Beach Club pool access\, available with a minimum spend of AED 150. \nAvailable daily from 10 AM.\nTerms & conditions apply.
URL:https://blabladubai.ae/event/summer-escape-beach-club/2026-04-17/
CATEGORIES:Bars,Beach Club
ATTACH;FMTTYPE=image/png:https://blabladubai.ae/wp-content/uploads/2026/03/spring.png
END:VEVENT
BEGIN:VEVENT
DTSTART;TZID=UTC:20260417T100000
DTEND;TZID=UTC:20260426T160000
DTSTAMP:20260426T042052
CREATED:20260424T164544Z
LAST-MODIFIED:20260424T164544Z
UID:10035220-1776420000-1777219200@blabladubai.ae
SUMMARY:Pour Decisions | Beach Bar
DESCRIPTION:Some decisions are better made poolside. \nHead to the Beach Bar and enjoy Pour Decisions\, a daily offer featuring 4 selected cocktails for AED 100\, perfect for long\, sun-soaked afternoons. \nRunning from 10:00 AM to 4:00 PM\, it’s your go-to for easy drinks\, good company\, and laid-back beach club vibes. \nBeach BarDaily | 10am to 4pm \nT&Cs apply
URL:https://blabladubai.ae/event/pour-decisions-beach-bar/2026-04-17/
LOCATION:Bla Bla Dubai\, Dubai\, United Arab Emirates
CATEGORIES:Bars,Beach Club
END:VEVENT
BEGIN:VEVENT
DTSTART;TZID=Asia/Dubai:20260417T130000
DTEND;TZID=Asia/Dubai:20260417T170000
DTSTAMP:20260426T042052
CREATED:20240920T142317Z
LAST-MODIFIED:20260409T185444Z
UID:10024523-1776430800-1776445200@blabladubai.ae
SUMMARY:Duckin' Fridays | Beach Club
DESCRIPTION:Duckin’ Fridays\, get your ducks in a row. \nStart your weekend the right way with sun\, drinks\, and poolside energy at the beach club. \nAED 199 per personEnjoy unlimited drinks\, plus pool access\, fresh towels\, and a sunbed. \nBeach Club | Strictly 21+Fridays | 1pm to 5pm \nT&Cs apply
URL:https://blabladubai.ae/event/ducking-fridays-2/2026-04-17/
LOCATION:Bla Bla Dubai\, Dubai\, United Arab Emirates
CATEGORIES:Beach Club
ATTACH;FMTTYPE=image/png:https://blabladubai.ae/wp-content/uploads/2024/09/ducking-friday.png
END:VEVENT
BEGIN:VEVENT
DTSTART;TZID=UTC:20260418T090000
DTEND;TZID=UTC:20260418T140000
DTSTAMP:20260426T042052
CREATED:20260326T125835Z
LAST-MODIFIED:20260422T182627Z
UID:10026634-1776502800-1776520800@blabladubai.ae
SUMMARY:Breakfast | A Casa Restaurant
DESCRIPTION:Start your day the right way at A Casa. \nOur extended breakfast menu is now available\, giving you more time to ease into the day with your favourites. \nDaily | 9am to 2pm \nA Casa Restaurant \n*T&Cs apply
URL:https://blabladubai.ae/event/breakfast-a-casa-restaurant/2026-04-18/
CATEGORIES:Restaurant
ATTACH;FMTTYPE=image/png:https://blabladubai.ae/wp-content/uploads/2026/03/18.png
END:VEVENT
BEGIN:VEVENT
DTSTART;TZID=Asia/Dubai:20260418T100000
DTEND;TZID=Asia/Dubai:20260418T170000
DTSTAMP:20260426T042052
CREATED:20260326T124534Z
LAST-MODIFIED:20260422T103500Z
UID:10024806-1776506400-1776531600@blabladubai.ae
SUMMARY:Summer Escape | Beach Club
DESCRIPTION:Summer Escape is here. Enjoy free entry at the Beach Bar\, then take it further with full Beach Club pool access\, available with a minimum spend of AED 150. \nAvailable daily from 10 AM.\nTerms & conditions apply.
URL:https://blabladubai.ae/event/summer-escape-beach-club/2026-04-18/
CATEGORIES:Bars,Beach Club
ATTACH;FMTTYPE=image/png:https://blabladubai.ae/wp-content/uploads/2026/03/spring.png
END:VEVENT
BEGIN:VEVENT
DTSTART;TZID=UTC:20260418T100000
DTEND;TZID=UTC:20260427T160000
DTSTAMP:20260426T042052
CREATED:20260424T164544Z
LAST-MODIFIED:20260424T164544Z
UID:10035221-1776506400-1777305600@blabladubai.ae
SUMMARY:Pour Decisions | Beach Bar
DESCRIPTION:Some decisions are better made poolside. \nHead to the Beach Bar and enjoy Pour Decisions\, a daily offer featuring 4 selected cocktails for AED 100\, perfect for long\, sun-soaked afternoons. \nRunning from 10:00 AM to 4:00 PM\, it’s your go-to for easy drinks\, good company\, and laid-back beach club vibes. \nBeach BarDaily | 10am to 4pm \nT&Cs apply
URL:https://blabladubai.ae/event/pour-decisions-beach-bar/2026-04-18/
LOCATION:Bla Bla Dubai\, Dubai\, United Arab Emirates
CATEGORIES:Bars,Beach Club
END:VEVENT
BEGIN:VEVENT
DTSTART;TZID=UTC:20260418T170000
DTEND;TZID=UTC:20270227T200000
DTSTAMP:20260426T042052
CREATED:20250910T100251Z
LAST-MODIFIED:20260410T105552Z
UID:10021966-1776531600-1803758400@blabladubai.ae
SUMMARY:Club Tropicana
DESCRIPTION:The ULTIMATE 80s/90s after-brunch party with a huge lineup of entertainment!  \nAED 245 for unlimited house pours from 5pm to 8pm and party till 10pm. \n\nBla Bla Dubai:\n +971 58 606 3535 (Call/WhatsApp)\n reserve@blabladubai.ae\nThe Beach\, opposite JBR\n Strictly over 21 years of age\n 
URL:https://blabladubai.ae/event/club-tropicana/2026-04-18/
LOCATION:Bla Bla Dubai\, Dubai\, United Arab Emirates
CATEGORIES:Night Club
ATTACH;FMTTYPE=image/jpeg:https://blabladubai.ae/wp-content/uploads/2025/09/DUBAI-SQUARE-V4.jpg
END:VEVENT
BEGIN:VEVENT
DTSTART;TZID=UTC:20260419T090000
DTEND;TZID=UTC:20260419T140000
DTSTAMP:20260426T042052
CREATED:20260326T125835Z
LAST-MODIFIED:20260422T182627Z
UID:10026635-1776589200-1776607200@blabladubai.ae
SUMMARY:Breakfast | A Casa Restaurant
DESCRIPTION:Start your day the right way at A Casa. \nOur extended breakfast menu is now available\, giving you more time to ease into the day with your favourites. \nDaily | 9am to 2pm \nA Casa Restaurant \n*T&Cs apply
URL:https://blabladubai.ae/event/breakfast-a-casa-restaurant/2026-04-19/
CATEGORIES:Restaurant
ATTACH;FMTTYPE=image/png:https://blabladubai.ae/wp-content/uploads/2026/03/18.png
END:VEVENT
BEGIN:VEVENT
DTSTART;TZID=Asia/Dubai:20260419T100000
DTEND;TZID=Asia/Dubai:20260419T170000
DTSTAMP:20260426T042052
CREATED:20260326T124534Z
LAST-MODIFIED:20260422T103500Z
UID:10024807-1776592800-1776618000@blabladubai.ae
SUMMARY:Summer Escape | Beach Club
DESCRIPTION:Summer Escape is here. Enjoy free entry at the Beach Bar\, then take it further with full Beach Club pool access\, available with a minimum spend of AED 150. \nAvailable daily from 10 AM.\nTerms & conditions apply.
URL:https://blabladubai.ae/event/summer-escape-beach-club/2026-04-19/
CATEGORIES:Bars,Beach Club
ATTACH;FMTTYPE=image/png:https://blabladubai.ae/wp-content/uploads/2026/03/spring.png
END:VEVENT
BEGIN:VEVENT
DTSTART;TZID=UTC:20260419T100000
DTEND;TZID=UTC:20260428T160000
DTSTAMP:20260426T042052
CREATED:20260424T164544Z
LAST-MODIFIED:20260424T164544Z
UID:10035222-1776592800-1777392000@blabladubai.ae
SUMMARY:Pour Decisions | Beach Bar
DESCRIPTION:Some decisions are better made poolside. \nHead to the Beach Bar and enjoy Pour Decisions\, a daily offer featuring 4 selected cocktails for AED 100\, perfect for long\, sun-soaked afternoons. \nRunning from 10:00 AM to 4:00 PM\, it’s your go-to for easy drinks\, good company\, and laid-back beach club vibes. \nBeach BarDaily | 10am to 4pm \nT&Cs apply
URL:https://blabladubai.ae/event/pour-decisions-beach-bar/2026-04-19/
LOCATION:Bla Bla Dubai\, Dubai\, United Arab Emirates
CATEGORIES:Bars,Beach Club
END:VEVENT
BEGIN:VEVENT
DTSTART;TZID=Asia/Dubai:20260419T120000
DTEND;TZID=Asia/Dubai:20260419T180000
DTSTAMP:20260426T042052
CREATED:20260404T143034Z
LAST-MODIFIED:20260405T164636Z
UID:10030842-1776600000-1776621600@blabladubai.ae
SUMMARY:Roast by the Coast | A Casa Restaurant
DESCRIPTION:Choose from a selection of classic roasts\,\neach served with all the right sides. \nADD-ON AED199 DRINKS PACKAGE\n2-hour unlimited house drinks from selected menu. \nA Casa Restaurant\nSundays | 12pm to 6pm\nT&Cs Apply
URL:https://blabladubai.ae/event/sunday-roast-a-casa-restaurant-2-2/2026-04-19/
LOCATION:Bla Bla Dubai\, Dubai\, United Arab Emirates
CATEGORIES:Restaurant
ATTACH;FMTTYPE=image/png:https://blabladubai.ae/wp-content/uploads/2024/09/sunday-roast.png
END:VEVENT
BEGIN:VEVENT
DTSTART;TZID=UTC:20260419T130000
DTEND;TZID=UTC:20260419T170000
DTSTAMP:20260426T042052
CREATED:20260128T103225Z
LAST-MODIFIED:20260422T064200Z
UID:10017449-1776603600-1776618000@blabladubai.ae
SUMMARY:Sunday Pool Brunch | Beach Club
DESCRIPTION:Spend your Sunday at our Pool Brunch\, where good music\, great food\, and free-flowing drinks come together. \nFor AED249 per person\, enjoy unlimited house drinks\, four bites\, and full access to the pool\, sunbeds\, and fresh towels\, all with live DJ entertainment setting the tone. \nStrictly 21+Sundays | 1pm to 5pmT&Cs apply
URL:https://blabladubai.ae/event/sunday-brunch-beach-club/2026-04-19/
LOCATION:Bla Bla Dubai\, Dubai\, United Arab Emirates
CATEGORIES:Beach Club
ATTACH;FMTTYPE=image/png:https://blabladubai.ae/wp-content/uploads/2026/01/sudany-brunch.png
END:VEVENT
BEGIN:VEVENT
DTSTART;TZID=UTC:20260420T090000
DTEND;TZID=UTC:20260420T140000
DTSTAMP:20260426T042052
CREATED:20260326T125835Z
LAST-MODIFIED:20260422T182627Z
UID:10026636-1776675600-1776693600@blabladubai.ae
SUMMARY:Breakfast | A Casa Restaurant
DESCRIPTION:Start your day the right way at A Casa. \nOur extended breakfast menu is now available\, giving you more time to ease into the day with your favourites. \nDaily | 9am to 2pm \nA Casa Restaurant \n*T&Cs apply
URL:https://blabladubai.ae/event/breakfast-a-casa-restaurant/2026-04-20/
CATEGORIES:Restaurant
ATTACH;FMTTYPE=image/png:https://blabladubai.ae/wp-content/uploads/2026/03/18.png
END:VEVENT
BEGIN:VEVENT
DTSTART;TZID=Asia/Dubai:20260420T100000
DTEND;TZID=Asia/Dubai:20260420T170000
DTSTAMP:20260426T042052
CREATED:20260326T124534Z
LAST-MODIFIED:20260422T103500Z
UID:10024808-1776679200-1776704400@blabladubai.ae
SUMMARY:Summer Escape | Beach Club
DESCRIPTION:Summer Escape is here. Enjoy free entry at the Beach Bar\, then take it further with full Beach Club pool access\, available with a minimum spend of AED 150. \nAvailable daily from 10 AM.\nTerms & conditions apply.
URL:https://blabladubai.ae/event/summer-escape-beach-club/2026-04-20/
CATEGORIES:Bars,Beach Club
ATTACH;FMTTYPE=image/png:https://blabladubai.ae/wp-content/uploads/2026/03/spring.png
END:VEVENT
BEGIN:VEVENT
DTSTART;TZID=UTC:20260420T100000
DTEND;TZID=UTC:20260429T160000
DTSTAMP:20260426T042052
CREATED:20260424T164544Z
LAST-MODIFIED:20260424T164544Z
UID:10035223-1776679200-1777478400@blabladubai.ae
SUMMARY:Pour Decisions | Beach Bar
DESCRIPTION:Some decisions are better made poolside. \nHead to the Beach Bar and enjoy Pour Decisions\, a daily offer featuring 4 selected cocktails for AED 100\, perfect for long\, sun-soaked afternoons. \nRunning from 10:00 AM to 4:00 PM\, it’s your go-to for easy drinks\, good company\, and laid-back beach club vibes. \nBeach BarDaily | 10am to 4pm \nT&Cs apply
URL:https://blabladubai.ae/event/pour-decisions-beach-bar/2026-04-20/
LOCATION:Bla Bla Dubai\, Dubai\, United Arab Emirates
CATEGORIES:Bars,Beach Club
END:VEVENT
BEGIN:VEVENT
DTSTART;TZID=Asia/Dubai:20260420T180000
DTEND;TZID=Asia/Dubai:20260420T210000
DTSTAMP:20260426T042052
CREATED:20260420T142602Z
LAST-MODIFIED:20260420T142602Z
UID:10031752-1776708000-1776718800@blabladubai.ae
SUMMARY:Table for Two | A Casa Restaurant
DESCRIPTION:Enjoy a curated 3-course menu designed for two\, paired with a bottle of wine\, all for AED249.\nThe perfect excuse to slow down\, settle in\, and make an evening of it. \nDaily | 6pm to 9pm\nT&C Apply
URL:https://blabladubai.ae/event/table-for-two-a-casa-restaurant/2026-04-20/
LOCATION:Bla Bla Dubai\, Dubai\, United Arab Emirates
CATEGORIES:Restaurant
ATTACH;FMTTYPE=image/png:https://blabladubai.ae/wp-content/uploads/2026/04/1.png
END:VEVENT
BEGIN:VEVENT
DTSTART;TZID=UTC:20260421T090000
DTEND;TZID=UTC:20260421T140000
DTSTAMP:20260426T042052
CREATED:20260326T125835Z
LAST-MODIFIED:20260422T182627Z
UID:10026637-1776762000-1776780000@blabladubai.ae
SUMMARY:Breakfast | A Casa Restaurant
DESCRIPTION:Start your day the right way at A Casa. \nOur extended breakfast menu is now available\, giving you more time to ease into the day with your favourites. \nDaily | 9am to 2pm \nA Casa Restaurant \n*T&Cs apply
URL:https://blabladubai.ae/event/breakfast-a-casa-restaurant/2026-04-21/
CATEGORIES:Restaurant
ATTACH;FMTTYPE=image/png:https://blabladubai.ae/wp-content/uploads/2026/03/18.png
END:VEVENT
BEGIN:VEVENT
DTSTART;TZID=Asia/Dubai:20260421T100000
DTEND;TZID=Asia/Dubai:20260421T170000
DTSTAMP:20260426T042052
CREATED:20260326T124534Z
LAST-MODIFIED:20260422T103500Z
UID:10024809-1776765600-1776790800@blabladubai.ae
SUMMARY:Summer Escape | Beach Club
DESCRIPTION:Summer Escape is here. Enjoy free entry at the Beach Bar\, then take it further with full Beach Club pool access\, available with a minimum spend of AED 150. \nAvailable daily from 10 AM.\nTerms & conditions apply.
URL:https://blabladubai.ae/event/summer-escape-beach-club/2026-04-21/
CATEGORIES:Bars,Beach Club
ATTACH;FMTTYPE=image/png:https://blabladubai.ae/wp-content/uploads/2026/03/spring.png
END:VEVENT
BEGIN:VEVENT
DTSTART;TZID=UTC:20260421T100000
DTEND;TZID=UTC:20260430T160000
DTSTAMP:20260426T042052
CREATED:20260424T164544Z
LAST-MODIFIED:20260424T164544Z
UID:10035224-1776765600-1777564800@blabladubai.ae
SUMMARY:Pour Decisions | Beach Bar
DESCRIPTION:Some decisions are better made poolside. \nHead to the Beach Bar and enjoy Pour Decisions\, a daily offer featuring 4 selected cocktails for AED 100\, perfect for long\, sun-soaked afternoons. \nRunning from 10:00 AM to 4:00 PM\, it’s your go-to for easy drinks\, good company\, and laid-back beach club vibes. \nBeach BarDaily | 10am to 4pm \nT&Cs apply
URL:https://blabladubai.ae/event/pour-decisions-beach-bar/2026-04-21/
LOCATION:Bla Bla Dubai\, Dubai\, United Arab Emirates
CATEGORIES:Bars,Beach Club
END:VEVENT
END:VCALENDAR