BEGIN:VCALENDAR
VERSION:2.0
PRODID:-//Bla Bla by McGettigan&#039;s - ECPv6.15.13//NONSGML v1.0//EN
CALSCALE:GREGORIAN
METHOD:PUBLISH
X-WR-CALNAME:Bla Bla by McGettigan&#039;s
X-ORIGINAL-URL:https://blabladubai.ae
X-WR-CALDESC:Events for Bla Bla by McGettigan&#039;s
REFRESH-INTERVAL;VALUE=DURATION:PT1H
X-Robots-Tag:noindex
X-PUBLISHED-TTL:PT1H
BEGIN:VTIMEZONE
TZID:UTC
BEGIN:STANDARD
TZOFFSETFROM:+0000
TZOFFSETTO:+0000
TZNAME:UTC
DTSTART:20230101T000000
END:STANDARD
END:VTIMEZONE
BEGIN:VEVENT
DTSTART;TZID=UTC:20240909T160000
DTEND;TZID=UTC:20240909T220000
DTSTAMP:20260426T024116
CREATED:20240909T124638Z
LAST-MODIFIED:20240911T101755Z
UID:10001329-1725897600-1725919200@blabladubai.ae
SUMMARY:Happy Hour
DESCRIPTION:Start your evening the right way at Bla Bla’s Happy Hour.\nBuy One\, Get One Free on same house drinks \nWhen? Every day!\n4 pm – 8 pm  Beach Bar\, Restaurant Bar\, Rooftop Bars\n8 pm – 10 pm The Tent \nWhere? Bla Bla Dubai\n📍The Beach\, JBR\n☎️ +971 4 584 4111 (Call)\n📱 +971 58 606 3535 (WhatsApp)\n📧 reserve@blabladubai.ae\n🚫 Strictly 21 and over \nSEE MENU \n*Offer not valid on Public Holidays.
URL:https://blabladubai.ae/event/happy-hour-2/
LOCATION:Bla Bla Dubai\, Dubai\, United Arab Emirates
CATEGORIES:Bars
ATTACH;FMTTYPE=image/png:https://blabladubai.ae/wp-content/uploads/2024/08/PIZZA-250-x-360-px-Instagram-Post.png
END:VEVENT
BEGIN:VEVENT
DTSTART;TZID=UTC:20240908T160000
DTEND;TZID=UTC:20240908T220000
DTSTAMP:20260426T024116
CREATED:20240911T144533Z
LAST-MODIFIED:20240911T144533Z
UID:10001328-1725811200-1725832800@blabladubai.ae
SUMMARY:Happy Hour
DESCRIPTION:Start your evening the right way at Bla Bla’s Happy Hour.\nBuy One\, Get One Free on same house drinks \nWhen? Every day!\n4 pm – 8 pm  Beach Bar\, Restaurant Bar\, Rooftop Bars\n8 pm – 10 pm The Tent \nWhere? Bla Bla Dubai\n📍The Beach\, JBR\n☎️ +971 4 584 4111 (Call)\n📱 +971 58 606 3535 (WhatsApp)\n📧 reserve@blabladubai.ae\n🚫 Strictly 21 and over \nSEE MENU \n*Offer not valid on Public Holidays.
URL:https://blabladubai.ae/event/happy-hour-4/
LOCATION:Bla Bla Dubai\, Dubai\, United Arab Emirates
CATEGORIES:Bars
ATTACH;FMTTYPE=image/png:https://blabladubai.ae/wp-content/uploads/2024/08/PIZZA-250-x-360-px-Instagram-Post.png
END:VEVENT
BEGIN:VEVENT
DTSTART;TZID=UTC:20240907T160000
DTEND;TZID=UTC:20240907T220000
DTSTAMP:20260426T024116
CREATED:20240813T134858Z
LAST-MODIFIED:20240911T101900Z
UID:10001327-1725724800-1725746400@blabladubai.ae
SUMMARY:Happy Hour
DESCRIPTION:Start your evening the right way at Bla Bla’s Happy Hour.\nBuy One\, Get One Free on same house drinks \nWhen? Every day!\n4 pm – 8 pm  Beach Bar\, Restaurant Bar\, Rooftop Bars\n8 pm – 10 pm The Tent \nWhere? Bla Bla Dubai\n📍The Beach\, JBR\n☎️ +971 4 584 4111 (Call)\n📱 +971 58 606 3535 (WhatsApp)\n📧 reserve@blabladubai.ae\n🚫 Strictly 21 and over \nSEE MENU \n*Offer not valid on Public Holidays.
URL:https://blabladubai.ae/event/happy-hour/2024-09-07/
LOCATION:Bla Bla Dubai\, Dubai\, United Arab Emirates
CATEGORIES:Bars
ATTACH;FMTTYPE=image/png:https://blabladubai.ae/wp-content/uploads/2024/08/PIZZA-250-x-360-px-Instagram-Post.png
END:VEVENT
BEGIN:VEVENT
DTSTART;TZID=UTC:20240906T160000
DTEND;TZID=UTC:20240906T220000
DTSTAMP:20260426T024116
CREATED:20240813T134858Z
LAST-MODIFIED:20240911T101900Z
UID:10001326-1725638400-1725660000@blabladubai.ae
SUMMARY:Happy Hour
DESCRIPTION:Start your evening the right way at Bla Bla’s Happy Hour.\nBuy One\, Get One Free on same house drinks \nWhen? Every day!\n4 pm – 8 pm  Beach Bar\, Restaurant Bar\, Rooftop Bars\n8 pm – 10 pm The Tent \nWhere? Bla Bla Dubai\n📍The Beach\, JBR\n☎️ +971 4 584 4111 (Call)\n📱 +971 58 606 3535 (WhatsApp)\n📧 reserve@blabladubai.ae\n🚫 Strictly 21 and over \nSEE MENU \n*Offer not valid on Public Holidays.
URL:https://blabladubai.ae/event/happy-hour/2024-09-06/
LOCATION:Bla Bla Dubai\, Dubai\, United Arab Emirates
CATEGORIES:Bars
ATTACH;FMTTYPE=image/png:https://blabladubai.ae/wp-content/uploads/2024/08/PIZZA-250-x-360-px-Instagram-Post.png
END:VEVENT
BEGIN:VEVENT
DTSTART;TZID=UTC:20240905T160000
DTEND;TZID=UTC:20240905T220000
DTSTAMP:20260426T024116
CREATED:20240813T134858Z
LAST-MODIFIED:20240911T101900Z
UID:10001325-1725552000-1725573600@blabladubai.ae
SUMMARY:Happy Hour
DESCRIPTION:Start your evening the right way at Bla Bla’s Happy Hour.\nBuy One\, Get One Free on same house drinks \nWhen? Every day!\n4 pm – 8 pm  Beach Bar\, Restaurant Bar\, Rooftop Bars\n8 pm – 10 pm The Tent \nWhere? Bla Bla Dubai\n📍The Beach\, JBR\n☎️ +971 4 584 4111 (Call)\n📱 +971 58 606 3535 (WhatsApp)\n📧 reserve@blabladubai.ae\n🚫 Strictly 21 and over \nSEE MENU \n*Offer not valid on Public Holidays.
URL:https://blabladubai.ae/event/happy-hour/2024-09-05/
LOCATION:Bla Bla Dubai\, Dubai\, United Arab Emirates
CATEGORIES:Bars
ATTACH;FMTTYPE=image/png:https://blabladubai.ae/wp-content/uploads/2024/08/PIZZA-250-x-360-px-Instagram-Post.png
END:VEVENT
BEGIN:VEVENT
DTSTART;TZID=UTC:20240904T220000
DTEND;TZID=UTC:20240905T030000
DTSTAMP:20260426T024116
CREATED:20240813T135055Z
LAST-MODIFIED:20240911T101811Z
UID:10000012-1725487200-1725505200@blabladubai.ae
SUMMARY:Urban Pulse | Wednesdays
DESCRIPTION:Bla Bla Dubai presents Urban Pulse. Feel the heartbeat of Dubai 🎶\nJoin us on Wednesdays at Bla Bla Dubai with DJ Whiteboy and DJ Bad Man B on the decks\, playing the vibest urban tracks. \nDoors open at 10 PM \nURBAN PULSE\nWHERE: The Tent @ Bla Bla Dubai\nWHEN: Every Wednesday from 10 PM \n\nBla Bla Dubai:\n +971 4 584 4111 (Call)\n +971 58 606 3535 (WhatsApp)\n reserve@blabladubai.ae\nThe Beach\, JBR\n Strictly 21 and over\nAbout Bla Bla:\nThis unique concept in all-day entertainment opened its doors in January 2021. Bla Bla has revolutionized the social scene with 20 bars\, a stylish beach club and a restaurant\, open all day offering Italian\, Japanese and BBQ dishes. Enjoy daily entertainment from resident DJs and the house band\, About Last Night\, as well as a host of guest entertainers. With uninterrupted views on Ain Dubai we like to say “come for the view\, stay for the experience!”.\nBla Bla is located a short walk from the metro station on The Beach at JBR\, Bla Bla is in the perfect place for residents and visitors to experience a casual beach day\, a delicious meal or a party at night. \nCheck all the events & offers at Bla Bla HERE \nAbout The Tent:\nThis night-time venue occupies 15\,000 square feet of space with nine individual bars and a stage with nightly entertainment including a live band\, house and guest DJs and now an aerialist. Open from 8 pm every day.\nThe Tent Bars: Bubbles Bar\, Hydro Bar\, Kinetic Bar\, Stage Bar\, Mexican Bar\, Bronx Bar\, Shaka Bar\, Butterfly Bar\, Garrison Bar
URL:https://blabladubai.ae/event/urban-pulse/2024-09-04/
LOCATION:Bla Bla Dubai\, Dubai\, United Arab Emirates
CATEGORIES:Night Club
ATTACH;FMTTYPE=image/png:https://blabladubai.ae/wp-content/uploads/2024/08/Urban-Pulse_square.png
END:VEVENT
BEGIN:VEVENT
DTSTART;TZID=UTC:20240904T160000
DTEND;TZID=UTC:20240904T220000
DTSTAMP:20260426T024116
CREATED:20240813T134858Z
LAST-MODIFIED:20240911T101900Z
UID:10001324-1725465600-1725487200@blabladubai.ae
SUMMARY:Happy Hour
DESCRIPTION:Start your evening the right way at Bla Bla’s Happy Hour.\nBuy One\, Get One Free on same house drinks \nWhen? Every day!\n4 pm – 8 pm  Beach Bar\, Restaurant Bar\, Rooftop Bars\n8 pm – 10 pm The Tent \nWhere? Bla Bla Dubai\n📍The Beach\, JBR\n☎️ +971 4 584 4111 (Call)\n📱 +971 58 606 3535 (WhatsApp)\n📧 reserve@blabladubai.ae\n🚫 Strictly 21 and over \nSEE MENU \n*Offer not valid on Public Holidays.
URL:https://blabladubai.ae/event/happy-hour/2024-09-04/
LOCATION:Bla Bla Dubai\, Dubai\, United Arab Emirates
CATEGORIES:Bars
ATTACH;FMTTYPE=image/png:https://blabladubai.ae/wp-content/uploads/2024/08/PIZZA-250-x-360-px-Instagram-Post.png
END:VEVENT
BEGIN:VEVENT
DTSTART;TZID=UTC:20240903T180000
DTEND;TZID=UTC:20240903T220000
DTSTAMP:20260426T024116
CREATED:20240813T140145Z
LAST-MODIFIED:20240911T101820Z
UID:10000014-1725386400-1725400800@blabladubai.ae
SUMMARY:Ladies Night Dinner
DESCRIPTION:Ladies…join us for ladies’ night at the restaurant every Tuesday! \n\nAED 165 pp. for a 3-course set menu and 3 drinks\nor\nAED 195 pp. for the sparkling upgrade\n\nSEE MENU \nBla Bla Dubai:\n☎️ +971 4 584 4111 (Call)\n📱 +971 58 606 3535 (WhatsApp)\n📧 reserve@blabladubai.ae\n📍The Beach\, JBR\n🚫 Strictly 21 and over \nBOOK NOW
URL:https://blabladubai.ae/event/ladies-night-dinner/2024-09-03/
LOCATION:Bla Bla Dubai\, Dubai\, United Arab Emirates
CATEGORIES:Restaurant
ATTACH;FMTTYPE=image/jpeg:https://blabladubai.ae/wp-content/uploads/2024/08/2024_02_16_BB_LNR_SQ.jpg
END:VEVENT
BEGIN:VEVENT
DTSTART;TZID=UTC:20240903T160000
DTEND;TZID=UTC:20240903T220000
DTSTAMP:20260426T024116
CREATED:20240813T134858Z
LAST-MODIFIED:20240911T101900Z
UID:10001323-1725379200-1725400800@blabladubai.ae
SUMMARY:Happy Hour
DESCRIPTION:Start your evening the right way at Bla Bla’s Happy Hour.\nBuy One\, Get One Free on same house drinks \nWhen? Every day!\n4 pm – 8 pm  Beach Bar\, Restaurant Bar\, Rooftop Bars\n8 pm – 10 pm The Tent \nWhere? Bla Bla Dubai\n📍The Beach\, JBR\n☎️ +971 4 584 4111 (Call)\n📱 +971 58 606 3535 (WhatsApp)\n📧 reserve@blabladubai.ae\n🚫 Strictly 21 and over \nSEE MENU \n*Offer not valid on Public Holidays.
URL:https://blabladubai.ae/event/happy-hour/2024-09-03/
LOCATION:Bla Bla Dubai\, Dubai\, United Arab Emirates
CATEGORIES:Bars
ATTACH;FMTTYPE=image/png:https://blabladubai.ae/wp-content/uploads/2024/08/PIZZA-250-x-360-px-Instagram-Post.png
END:VEVENT
BEGIN:VEVENT
DTSTART;TZID=UTC:20240903T120000
DTEND;TZID=UTC:20240903T160000
DTSTAMP:20260426T024116
CREATED:20240911T144256Z
LAST-MODIFIED:20240911T144256Z
UID:10005518-1725364800-1725379200@blabladubai.ae
SUMMARY:Ladies Day by the Pool
DESCRIPTION:Bla Bla’s Ladies Day by the pool\, every Tuesday!\nEvery spot of sunshine is yours to enjoy \nFor the Ladies:\n👉 AED 150 for endless sips of SELECTED drinks – yes\, unlimited! of wine\, sangria and soft drinks\n👉Bites to complement your beverage bliss\n👉Fancy an upgrade? Just AED 299 for UNLIMITED Prosecco Rosé\, Sangria\, and Spirits to toast to the good life\n👉From 12pm to 4pm \nPlus:\n👉Sun loungers included\n👉Fresh fluffy  towels and convenient changing amenities at your service \nSEE MENU \nEnjoy live entertainment and music by DJ Guess Hu \nBla Bla Dubai:\n☎️ +971 4 584 4111 (Call)\n📱 +971 58 606 3535 (WhatsApp)\n📧 reserve@blabladubai.ae\n📍The Beach\, JBR\n🚫 Strictly 21 and over
URL:https://blabladubai.ae/event/ladies-day-5/
LOCATION:Bla Bla Dubai\, Dubai\, United Arab Emirates
CATEGORIES:Beach Club
ATTACH;FMTTYPE=image/png:https://blabladubai.ae/wp-content/uploads/2024/08/Ladies-Day-1080-x-1080-px.png
END:VEVENT
BEGIN:VEVENT
DTSTART;TZID=UTC:20240903T120000
DTEND;TZID=UTC:20240903T160000
DTSTAMP:20260426T024116
CREATED:20240911T091451Z
LAST-MODIFIED:20240911T144025Z
UID:10000007-1725364800-1725379200@blabladubai.ae
SUMMARY:Ladies Day by the Pool
DESCRIPTION:Bla Bla’s Ladies Day by the pool\, every Tuesday!\nEvery spot of sunshine is yours to enjoy \nFor the Ladies:\n👉 AED 150 for endless sips of SELECTED drinks – yes\, unlimited! of wine\, sangria and soft drinks\n👉Bites to complement your beverage bliss\n👉Fancy an upgrade? Just AED 299 for UNLIMITED Prosecco Rosé\, Sangria\, and Spirits to toast to the good life\n👉From 12pm to 4pm \nPlus:\n👉Sun loungers included\n👉Fresh fluffy  towels and convenient changing amenities at your service \nSEE MENU \nEnjoy live entertainment and music by DJ Guess Hu \nBla Bla Dubai:\n☎️ +971 4 584 4111 (Call)\n📱 +971 58 606 3535 (WhatsApp)\n📧 reserve@blabladubai.ae\n📍The Beach\, JBR\n🚫 Strictly 21 and over
URL:https://blabladubai.ae/event/ladies-day-4/
LOCATION:Bla Bla Dubai\, Dubai\, United Arab Emirates
CATEGORIES:Beach Club
ATTACH;FMTTYPE=image/png:https://blabladubai.ae/wp-content/uploads/2024/08/Ladies-Day-1080-x-1080-px.png
END:VEVENT
BEGIN:VEVENT
DTSTART;TZID=UTC:20240902T160000
DTEND;TZID=UTC:20240902T220000
DTSTAMP:20260426T024116
CREATED:20240813T134858Z
LAST-MODIFIED:20240911T101900Z
UID:10001322-1725292800-1725314400@blabladubai.ae
SUMMARY:Happy Hour
DESCRIPTION:Start your evening the right way at Bla Bla’s Happy Hour.\nBuy One\, Get One Free on same house drinks \nWhen? Every day!\n4 pm – 8 pm  Beach Bar\, Restaurant Bar\, Rooftop Bars\n8 pm – 10 pm The Tent \nWhere? Bla Bla Dubai\n📍The Beach\, JBR\n☎️ +971 4 584 4111 (Call)\n📱 +971 58 606 3535 (WhatsApp)\n📧 reserve@blabladubai.ae\n🚫 Strictly 21 and over \nSEE MENU \n*Offer not valid on Public Holidays.
URL:https://blabladubai.ae/event/happy-hour/2024-09-02/
LOCATION:Bla Bla Dubai\, Dubai\, United Arab Emirates
CATEGORIES:Bars
ATTACH;FMTTYPE=image/png:https://blabladubai.ae/wp-content/uploads/2024/08/PIZZA-250-x-360-px-Instagram-Post.png
END:VEVENT
BEGIN:VEVENT
DTSTART;TZID=UTC:20240901T160000
DTEND;TZID=UTC:20240901T220000
DTSTAMP:20260426T024116
CREATED:20240813T134858Z
LAST-MODIFIED:20240911T101900Z
UID:10001321-1725206400-1725228000@blabladubai.ae
SUMMARY:Happy Hour
DESCRIPTION:Start your evening the right way at Bla Bla’s Happy Hour.\nBuy One\, Get One Free on same house drinks \nWhen? Every day!\n4 pm – 8 pm  Beach Bar\, Restaurant Bar\, Rooftop Bars\n8 pm – 10 pm The Tent \nWhere? Bla Bla Dubai\n📍The Beach\, JBR\n☎️ +971 4 584 4111 (Call)\n📱 +971 58 606 3535 (WhatsApp)\n📧 reserve@blabladubai.ae\n🚫 Strictly 21 and over \nSEE MENU \n*Offer not valid on Public Holidays.
URL:https://blabladubai.ae/event/happy-hour/2024-09-01/
LOCATION:Bla Bla Dubai\, Dubai\, United Arab Emirates
CATEGORIES:Bars
ATTACH;FMTTYPE=image/png:https://blabladubai.ae/wp-content/uploads/2024/08/PIZZA-250-x-360-px-Instagram-Post.png
END:VEVENT
BEGIN:VEVENT
DTSTART;TZID=UTC:20240831T160000
DTEND;TZID=UTC:20240831T220000
DTSTAMP:20260426T024116
CREATED:20240813T134858Z
LAST-MODIFIED:20240911T101900Z
UID:10001320-1725120000-1725141600@blabladubai.ae
SUMMARY:Happy Hour
DESCRIPTION:Start your evening the right way at Bla Bla’s Happy Hour.\nBuy One\, Get One Free on same house drinks \nWhen? Every day!\n4 pm – 8 pm  Beach Bar\, Restaurant Bar\, Rooftop Bars\n8 pm – 10 pm The Tent \nWhere? Bla Bla Dubai\n📍The Beach\, JBR\n☎️ +971 4 584 4111 (Call)\n📱 +971 58 606 3535 (WhatsApp)\n📧 reserve@blabladubai.ae\n🚫 Strictly 21 and over \nSEE MENU \n*Offer not valid on Public Holidays.
URL:https://blabladubai.ae/event/happy-hour/2024-08-31/
LOCATION:Bla Bla Dubai\, Dubai\, United Arab Emirates
CATEGORIES:Bars
ATTACH;FMTTYPE=image/png:https://blabladubai.ae/wp-content/uploads/2024/08/PIZZA-250-x-360-px-Instagram-Post.png
END:VEVENT
BEGIN:VEVENT
DTSTART;TZID=UTC:20240830T160000
DTEND;TZID=UTC:20240830T220000
DTSTAMP:20260426T024116
CREATED:20240813T134858Z
LAST-MODIFIED:20240911T101900Z
UID:10000008-1725033600-1725055200@blabladubai.ae
SUMMARY:Happy Hour
DESCRIPTION:Start your evening the right way at Bla Bla’s Happy Hour.\nBuy One\, Get One Free on same house drinks \nWhen? Every day!\n4 pm – 8 pm  Beach Bar\, Restaurant Bar\, Rooftop Bars\n8 pm – 10 pm The Tent \nWhere? Bla Bla Dubai\n📍The Beach\, JBR\n☎️ +971 4 584 4111 (Call)\n📱 +971 58 606 3535 (WhatsApp)\n📧 reserve@blabladubai.ae\n🚫 Strictly 21 and over \nSEE MENU \n*Offer not valid on Public Holidays.
URL:https://blabladubai.ae/event/happy-hour/2024-08-30/
LOCATION:Bla Bla Dubai\, Dubai\, United Arab Emirates
CATEGORIES:Bars
ATTACH;FMTTYPE=image/png:https://blabladubai.ae/wp-content/uploads/2024/08/PIZZA-250-x-360-px-Instagram-Post.png
END:VEVENT
END:VCALENDAR