BEGIN:VCALENDAR
VERSION:2.0
PRODID:-//Bla Bla by McGettigan&#039;s - ECPv6.15.13//NONSGML v1.0//EN
CALSCALE:GREGORIAN
METHOD:PUBLISH
X-ORIGINAL-URL:https://blabladubai.ae
X-WR-CALDESC:Events for Bla Bla by McGettigan&#039;s
REFRESH-INTERVAL;VALUE=DURATION:PT1H
X-Robots-Tag:noindex
X-PUBLISHED-TTL:PT1H
BEGIN:VTIMEZONE
TZID:UTC
BEGIN:STANDARD
TZOFFSETFROM:+0000
TZOFFSETTO:+0000
TZNAME:UTC
DTSTART:20250101T000000
END:STANDARD
END:VTIMEZONE
BEGIN:VTIMEZONE
TZID:Asia/Dubai
BEGIN:STANDARD
TZOFFSETFROM:+0400
TZOFFSETTO:+0400
TZNAME:+04
DTSTART:20250101T000000
END:STANDARD
END:VTIMEZONE
BEGIN:VEVENT
DTSTART;TZID=UTC:20260321T170000
DTEND;TZID=UTC:20270130T200000
DTSTAMP:20260425T204223
CREATED:20250910T100251Z
LAST-MODIFIED:20260410T105552Z
UID:10021962-1774112400-1801339200@blabladubai.ae
SUMMARY:Club Tropicana
DESCRIPTION:The ULTIMATE 80s/90s after-brunch party with a huge lineup of entertainment!  \nAED 245 for unlimited house pours from 5pm to 8pm and party till 10pm. \n\nBla Bla Dubai:\n +971 58 606 3535 (Call/WhatsApp)\n reserve@blabladubai.ae\nThe Beach\, opposite JBR\n Strictly over 21 years of age\n 
URL:https://blabladubai.ae/event/club-tropicana/2026-03-21/
LOCATION:Bla Bla Dubai\, Dubai\, United Arab Emirates
CATEGORIES:Night Club
ATTACH;FMTTYPE=image/jpeg:https://blabladubai.ae/wp-content/uploads/2025/09/DUBAI-SQUARE-V4.jpg
END:VEVENT
BEGIN:VEVENT
DTSTART;TZID=UTC:20260323T100000
DTEND;TZID=UTC:20260401T160000
DTSTAMP:20260425T204223
CREATED:20260424T164544Z
LAST-MODIFIED:20260424T164544Z
UID:10035195-1774260000-1775059200@blabladubai.ae
SUMMARY:Pour Decisions | Beach Bar
DESCRIPTION:Some decisions are better made poolside. \nHead to the Beach Bar and enjoy Pour Decisions\, a daily offer featuring 4 selected cocktails for AED 100\, perfect for long\, sun-soaked afternoons. \nRunning from 10:00 AM to 4:00 PM\, it’s your go-to for easy drinks\, good company\, and laid-back beach club vibes. \nBeach BarDaily | 10am to 4pm \nT&Cs apply
URL:https://blabladubai.ae/event/pour-decisions-beach-bar/2026-03-23/
LOCATION:Bla Bla Dubai\, Dubai\, United Arab Emirates
CATEGORIES:Bars,Beach Club
END:VEVENT
BEGIN:VEVENT
DTSTART;TZID=UTC:20260324T100000
DTEND;TZID=UTC:20260402T160000
DTSTAMP:20260425T204223
CREATED:20260424T164544Z
LAST-MODIFIED:20260424T164544Z
UID:10035196-1774346400-1775145600@blabladubai.ae
SUMMARY:Pour Decisions | Beach Bar
DESCRIPTION:Some decisions are better made poolside. \nHead to the Beach Bar and enjoy Pour Decisions\, a daily offer featuring 4 selected cocktails for AED 100\, perfect for long\, sun-soaked afternoons. \nRunning from 10:00 AM to 4:00 PM\, it’s your go-to for easy drinks\, good company\, and laid-back beach club vibes. \nBeach BarDaily | 10am to 4pm \nT&Cs apply
URL:https://blabladubai.ae/event/pour-decisions-beach-bar/2026-03-24/
LOCATION:Bla Bla Dubai\, Dubai\, United Arab Emirates
CATEGORIES:Bars,Beach Club
END:VEVENT
BEGIN:VEVENT
DTSTART;TZID=UTC:20260325T100000
DTEND;TZID=UTC:20260403T160000
DTSTAMP:20260425T204223
CREATED:20260424T164544Z
LAST-MODIFIED:20260424T164544Z
UID:10035197-1774432800-1775232000@blabladubai.ae
SUMMARY:Pour Decisions | Beach Bar
DESCRIPTION:Some decisions are better made poolside. \nHead to the Beach Bar and enjoy Pour Decisions\, a daily offer featuring 4 selected cocktails for AED 100\, perfect for long\, sun-soaked afternoons. \nRunning from 10:00 AM to 4:00 PM\, it’s your go-to for easy drinks\, good company\, and laid-back beach club vibes. \nBeach BarDaily | 10am to 4pm \nT&Cs apply
URL:https://blabladubai.ae/event/pour-decisions-beach-bar/2026-03-25/
LOCATION:Bla Bla Dubai\, Dubai\, United Arab Emirates
CATEGORIES:Bars,Beach Club
END:VEVENT
BEGIN:VEVENT
DTSTART;TZID=UTC:20260326T100000
DTEND;TZID=UTC:20260404T160000
DTSTAMP:20260425T204223
CREATED:20260424T164544Z
LAST-MODIFIED:20260424T164544Z
UID:10035198-1774519200-1775318400@blabladubai.ae
SUMMARY:Pour Decisions | Beach Bar
DESCRIPTION:Some decisions are better made poolside. \nHead to the Beach Bar and enjoy Pour Decisions\, a daily offer featuring 4 selected cocktails for AED 100\, perfect for long\, sun-soaked afternoons. \nRunning from 10:00 AM to 4:00 PM\, it’s your go-to for easy drinks\, good company\, and laid-back beach club vibes. \nBeach BarDaily | 10am to 4pm \nT&Cs apply
URL:https://blabladubai.ae/event/pour-decisions-beach-bar/2026-03-26/
LOCATION:Bla Bla Dubai\, Dubai\, United Arab Emirates
CATEGORIES:Bars,Beach Club
END:VEVENT
BEGIN:VEVENT
DTSTART;TZID=UTC:20260327T100000
DTEND;TZID=UTC:20260405T160000
DTSTAMP:20260425T204223
CREATED:20260424T164544Z
LAST-MODIFIED:20260424T164544Z
UID:10035199-1774605600-1775404800@blabladubai.ae
SUMMARY:Pour Decisions | Beach Bar
DESCRIPTION:Some decisions are better made poolside. \nHead to the Beach Bar and enjoy Pour Decisions\, a daily offer featuring 4 selected cocktails for AED 100\, perfect for long\, sun-soaked afternoons. \nRunning from 10:00 AM to 4:00 PM\, it’s your go-to for easy drinks\, good company\, and laid-back beach club vibes. \nBeach BarDaily | 10am to 4pm \nT&Cs apply
URL:https://blabladubai.ae/event/pour-decisions-beach-bar/2026-03-27/
LOCATION:Bla Bla Dubai\, Dubai\, United Arab Emirates
CATEGORIES:Bars,Beach Club
END:VEVENT
BEGIN:VEVENT
DTSTART;TZID=UTC:20260328T100000
DTEND;TZID=UTC:20260406T160000
DTSTAMP:20260425T204223
CREATED:20260424T164544Z
LAST-MODIFIED:20260424T164544Z
UID:10035200-1774692000-1775491200@blabladubai.ae
SUMMARY:Pour Decisions | Beach Bar
DESCRIPTION:Some decisions are better made poolside. \nHead to the Beach Bar and enjoy Pour Decisions\, a daily offer featuring 4 selected cocktails for AED 100\, perfect for long\, sun-soaked afternoons. \nRunning from 10:00 AM to 4:00 PM\, it’s your go-to for easy drinks\, good company\, and laid-back beach club vibes. \nBeach BarDaily | 10am to 4pm \nT&Cs apply
URL:https://blabladubai.ae/event/pour-decisions-beach-bar/2026-03-28/
LOCATION:Bla Bla Dubai\, Dubai\, United Arab Emirates
CATEGORIES:Bars,Beach Club
END:VEVENT
BEGIN:VEVENT
DTSTART;TZID=UTC:20260328T170000
DTEND;TZID=UTC:20270206T200000
DTSTAMP:20260425T204223
CREATED:20250910T100251Z
LAST-MODIFIED:20260410T105552Z
UID:10021963-1774717200-1801944000@blabladubai.ae
SUMMARY:Club Tropicana
DESCRIPTION:The ULTIMATE 80s/90s after-brunch party with a huge lineup of entertainment!  \nAED 245 for unlimited house pours from 5pm to 8pm and party till 10pm. \n\nBla Bla Dubai:\n +971 58 606 3535 (Call/WhatsApp)\n reserve@blabladubai.ae\nThe Beach\, opposite JBR\n Strictly over 21 years of age\n 
URL:https://blabladubai.ae/event/club-tropicana/2026-03-28/
LOCATION:Bla Bla Dubai\, Dubai\, United Arab Emirates
CATEGORIES:Night Club
ATTACH;FMTTYPE=image/jpeg:https://blabladubai.ae/wp-content/uploads/2025/09/DUBAI-SQUARE-V4.jpg
END:VEVENT
BEGIN:VEVENT
DTSTART;TZID=UTC:20260329T100000
DTEND;TZID=UTC:20260407T160000
DTSTAMP:20260425T204223
CREATED:20260424T164544Z
LAST-MODIFIED:20260424T164544Z
UID:10035201-1774778400-1775577600@blabladubai.ae
SUMMARY:Pour Decisions | Beach Bar
DESCRIPTION:Some decisions are better made poolside. \nHead to the Beach Bar and enjoy Pour Decisions\, a daily offer featuring 4 selected cocktails for AED 100\, perfect for long\, sun-soaked afternoons. \nRunning from 10:00 AM to 4:00 PM\, it’s your go-to for easy drinks\, good company\, and laid-back beach club vibes. \nBeach BarDaily | 10am to 4pm \nT&Cs apply
URL:https://blabladubai.ae/event/pour-decisions-beach-bar/2026-03-29/
LOCATION:Bla Bla Dubai\, Dubai\, United Arab Emirates
CATEGORIES:Bars,Beach Club
END:VEVENT
BEGIN:VEVENT
DTSTART;TZID=UTC:20260330T100000
DTEND;TZID=UTC:20260408T160000
DTSTAMP:20260425T204223
CREATED:20260424T164544Z
LAST-MODIFIED:20260424T164544Z
UID:10035202-1774864800-1775664000@blabladubai.ae
SUMMARY:Pour Decisions | Beach Bar
DESCRIPTION:Some decisions are better made poolside. \nHead to the Beach Bar and enjoy Pour Decisions\, a daily offer featuring 4 selected cocktails for AED 100\, perfect for long\, sun-soaked afternoons. \nRunning from 10:00 AM to 4:00 PM\, it’s your go-to for easy drinks\, good company\, and laid-back beach club vibes. \nBeach BarDaily | 10am to 4pm \nT&Cs apply
URL:https://blabladubai.ae/event/pour-decisions-beach-bar/2026-03-30/
LOCATION:Bla Bla Dubai\, Dubai\, United Arab Emirates
CATEGORIES:Bars,Beach Club
END:VEVENT
BEGIN:VEVENT
DTSTART;TZID=UTC:20260331T100000
DTEND;TZID=UTC:20260409T160000
DTSTAMP:20260425T204223
CREATED:20260424T164544Z
LAST-MODIFIED:20260424T164544Z
UID:10035203-1774951200-1775750400@blabladubai.ae
SUMMARY:Pour Decisions | Beach Bar
DESCRIPTION:Some decisions are better made poolside. \nHead to the Beach Bar and enjoy Pour Decisions\, a daily offer featuring 4 selected cocktails for AED 100\, perfect for long\, sun-soaked afternoons. \nRunning from 10:00 AM to 4:00 PM\, it’s your go-to for easy drinks\, good company\, and laid-back beach club vibes. \nBeach BarDaily | 10am to 4pm \nT&Cs apply
URL:https://blabladubai.ae/event/pour-decisions-beach-bar/2026-03-31/
LOCATION:Bla Bla Dubai\, Dubai\, United Arab Emirates
CATEGORIES:Bars,Beach Club
END:VEVENT
BEGIN:VEVENT
DTSTART;TZID=UTC:20260401T090000
DTEND;TZID=UTC:20260401T140000
DTSTAMP:20260425T204223
CREATED:20260326T125835Z
LAST-MODIFIED:20260422T182627Z
UID:10026617-1775034000-1775052000@blabladubai.ae
SUMMARY:Breakfast | A Casa Restaurant
DESCRIPTION:Start your day the right way at A Casa. \nOur extended breakfast menu is now available\, giving you more time to ease into the day with your favourites. \nDaily | 9am to 2pm \nA Casa Restaurant \n*T&Cs apply
URL:https://blabladubai.ae/event/breakfast-a-casa-restaurant/2026-04-01/
CATEGORIES:Restaurant
ATTACH;FMTTYPE=image/png:https://blabladubai.ae/wp-content/uploads/2026/03/18.png
END:VEVENT
BEGIN:VEVENT
DTSTART;TZID=Asia/Dubai:20260401T100000
DTEND;TZID=Asia/Dubai:20260401T170000
DTSTAMP:20260425T204223
CREATED:20260326T124534Z
LAST-MODIFIED:20260422T103500Z
UID:10024789-1775037600-1775062800@blabladubai.ae
SUMMARY:Summer Escape | Beach Club
DESCRIPTION:Summer Escape is here. Enjoy free entry at the Beach Bar\, then take it further with full Beach Club pool access\, available with a minimum spend of AED 150. \nAvailable daily from 10 AM.\nTerms & conditions apply.
URL:https://blabladubai.ae/event/summer-escape-beach-club/2026-04-01/
CATEGORIES:Bars,Beach Club
ATTACH;FMTTYPE=image/png:https://blabladubai.ae/wp-content/uploads/2026/03/spring.png
END:VEVENT
BEGIN:VEVENT
DTSTART;TZID=UTC:20260401T100000
DTEND;TZID=UTC:20260410T160000
DTSTAMP:20260425T204223
CREATED:20260424T164544Z
LAST-MODIFIED:20260424T164544Z
UID:10035204-1775037600-1775836800@blabladubai.ae
SUMMARY:Pour Decisions | Beach Bar
DESCRIPTION:Some decisions are better made poolside. \nHead to the Beach Bar and enjoy Pour Decisions\, a daily offer featuring 4 selected cocktails for AED 100\, perfect for long\, sun-soaked afternoons. \nRunning from 10:00 AM to 4:00 PM\, it’s your go-to for easy drinks\, good company\, and laid-back beach club vibes. \nBeach BarDaily | 10am to 4pm \nT&Cs apply
URL:https://blabladubai.ae/event/pour-decisions-beach-bar/2026-04-01/
LOCATION:Bla Bla Dubai\, Dubai\, United Arab Emirates
CATEGORIES:Bars,Beach Club
END:VEVENT
BEGIN:VEVENT
DTSTART;TZID=UTC:20260402T090000
DTEND;TZID=UTC:20260402T140000
DTSTAMP:20260425T204223
CREATED:20260326T125835Z
LAST-MODIFIED:20260422T182627Z
UID:10026618-1775120400-1775138400@blabladubai.ae
SUMMARY:Breakfast | A Casa Restaurant
DESCRIPTION:Start your day the right way at A Casa. \nOur extended breakfast menu is now available\, giving you more time to ease into the day with your favourites. \nDaily | 9am to 2pm \nA Casa Restaurant \n*T&Cs apply
URL:https://blabladubai.ae/event/breakfast-a-casa-restaurant/2026-04-02/
CATEGORIES:Restaurant
ATTACH;FMTTYPE=image/png:https://blabladubai.ae/wp-content/uploads/2026/03/18.png
END:VEVENT
BEGIN:VEVENT
DTSTART;TZID=Asia/Dubai:20260402T100000
DTEND;TZID=Asia/Dubai:20260402T170000
DTSTAMP:20260425T204223
CREATED:20260326T124534Z
LAST-MODIFIED:20260422T103500Z
UID:10024790-1775124000-1775149200@blabladubai.ae
SUMMARY:Summer Escape | Beach Club
DESCRIPTION:Summer Escape is here. Enjoy free entry at the Beach Bar\, then take it further with full Beach Club pool access\, available with a minimum spend of AED 150. \nAvailable daily from 10 AM.\nTerms & conditions apply.
URL:https://blabladubai.ae/event/summer-escape-beach-club/2026-04-02/
CATEGORIES:Bars,Beach Club
ATTACH;FMTTYPE=image/png:https://blabladubai.ae/wp-content/uploads/2026/03/spring.png
END:VEVENT
BEGIN:VEVENT
DTSTART;TZID=UTC:20260402T100000
DTEND;TZID=UTC:20260411T160000
DTSTAMP:20260425T204223
CREATED:20260424T164544Z
LAST-MODIFIED:20260424T164544Z
UID:10035205-1775124000-1775923200@blabladubai.ae
SUMMARY:Pour Decisions | Beach Bar
DESCRIPTION:Some decisions are better made poolside. \nHead to the Beach Bar and enjoy Pour Decisions\, a daily offer featuring 4 selected cocktails for AED 100\, perfect for long\, sun-soaked afternoons. \nRunning from 10:00 AM to 4:00 PM\, it’s your go-to for easy drinks\, good company\, and laid-back beach club vibes. \nBeach BarDaily | 10am to 4pm \nT&Cs apply
URL:https://blabladubai.ae/event/pour-decisions-beach-bar/2026-04-02/
LOCATION:Bla Bla Dubai\, Dubai\, United Arab Emirates
CATEGORIES:Bars,Beach Club
END:VEVENT
BEGIN:VEVENT
DTSTART;TZID=UTC:20260403T090000
DTEND;TZID=UTC:20260403T140000
DTSTAMP:20260425T204223
CREATED:20260326T125835Z
LAST-MODIFIED:20260422T182627Z
UID:10026619-1775206800-1775224800@blabladubai.ae
SUMMARY:Breakfast | A Casa Restaurant
DESCRIPTION:Start your day the right way at A Casa. \nOur extended breakfast menu is now available\, giving you more time to ease into the day with your favourites. \nDaily | 9am to 2pm \nA Casa Restaurant \n*T&Cs apply
URL:https://blabladubai.ae/event/breakfast-a-casa-restaurant/2026-04-03/
CATEGORIES:Restaurant
ATTACH;FMTTYPE=image/png:https://blabladubai.ae/wp-content/uploads/2026/03/18.png
END:VEVENT
BEGIN:VEVENT
DTSTART;TZID=Asia/Dubai:20260403T100000
DTEND;TZID=Asia/Dubai:20260403T170000
DTSTAMP:20260425T204223
CREATED:20260326T124534Z
LAST-MODIFIED:20260422T103500Z
UID:10024791-1775210400-1775235600@blabladubai.ae
SUMMARY:Summer Escape | Beach Club
DESCRIPTION:Summer Escape is here. Enjoy free entry at the Beach Bar\, then take it further with full Beach Club pool access\, available with a minimum spend of AED 150. \nAvailable daily from 10 AM.\nTerms & conditions apply.
URL:https://blabladubai.ae/event/summer-escape-beach-club/2026-04-03/
CATEGORIES:Bars,Beach Club
ATTACH;FMTTYPE=image/png:https://blabladubai.ae/wp-content/uploads/2026/03/spring.png
END:VEVENT
BEGIN:VEVENT
DTSTART;TZID=UTC:20260403T100000
DTEND;TZID=UTC:20260412T160000
DTSTAMP:20260425T204223
CREATED:20260424T164544Z
LAST-MODIFIED:20260424T164544Z
UID:10035206-1775210400-1776009600@blabladubai.ae
SUMMARY:Pour Decisions | Beach Bar
DESCRIPTION:Some decisions are better made poolside. \nHead to the Beach Bar and enjoy Pour Decisions\, a daily offer featuring 4 selected cocktails for AED 100\, perfect for long\, sun-soaked afternoons. \nRunning from 10:00 AM to 4:00 PM\, it’s your go-to for easy drinks\, good company\, and laid-back beach club vibes. \nBeach BarDaily | 10am to 4pm \nT&Cs apply
URL:https://blabladubai.ae/event/pour-decisions-beach-bar/2026-04-03/
LOCATION:Bla Bla Dubai\, Dubai\, United Arab Emirates
CATEGORIES:Bars,Beach Club
END:VEVENT
BEGIN:VEVENT
DTSTART;TZID=Asia/Dubai:20260403T130000
DTEND;TZID=Asia/Dubai:20260403T170000
DTSTAMP:20260425T204223
CREATED:20240920T142317Z
LAST-MODIFIED:20260409T185444Z
UID:10024521-1775221200-1775235600@blabladubai.ae
SUMMARY:Duckin' Fridays | Beach Club
DESCRIPTION:Duckin’ Fridays\, get your ducks in a row. \nStart your weekend the right way with sun\, drinks\, and poolside energy at the beach club. \nAED 199 per personEnjoy unlimited drinks\, plus pool access\, fresh towels\, and a sunbed. \nBeach Club | Strictly 21+Fridays | 1pm to 5pm \nT&Cs apply
URL:https://blabladubai.ae/event/ducking-fridays-2/2026-04-03/
LOCATION:Bla Bla Dubai\, Dubai\, United Arab Emirates
CATEGORIES:Beach Club
ATTACH;FMTTYPE=image/png:https://blabladubai.ae/wp-content/uploads/2024/09/ducking-friday.png
END:VEVENT
BEGIN:VEVENT
DTSTART;TZID=UTC:20260404T090000
DTEND;TZID=UTC:20260404T140000
DTSTAMP:20260425T204223
CREATED:20260326T125835Z
LAST-MODIFIED:20260422T182627Z
UID:10026620-1775293200-1775311200@blabladubai.ae
SUMMARY:Breakfast | A Casa Restaurant
DESCRIPTION:Start your day the right way at A Casa. \nOur extended breakfast menu is now available\, giving you more time to ease into the day with your favourites. \nDaily | 9am to 2pm \nA Casa Restaurant \n*T&Cs apply
URL:https://blabladubai.ae/event/breakfast-a-casa-restaurant/2026-04-04/
CATEGORIES:Restaurant
ATTACH;FMTTYPE=image/png:https://blabladubai.ae/wp-content/uploads/2026/03/18.png
END:VEVENT
BEGIN:VEVENT
DTSTART;TZID=Asia/Dubai:20260404T100000
DTEND;TZID=Asia/Dubai:20260404T170000
DTSTAMP:20260425T204223
CREATED:20260326T124534Z
LAST-MODIFIED:20260422T103500Z
UID:10024792-1775296800-1775322000@blabladubai.ae
SUMMARY:Summer Escape | Beach Club
DESCRIPTION:Summer Escape is here. Enjoy free entry at the Beach Bar\, then take it further with full Beach Club pool access\, available with a minimum spend of AED 150. \nAvailable daily from 10 AM.\nTerms & conditions apply.
URL:https://blabladubai.ae/event/summer-escape-beach-club/2026-04-04/
CATEGORIES:Bars,Beach Club
ATTACH;FMTTYPE=image/png:https://blabladubai.ae/wp-content/uploads/2026/03/spring.png
END:VEVENT
BEGIN:VEVENT
DTSTART;TZID=UTC:20260404T100000
DTEND;TZID=UTC:20260413T160000
DTSTAMP:20260425T204223
CREATED:20260424T164544Z
LAST-MODIFIED:20260424T164544Z
UID:10035207-1775296800-1776096000@blabladubai.ae
SUMMARY:Pour Decisions | Beach Bar
DESCRIPTION:Some decisions are better made poolside. \nHead to the Beach Bar and enjoy Pour Decisions\, a daily offer featuring 4 selected cocktails for AED 100\, perfect for long\, sun-soaked afternoons. \nRunning from 10:00 AM to 4:00 PM\, it’s your go-to for easy drinks\, good company\, and laid-back beach club vibes. \nBeach BarDaily | 10am to 4pm \nT&Cs apply
URL:https://blabladubai.ae/event/pour-decisions-beach-bar/2026-04-04/
LOCATION:Bla Bla Dubai\, Dubai\, United Arab Emirates
CATEGORIES:Bars,Beach Club
END:VEVENT
BEGIN:VEVENT
DTSTART;TZID=UTC:20260404T110000
DTEND;TZID=UTC:20260404T170000
DTSTAMP:20260425T204223
CREATED:20260313T115702Z
LAST-MODIFIED:20260421T082148Z
UID:10031101-1775300400-1775322000@blabladubai.ae
SUMMARY:McGettigan’s Presents BRUNCHFEST @ Bla Bla
DESCRIPTION:Six hours of brunch. A full day of beachside partying. \n\n\nDate: Every Saturday \n\n\nLocation: The Pool & The Beach Bar – Bla Bla \n\n\nTime: 11:00am to 5:00pm \n\n\nWhat happens when your favourite Irish pub and Dubai’s best beach bar join forces for one unforgettable day? BrunchFest — a poolside party with DJs\, free-flowing drinks\, great food and beachside entertainment. \n\n\nPackage | AED 499 \n\n\n\nWelcome mimosas on arrival (11am to 1pm)\n\n\n\n\nPool & BBQ Brunch (1pm to 5pm) with house drinks\n\n\n\n\nLive BBQ station\n\n\n\n\nSunloungers first-come\, first-served\n\n\n\nEntertainment \n\n\n\nDJs performing poolside from 11am to 7pm\n\n\n\nAFTERPARTY  \n\n\nThe day doesn’t end there. Head to Club Tropicana from 5pm for Bla Bla’s iconic 80s & 90s after-brunch party in the Tent\, with DJs\, entertainment and feel-good retro vibes.\nDress code: Casual (no flip flops). \n*T&Cs Apply
URL:https://blabladubai.ae/event/mcgettigans-presents-brunchfest-bla-bla/2026-04-04/
LOCATION:Bla Bla Dubai\, Dubai\, United Arab Emirates
CATEGORIES:Beach Club
ATTACH;FMTTYPE=image/jpeg:https://blabladubai.ae/wp-content/uploads/2026/03/BlaBla-June-Brunch-Fest__Square-scaled.jpg
END:VEVENT
BEGIN:VEVENT
DTSTART;TZID=UTC:20260404T170000
DTEND;TZID=UTC:20270213T200000
DTSTAMP:20260425T204223
CREATED:20250910T100251Z
LAST-MODIFIED:20260410T105552Z
UID:10021964-1775322000-1802548800@blabladubai.ae
SUMMARY:Club Tropicana
DESCRIPTION:The ULTIMATE 80s/90s after-brunch party with a huge lineup of entertainment!  \nAED 245 for unlimited house pours from 5pm to 8pm and party till 10pm. \n\nBla Bla Dubai:\n +971 58 606 3535 (Call/WhatsApp)\n reserve@blabladubai.ae\nThe Beach\, opposite JBR\n Strictly over 21 years of age\n 
URL:https://blabladubai.ae/event/club-tropicana/2026-04-04/
LOCATION:Bla Bla Dubai\, Dubai\, United Arab Emirates
CATEGORIES:Night Club
ATTACH;FMTTYPE=image/jpeg:https://blabladubai.ae/wp-content/uploads/2025/09/DUBAI-SQUARE-V4.jpg
END:VEVENT
BEGIN:VEVENT
DTSTART;TZID=UTC:20260405T090000
DTEND;TZID=UTC:20260405T140000
DTSTAMP:20260425T204223
CREATED:20260326T125835Z
LAST-MODIFIED:20260422T182627Z
UID:10026621-1775379600-1775397600@blabladubai.ae
SUMMARY:Breakfast | A Casa Restaurant
DESCRIPTION:Start your day the right way at A Casa. \nOur extended breakfast menu is now available\, giving you more time to ease into the day with your favourites. \nDaily | 9am to 2pm \nA Casa Restaurant \n*T&Cs apply
URL:https://blabladubai.ae/event/breakfast-a-casa-restaurant/2026-04-05/
CATEGORIES:Restaurant
ATTACH;FMTTYPE=image/png:https://blabladubai.ae/wp-content/uploads/2026/03/18.png
END:VEVENT
BEGIN:VEVENT
DTSTART;TZID=Asia/Dubai:20260405T100000
DTEND;TZID=Asia/Dubai:20260405T170000
DTSTAMP:20260425T204223
CREATED:20260326T124534Z
LAST-MODIFIED:20260422T103500Z
UID:10024793-1775383200-1775408400@blabladubai.ae
SUMMARY:Summer Escape | Beach Club
DESCRIPTION:Summer Escape is here. Enjoy free entry at the Beach Bar\, then take it further with full Beach Club pool access\, available with a minimum spend of AED 150. \nAvailable daily from 10 AM.\nTerms & conditions apply.
URL:https://blabladubai.ae/event/summer-escape-beach-club/2026-04-05/
CATEGORIES:Bars,Beach Club
ATTACH;FMTTYPE=image/png:https://blabladubai.ae/wp-content/uploads/2026/03/spring.png
END:VEVENT
BEGIN:VEVENT
DTSTART;TZID=UTC:20260405T100000
DTEND;TZID=UTC:20260414T160000
DTSTAMP:20260425T204223
CREATED:20260424T164544Z
LAST-MODIFIED:20260424T164544Z
UID:10035208-1775383200-1776182400@blabladubai.ae
SUMMARY:Pour Decisions | Beach Bar
DESCRIPTION:Some decisions are better made poolside. \nHead to the Beach Bar and enjoy Pour Decisions\, a daily offer featuring 4 selected cocktails for AED 100\, perfect for long\, sun-soaked afternoons. \nRunning from 10:00 AM to 4:00 PM\, it’s your go-to for easy drinks\, good company\, and laid-back beach club vibes. \nBeach BarDaily | 10am to 4pm \nT&Cs apply
URL:https://blabladubai.ae/event/pour-decisions-beach-bar/2026-04-05/
LOCATION:Bla Bla Dubai\, Dubai\, United Arab Emirates
CATEGORIES:Bars,Beach Club
END:VEVENT
BEGIN:VEVENT
DTSTART;TZID=UTC:20260405T130000
DTEND;TZID=UTC:20260405T170000
DTSTAMP:20260425T204223
CREATED:20260128T103225Z
LAST-MODIFIED:20260422T064200Z
UID:10017447-1775394000-1775408400@blabladubai.ae
SUMMARY:Sunday Pool Brunch | Beach Club
DESCRIPTION:Spend your Sunday at our Pool Brunch\, where good music\, great food\, and free-flowing drinks come together. \nFor AED249 per person\, enjoy unlimited house drinks\, four bites\, and full access to the pool\, sunbeds\, and fresh towels\, all with live DJ entertainment setting the tone. \nStrictly 21+Sundays | 1pm to 5pmT&Cs apply
URL:https://blabladubai.ae/event/sunday-brunch-beach-club/2026-04-05/
LOCATION:Bla Bla Dubai\, Dubai\, United Arab Emirates
CATEGORIES:Beach Club
ATTACH;FMTTYPE=image/png:https://blabladubai.ae/wp-content/uploads/2026/01/sudany-brunch.png
END:VEVENT
END:VCALENDAR