BEGIN:VCALENDAR
VERSION:2.0
PRODID:-//Bla Bla by McGettigan&#039;s - ECPv6.15.13//NONSGML v1.0//EN
CALSCALE:GREGORIAN
METHOD:PUBLISH
X-ORIGINAL-URL:https://blabladubai.ae
X-WR-CALDESC:Events for Bla Bla by McGettigan&#039;s
REFRESH-INTERVAL;VALUE=DURATION:PT1H
X-Robots-Tag:noindex
X-PUBLISHED-TTL:PT1H
BEGIN:VTIMEZONE
TZID:Asia/Dubai
BEGIN:STANDARD
TZOFFSETFROM:+0400
TZOFFSETTO:+0400
TZNAME:+04
DTSTART:20260101T000000
END:STANDARD
END:VTIMEZONE
BEGIN:VTIMEZONE
TZID:UTC
BEGIN:STANDARD
TZOFFSETFROM:+0000
TZOFFSETTO:+0000
TZNAME:UTC
DTSTART:20260101T000000
END:STANDARD
END:VTIMEZONE
BEGIN:VEVENT
DTSTART;TZID=Asia/Dubai:20270624T180000
DTEND;TZID=Asia/Dubai:20270624T210000
DTSTAMP:20260426T015308
CREATED:20260420T142602Z
LAST-MODIFIED:20260420T142602Z
UID:10032182-1813860000-1813870800@blabladubai.ae
SUMMARY:Table for Two | A Casa Restaurant
DESCRIPTION:Enjoy a curated 3-course menu designed for two\, paired with a bottle of wine\, all for AED249.\nThe perfect excuse to slow down\, settle in\, and make an evening of it. \nDaily | 6pm to 9pm\nT&C Apply
URL:https://blabladubai.ae/event/table-for-two-a-casa-restaurant/2027-06-24/
LOCATION:Bla Bla Dubai\, Dubai\, United Arab Emirates
CATEGORIES:Restaurant
ATTACH;FMTTYPE=image/png:https://blabladubai.ae/wp-content/uploads/2026/04/1.png
END:VEVENT
BEGIN:VEVENT
DTSTART;TZID=UTC:20270625T090000
DTEND;TZID=UTC:20270625T140000
DTSTAMP:20260426T015308
CREATED:20260326T125835Z
LAST-MODIFIED:20260422T182627Z
UID:10027067-1813914000-1813932000@blabladubai.ae
SUMMARY:Breakfast | A Casa Restaurant
DESCRIPTION:Start your day the right way at A Casa. \nOur extended breakfast menu is now available\, giving you more time to ease into the day with your favourites. \nDaily | 9am to 2pm \nA Casa Restaurant \n*T&Cs apply
URL:https://blabladubai.ae/event/breakfast-a-casa-restaurant/2027-06-25/
CATEGORIES:Restaurant
ATTACH;FMTTYPE=image/png:https://blabladubai.ae/wp-content/uploads/2026/03/18.png
END:VEVENT
BEGIN:VEVENT
DTSTART;TZID=Asia/Dubai:20270625T180000
DTEND;TZID=Asia/Dubai:20270625T210000
DTSTAMP:20260426T015308
CREATED:20260420T142602Z
LAST-MODIFIED:20260420T142602Z
UID:10032183-1813946400-1813957200@blabladubai.ae
SUMMARY:Table for Two | A Casa Restaurant
DESCRIPTION:Enjoy a curated 3-course menu designed for two\, paired with a bottle of wine\, all for AED249.\nThe perfect excuse to slow down\, settle in\, and make an evening of it. \nDaily | 6pm to 9pm\nT&C Apply
URL:https://blabladubai.ae/event/table-for-two-a-casa-restaurant/2027-06-25/
LOCATION:Bla Bla Dubai\, Dubai\, United Arab Emirates
CATEGORIES:Restaurant
ATTACH;FMTTYPE=image/png:https://blabladubai.ae/wp-content/uploads/2026/04/1.png
END:VEVENT
BEGIN:VEVENT
DTSTART;TZID=UTC:20270626T090000
DTEND;TZID=UTC:20270626T140000
DTSTAMP:20260426T015308
CREATED:20260326T125835Z
LAST-MODIFIED:20260422T182627Z
UID:10027068-1814000400-1814018400@blabladubai.ae
SUMMARY:Breakfast | A Casa Restaurant
DESCRIPTION:Start your day the right way at A Casa. \nOur extended breakfast menu is now available\, giving you more time to ease into the day with your favourites. \nDaily | 9am to 2pm \nA Casa Restaurant \n*T&Cs apply
URL:https://blabladubai.ae/event/breakfast-a-casa-restaurant/2027-06-26/
CATEGORIES:Restaurant
ATTACH;FMTTYPE=image/png:https://blabladubai.ae/wp-content/uploads/2026/03/18.png
END:VEVENT
BEGIN:VEVENT
DTSTART;TZID=Asia/Dubai:20270626T180000
DTEND;TZID=Asia/Dubai:20270626T210000
DTSTAMP:20260426T015308
CREATED:20260420T142602Z
LAST-MODIFIED:20260420T142602Z
UID:10032184-1814032800-1814043600@blabladubai.ae
SUMMARY:Table for Two | A Casa Restaurant
DESCRIPTION:Enjoy a curated 3-course menu designed for two\, paired with a bottle of wine\, all for AED249.\nThe perfect excuse to slow down\, settle in\, and make an evening of it. \nDaily | 6pm to 9pm\nT&C Apply
URL:https://blabladubai.ae/event/table-for-two-a-casa-restaurant/2027-06-26/
LOCATION:Bla Bla Dubai\, Dubai\, United Arab Emirates
CATEGORIES:Restaurant
ATTACH;FMTTYPE=image/png:https://blabladubai.ae/wp-content/uploads/2026/04/1.png
END:VEVENT
BEGIN:VEVENT
DTSTART;TZID=UTC:20270627T090000
DTEND;TZID=UTC:20270627T140000
DTSTAMP:20260426T015308
CREATED:20260326T125835Z
LAST-MODIFIED:20260422T182627Z
UID:10027069-1814086800-1814104800@blabladubai.ae
SUMMARY:Breakfast | A Casa Restaurant
DESCRIPTION:Start your day the right way at A Casa. \nOur extended breakfast menu is now available\, giving you more time to ease into the day with your favourites. \nDaily | 9am to 2pm \nA Casa Restaurant \n*T&Cs apply
URL:https://blabladubai.ae/event/breakfast-a-casa-restaurant/2027-06-27/
CATEGORIES:Restaurant
ATTACH;FMTTYPE=image/png:https://blabladubai.ae/wp-content/uploads/2026/03/18.png
END:VEVENT
BEGIN:VEVENT
DTSTART;TZID=Asia/Dubai:20270627T120000
DTEND;TZID=Asia/Dubai:20270627T180000
DTSTAMP:20260426T015308
CREATED:20260404T143034Z
LAST-MODIFIED:20260405T164636Z
UID:10030904-1814097600-1814119200@blabladubai.ae
SUMMARY:Roast by the Coast | A Casa Restaurant
DESCRIPTION:Choose from a selection of classic roasts\,\neach served with all the right sides. \nADD-ON AED199 DRINKS PACKAGE\n2-hour unlimited house drinks from selected menu. \nA Casa Restaurant\nSundays | 12pm to 6pm\nT&Cs Apply
URL:https://blabladubai.ae/event/sunday-roast-a-casa-restaurant-2-2/2027-06-27/
LOCATION:Bla Bla Dubai\, Dubai\, United Arab Emirates
CATEGORIES:Restaurant
ATTACH;FMTTYPE=image/png:https://blabladubai.ae/wp-content/uploads/2024/09/sunday-roast.png
END:VEVENT
BEGIN:VEVENT
DTSTART;TZID=Asia/Dubai:20270627T180000
DTEND;TZID=Asia/Dubai:20270627T210000
DTSTAMP:20260426T015308
CREATED:20260420T142602Z
LAST-MODIFIED:20260420T142602Z
UID:10032185-1814119200-1814130000@blabladubai.ae
SUMMARY:Table for Two | A Casa Restaurant
DESCRIPTION:Enjoy a curated 3-course menu designed for two\, paired with a bottle of wine\, all for AED249.\nThe perfect excuse to slow down\, settle in\, and make an evening of it. \nDaily | 6pm to 9pm\nT&C Apply
URL:https://blabladubai.ae/event/table-for-two-a-casa-restaurant/2027-06-27/
LOCATION:Bla Bla Dubai\, Dubai\, United Arab Emirates
CATEGORIES:Restaurant
ATTACH;FMTTYPE=image/png:https://blabladubai.ae/wp-content/uploads/2026/04/1.png
END:VEVENT
BEGIN:VEVENT
DTSTART;TZID=UTC:20270628T090000
DTEND;TZID=UTC:20270628T140000
DTSTAMP:20260426T015308
CREATED:20260326T125835Z
LAST-MODIFIED:20260422T182627Z
UID:10027070-1814173200-1814191200@blabladubai.ae
SUMMARY:Breakfast | A Casa Restaurant
DESCRIPTION:Start your day the right way at A Casa. \nOur extended breakfast menu is now available\, giving you more time to ease into the day with your favourites. \nDaily | 9am to 2pm \nA Casa Restaurant \n*T&Cs apply
URL:https://blabladubai.ae/event/breakfast-a-casa-restaurant/2027-06-28/
CATEGORIES:Restaurant
ATTACH;FMTTYPE=image/png:https://blabladubai.ae/wp-content/uploads/2026/03/18.png
END:VEVENT
BEGIN:VEVENT
DTSTART;TZID=Asia/Dubai:20270628T180000
DTEND;TZID=Asia/Dubai:20270628T210000
DTSTAMP:20260426T015308
CREATED:20260420T142602Z
LAST-MODIFIED:20260420T142602Z
UID:10032186-1814205600-1814216400@blabladubai.ae
SUMMARY:Table for Two | A Casa Restaurant
DESCRIPTION:Enjoy a curated 3-course menu designed for two\, paired with a bottle of wine\, all for AED249.\nThe perfect excuse to slow down\, settle in\, and make an evening of it. \nDaily | 6pm to 9pm\nT&C Apply
URL:https://blabladubai.ae/event/table-for-two-a-casa-restaurant/2027-06-28/
LOCATION:Bla Bla Dubai\, Dubai\, United Arab Emirates
CATEGORIES:Restaurant
ATTACH;FMTTYPE=image/png:https://blabladubai.ae/wp-content/uploads/2026/04/1.png
END:VEVENT
BEGIN:VEVENT
DTSTART;TZID=UTC:20270629T090000
DTEND;TZID=UTC:20270629T140000
DTSTAMP:20260426T015308
CREATED:20260326T125835Z
LAST-MODIFIED:20260422T182627Z
UID:10027071-1814259600-1814277600@blabladubai.ae
SUMMARY:Breakfast | A Casa Restaurant
DESCRIPTION:Start your day the right way at A Casa. \nOur extended breakfast menu is now available\, giving you more time to ease into the day with your favourites. \nDaily | 9am to 2pm \nA Casa Restaurant \n*T&Cs apply
URL:https://blabladubai.ae/event/breakfast-a-casa-restaurant/2027-06-29/
CATEGORIES:Restaurant
ATTACH;FMTTYPE=image/png:https://blabladubai.ae/wp-content/uploads/2026/03/18.png
END:VEVENT
BEGIN:VEVENT
DTSTART;TZID=Asia/Dubai:20270629T180000
DTEND;TZID=Asia/Dubai:20270629T210000
DTSTAMP:20260426T015308
CREATED:20260420T142602Z
LAST-MODIFIED:20260420T142602Z
UID:10032187-1814292000-1814302800@blabladubai.ae
SUMMARY:Table for Two | A Casa Restaurant
DESCRIPTION:Enjoy a curated 3-course menu designed for two\, paired with a bottle of wine\, all for AED249.\nThe perfect excuse to slow down\, settle in\, and make an evening of it. \nDaily | 6pm to 9pm\nT&C Apply
URL:https://blabladubai.ae/event/table-for-two-a-casa-restaurant/2027-06-29/
LOCATION:Bla Bla Dubai\, Dubai\, United Arab Emirates
CATEGORIES:Restaurant
ATTACH;FMTTYPE=image/png:https://blabladubai.ae/wp-content/uploads/2026/04/1.png
END:VEVENT
BEGIN:VEVENT
DTSTART;TZID=UTC:20270630T090000
DTEND;TZID=UTC:20270630T140000
DTSTAMP:20260426T015308
CREATED:20260326T125835Z
LAST-MODIFIED:20260422T182627Z
UID:10027072-1814346000-1814364000@blabladubai.ae
SUMMARY:Breakfast | A Casa Restaurant
DESCRIPTION:Start your day the right way at A Casa. \nOur extended breakfast menu is now available\, giving you more time to ease into the day with your favourites. \nDaily | 9am to 2pm \nA Casa Restaurant \n*T&Cs apply
URL:https://blabladubai.ae/event/breakfast-a-casa-restaurant/2027-06-30/
CATEGORIES:Restaurant
ATTACH;FMTTYPE=image/png:https://blabladubai.ae/wp-content/uploads/2026/03/18.png
END:VEVENT
BEGIN:VEVENT
DTSTART;TZID=Asia/Dubai:20270630T180000
DTEND;TZID=Asia/Dubai:20270630T210000
DTSTAMP:20260426T015308
CREATED:20260420T142602Z
LAST-MODIFIED:20260420T142602Z
UID:10032188-1814378400-1814389200@blabladubai.ae
SUMMARY:Table for Two | A Casa Restaurant
DESCRIPTION:Enjoy a curated 3-course menu designed for two\, paired with a bottle of wine\, all for AED249.\nThe perfect excuse to slow down\, settle in\, and make an evening of it. \nDaily | 6pm to 9pm\nT&C Apply
URL:https://blabladubai.ae/event/table-for-two-a-casa-restaurant/2027-06-30/
LOCATION:Bla Bla Dubai\, Dubai\, United Arab Emirates
CATEGORIES:Restaurant
ATTACH;FMTTYPE=image/png:https://blabladubai.ae/wp-content/uploads/2026/04/1.png
END:VEVENT
BEGIN:VEVENT
DTSTART;TZID=UTC:20270701T090000
DTEND;TZID=UTC:20270701T140000
DTSTAMP:20260426T015308
CREATED:20260326T125835Z
LAST-MODIFIED:20260422T182627Z
UID:10027073-1814432400-1814450400@blabladubai.ae
SUMMARY:Breakfast | A Casa Restaurant
DESCRIPTION:Start your day the right way at A Casa. \nOur extended breakfast menu is now available\, giving you more time to ease into the day with your favourites. \nDaily | 9am to 2pm \nA Casa Restaurant \n*T&Cs apply
URL:https://blabladubai.ae/event/breakfast-a-casa-restaurant/2027-07-01/
CATEGORIES:Restaurant
ATTACH;FMTTYPE=image/png:https://blabladubai.ae/wp-content/uploads/2026/03/18.png
END:VEVENT
BEGIN:VEVENT
DTSTART;TZID=Asia/Dubai:20270701T180000
DTEND;TZID=Asia/Dubai:20270701T210000
DTSTAMP:20260426T015308
CREATED:20260420T142602Z
LAST-MODIFIED:20260420T142602Z
UID:10032189-1814464800-1814475600@blabladubai.ae
SUMMARY:Table for Two | A Casa Restaurant
DESCRIPTION:Enjoy a curated 3-course menu designed for two\, paired with a bottle of wine\, all for AED249.\nThe perfect excuse to slow down\, settle in\, and make an evening of it. \nDaily | 6pm to 9pm\nT&C Apply
URL:https://blabladubai.ae/event/table-for-two-a-casa-restaurant/2027-07-01/
LOCATION:Bla Bla Dubai\, Dubai\, United Arab Emirates
CATEGORIES:Restaurant
ATTACH;FMTTYPE=image/png:https://blabladubai.ae/wp-content/uploads/2026/04/1.png
END:VEVENT
BEGIN:VEVENT
DTSTART;TZID=UTC:20270702T090000
DTEND;TZID=UTC:20270702T140000
DTSTAMP:20260426T015308
CREATED:20260326T125835Z
LAST-MODIFIED:20260422T182627Z
UID:10027074-1814518800-1814536800@blabladubai.ae
SUMMARY:Breakfast | A Casa Restaurant
DESCRIPTION:Start your day the right way at A Casa. \nOur extended breakfast menu is now available\, giving you more time to ease into the day with your favourites. \nDaily | 9am to 2pm \nA Casa Restaurant \n*T&Cs apply
URL:https://blabladubai.ae/event/breakfast-a-casa-restaurant/2027-07-02/
CATEGORIES:Restaurant
ATTACH;FMTTYPE=image/png:https://blabladubai.ae/wp-content/uploads/2026/03/18.png
END:VEVENT
BEGIN:VEVENT
DTSTART;TZID=Asia/Dubai:20270702T180000
DTEND;TZID=Asia/Dubai:20270702T210000
DTSTAMP:20260426T015308
CREATED:20260420T142602Z
LAST-MODIFIED:20260420T142602Z
UID:10032190-1814551200-1814562000@blabladubai.ae
SUMMARY:Table for Two | A Casa Restaurant
DESCRIPTION:Enjoy a curated 3-course menu designed for two\, paired with a bottle of wine\, all for AED249.\nThe perfect excuse to slow down\, settle in\, and make an evening of it. \nDaily | 6pm to 9pm\nT&C Apply
URL:https://blabladubai.ae/event/table-for-two-a-casa-restaurant/2027-07-02/
LOCATION:Bla Bla Dubai\, Dubai\, United Arab Emirates
CATEGORIES:Restaurant
ATTACH;FMTTYPE=image/png:https://blabladubai.ae/wp-content/uploads/2026/04/1.png
END:VEVENT
BEGIN:VEVENT
DTSTART;TZID=UTC:20270703T090000
DTEND;TZID=UTC:20270703T140000
DTSTAMP:20260426T015308
CREATED:20260326T125835Z
LAST-MODIFIED:20260422T182627Z
UID:10027075-1814605200-1814623200@blabladubai.ae
SUMMARY:Breakfast | A Casa Restaurant
DESCRIPTION:Start your day the right way at A Casa. \nOur extended breakfast menu is now available\, giving you more time to ease into the day with your favourites. \nDaily | 9am to 2pm \nA Casa Restaurant \n*T&Cs apply
URL:https://blabladubai.ae/event/breakfast-a-casa-restaurant/2027-07-03/
CATEGORIES:Restaurant
ATTACH;FMTTYPE=image/png:https://blabladubai.ae/wp-content/uploads/2026/03/18.png
END:VEVENT
BEGIN:VEVENT
DTSTART;TZID=Asia/Dubai:20270703T180000
DTEND;TZID=Asia/Dubai:20270703T210000
DTSTAMP:20260426T015308
CREATED:20260420T142602Z
LAST-MODIFIED:20260420T142602Z
UID:10032191-1814637600-1814648400@blabladubai.ae
SUMMARY:Table for Two | A Casa Restaurant
DESCRIPTION:Enjoy a curated 3-course menu designed for two\, paired with a bottle of wine\, all for AED249.\nThe perfect excuse to slow down\, settle in\, and make an evening of it. \nDaily | 6pm to 9pm\nT&C Apply
URL:https://blabladubai.ae/event/table-for-two-a-casa-restaurant/2027-07-03/
LOCATION:Bla Bla Dubai\, Dubai\, United Arab Emirates
CATEGORIES:Restaurant
ATTACH;FMTTYPE=image/png:https://blabladubai.ae/wp-content/uploads/2026/04/1.png
END:VEVENT
BEGIN:VEVENT
DTSTART;TZID=UTC:20270704T090000
DTEND;TZID=UTC:20270704T140000
DTSTAMP:20260426T015308
CREATED:20260326T125835Z
LAST-MODIFIED:20260422T182627Z
UID:10027076-1814691600-1814709600@blabladubai.ae
SUMMARY:Breakfast | A Casa Restaurant
DESCRIPTION:Start your day the right way at A Casa. \nOur extended breakfast menu is now available\, giving you more time to ease into the day with your favourites. \nDaily | 9am to 2pm \nA Casa Restaurant \n*T&Cs apply
URL:https://blabladubai.ae/event/breakfast-a-casa-restaurant/2027-07-04/
CATEGORIES:Restaurant
ATTACH;FMTTYPE=image/png:https://blabladubai.ae/wp-content/uploads/2026/03/18.png
END:VEVENT
BEGIN:VEVENT
DTSTART;TZID=Asia/Dubai:20270704T120000
DTEND;TZID=Asia/Dubai:20270704T180000
DTSTAMP:20260426T015308
CREATED:20260404T143034Z
LAST-MODIFIED:20260405T164636Z
UID:10030905-1814702400-1814724000@blabladubai.ae
SUMMARY:Roast by the Coast | A Casa Restaurant
DESCRIPTION:Choose from a selection of classic roasts\,\neach served with all the right sides. \nADD-ON AED199 DRINKS PACKAGE\n2-hour unlimited house drinks from selected menu. \nA Casa Restaurant\nSundays | 12pm to 6pm\nT&Cs Apply
URL:https://blabladubai.ae/event/sunday-roast-a-casa-restaurant-2-2/2027-07-04/
LOCATION:Bla Bla Dubai\, Dubai\, United Arab Emirates
CATEGORIES:Restaurant
ATTACH;FMTTYPE=image/png:https://blabladubai.ae/wp-content/uploads/2024/09/sunday-roast.png
END:VEVENT
BEGIN:VEVENT
DTSTART;TZID=Asia/Dubai:20270704T180000
DTEND;TZID=Asia/Dubai:20270704T210000
DTSTAMP:20260426T015308
CREATED:20260420T142602Z
LAST-MODIFIED:20260420T142602Z
UID:10032192-1814724000-1814734800@blabladubai.ae
SUMMARY:Table for Two | A Casa Restaurant
DESCRIPTION:Enjoy a curated 3-course menu designed for two\, paired with a bottle of wine\, all for AED249.\nThe perfect excuse to slow down\, settle in\, and make an evening of it. \nDaily | 6pm to 9pm\nT&C Apply
URL:https://blabladubai.ae/event/table-for-two-a-casa-restaurant/2027-07-04/
LOCATION:Bla Bla Dubai\, Dubai\, United Arab Emirates
CATEGORIES:Restaurant
ATTACH;FMTTYPE=image/png:https://blabladubai.ae/wp-content/uploads/2026/04/1.png
END:VEVENT
BEGIN:VEVENT
DTSTART;TZID=UTC:20270705T090000
DTEND;TZID=UTC:20270705T140000
DTSTAMP:20260426T015308
CREATED:20260326T125835Z
LAST-MODIFIED:20260422T182627Z
UID:10027077-1814778000-1814796000@blabladubai.ae
SUMMARY:Breakfast | A Casa Restaurant
DESCRIPTION:Start your day the right way at A Casa. \nOur extended breakfast menu is now available\, giving you more time to ease into the day with your favourites. \nDaily | 9am to 2pm \nA Casa Restaurant \n*T&Cs apply
URL:https://blabladubai.ae/event/breakfast-a-casa-restaurant/2027-07-05/
CATEGORIES:Restaurant
ATTACH;FMTTYPE=image/png:https://blabladubai.ae/wp-content/uploads/2026/03/18.png
END:VEVENT
BEGIN:VEVENT
DTSTART;TZID=Asia/Dubai:20270705T180000
DTEND;TZID=Asia/Dubai:20270705T210000
DTSTAMP:20260426T015308
CREATED:20260420T142602Z
LAST-MODIFIED:20260420T142602Z
UID:10032193-1814810400-1814821200@blabladubai.ae
SUMMARY:Table for Two | A Casa Restaurant
DESCRIPTION:Enjoy a curated 3-course menu designed for two\, paired with a bottle of wine\, all for AED249.\nThe perfect excuse to slow down\, settle in\, and make an evening of it. \nDaily | 6pm to 9pm\nT&C Apply
URL:https://blabladubai.ae/event/table-for-two-a-casa-restaurant/2027-07-05/
LOCATION:Bla Bla Dubai\, Dubai\, United Arab Emirates
CATEGORIES:Restaurant
ATTACH;FMTTYPE=image/png:https://blabladubai.ae/wp-content/uploads/2026/04/1.png
END:VEVENT
BEGIN:VEVENT
DTSTART;TZID=UTC:20270706T090000
DTEND;TZID=UTC:20270706T140000
DTSTAMP:20260426T015308
CREATED:20260326T125835Z
LAST-MODIFIED:20260422T182627Z
UID:10027078-1814864400-1814882400@blabladubai.ae
SUMMARY:Breakfast | A Casa Restaurant
DESCRIPTION:Start your day the right way at A Casa. \nOur extended breakfast menu is now available\, giving you more time to ease into the day with your favourites. \nDaily | 9am to 2pm \nA Casa Restaurant \n*T&Cs apply
URL:https://blabladubai.ae/event/breakfast-a-casa-restaurant/2027-07-06/
CATEGORIES:Restaurant
ATTACH;FMTTYPE=image/png:https://blabladubai.ae/wp-content/uploads/2026/03/18.png
END:VEVENT
BEGIN:VEVENT
DTSTART;TZID=Asia/Dubai:20270706T180000
DTEND;TZID=Asia/Dubai:20270706T210000
DTSTAMP:20260426T015308
CREATED:20260420T142602Z
LAST-MODIFIED:20260420T142602Z
UID:10032194-1814896800-1814907600@blabladubai.ae
SUMMARY:Table for Two | A Casa Restaurant
DESCRIPTION:Enjoy a curated 3-course menu designed for two\, paired with a bottle of wine\, all for AED249.\nThe perfect excuse to slow down\, settle in\, and make an evening of it. \nDaily | 6pm to 9pm\nT&C Apply
URL:https://blabladubai.ae/event/table-for-two-a-casa-restaurant/2027-07-06/
LOCATION:Bla Bla Dubai\, Dubai\, United Arab Emirates
CATEGORIES:Restaurant
ATTACH;FMTTYPE=image/png:https://blabladubai.ae/wp-content/uploads/2026/04/1.png
END:VEVENT
BEGIN:VEVENT
DTSTART;TZID=UTC:20270707T090000
DTEND;TZID=UTC:20270707T140000
DTSTAMP:20260426T015308
CREATED:20260326T125835Z
LAST-MODIFIED:20260422T182627Z
UID:10027079-1814950800-1814968800@blabladubai.ae
SUMMARY:Breakfast | A Casa Restaurant
DESCRIPTION:Start your day the right way at A Casa. \nOur extended breakfast menu is now available\, giving you more time to ease into the day with your favourites. \nDaily | 9am to 2pm \nA Casa Restaurant \n*T&Cs apply
URL:https://blabladubai.ae/event/breakfast-a-casa-restaurant/2027-07-07/
CATEGORIES:Restaurant
ATTACH;FMTTYPE=image/png:https://blabladubai.ae/wp-content/uploads/2026/03/18.png
END:VEVENT
BEGIN:VEVENT
DTSTART;TZID=Asia/Dubai:20270707T180000
DTEND;TZID=Asia/Dubai:20270707T210000
DTSTAMP:20260426T015308
CREATED:20260420T142602Z
LAST-MODIFIED:20260420T142602Z
UID:10032195-1814983200-1814994000@blabladubai.ae
SUMMARY:Table for Two | A Casa Restaurant
DESCRIPTION:Enjoy a curated 3-course menu designed for two\, paired with a bottle of wine\, all for AED249.\nThe perfect excuse to slow down\, settle in\, and make an evening of it. \nDaily | 6pm to 9pm\nT&C Apply
URL:https://blabladubai.ae/event/table-for-two-a-casa-restaurant/2027-07-07/
LOCATION:Bla Bla Dubai\, Dubai\, United Arab Emirates
CATEGORIES:Restaurant
ATTACH;FMTTYPE=image/png:https://blabladubai.ae/wp-content/uploads/2026/04/1.png
END:VEVENT
BEGIN:VEVENT
DTSTART;TZID=UTC:20270708T090000
DTEND;TZID=UTC:20270708T140000
DTSTAMP:20260426T015308
CREATED:20260326T125835Z
LAST-MODIFIED:20260422T182627Z
UID:10027080-1815037200-1815055200@blabladubai.ae
SUMMARY:Breakfast | A Casa Restaurant
DESCRIPTION:Start your day the right way at A Casa. \nOur extended breakfast menu is now available\, giving you more time to ease into the day with your favourites. \nDaily | 9am to 2pm \nA Casa Restaurant \n*T&Cs apply
URL:https://blabladubai.ae/event/breakfast-a-casa-restaurant/2027-07-08/
CATEGORIES:Restaurant
ATTACH;FMTTYPE=image/png:https://blabladubai.ae/wp-content/uploads/2026/03/18.png
END:VEVENT
END:VCALENDAR