BEGIN:VCALENDAR
VERSION:2.0
PRODID:-//Bla Bla by McGettigan&#039;s - ECPv6.15.13//NONSGML v1.0//EN
CALSCALE:GREGORIAN
METHOD:PUBLISH
X-WR-CALNAME:Bla Bla by McGettigan&#039;s
X-ORIGINAL-URL:https://blabladubai.ae
X-WR-CALDESC:Events for Bla Bla by McGettigan&#039;s
REFRESH-INTERVAL;VALUE=DURATION:PT1H
X-Robots-Tag:noindex
X-PUBLISHED-TTL:PT1H
BEGIN:VTIMEZONE
TZID:UTC
BEGIN:STANDARD
TZOFFSETFROM:+0000
TZOFFSETTO:+0000
TZNAME:UTC
DTSTART:20260101T000000
END:STANDARD
END:VTIMEZONE
BEGIN:VTIMEZONE
TZID:Asia/Dubai
BEGIN:STANDARD
TZOFFSETFROM:+0400
TZOFFSETTO:+0400
TZNAME:+04
DTSTART:20260101T000000
END:STANDARD
END:VTIMEZONE
BEGIN:VEVENT
DTSTART;TZID=UTC:20270310T090000
DTEND;TZID=UTC:20270310T140000
DTSTAMP:20260422T065502
CREATED:20260326T125835Z
LAST-MODIFIED:20260408T162833Z
UID:10026960-1804669200-1804687200@blabladubai.ae
SUMMARY:Breakfast | A Casa Restaurant
DESCRIPTION:Start your day the right way at A Casa. \nOur extended breakfast menu is now available\, giving you more time to ease into the day with your favourites. \nDaily | 9am to 2pm \nA Casa Restaurant \n*T&Cs apply
URL:https://blabladubai.ae/event/breakfast-a-casa-restaurant/2027-03-10/
CATEGORIES:Restaurant
ATTACH;FMTTYPE=image/png:https://blabladubai.ae/wp-content/uploads/2026/03/breakfast.png
END:VEVENT
BEGIN:VEVENT
DTSTART;TZID=Asia/Dubai:20270310T180000
DTEND;TZID=Asia/Dubai:20270310T210000
DTSTAMP:20260422T065502
CREATED:20260420T142602Z
LAST-MODIFIED:20260420T142602Z
UID:10032076-1804701600-1804712400@blabladubai.ae
SUMMARY:Table for Two | A Casa Restaurant
DESCRIPTION:Enjoy a curated 3-course menu designed for two\, paired with a bottle of wine\, all for AED249.\nThe perfect excuse to slow down\, settle in\, and make an evening of it. \nDaily | 6pm to 9pm\nT&C Apply
URL:https://blabladubai.ae/event/table-for-two-a-casa-restaurant/2027-03-10/
LOCATION:Bla Bla Dubai\, Dubai\, United Arab Emirates
CATEGORIES:Restaurant
ATTACH;FMTTYPE=image/png:https://blabladubai.ae/wp-content/uploads/2026/04/1.png
END:VEVENT
BEGIN:VEVENT
DTSTART;TZID=UTC:20270311T090000
DTEND;TZID=UTC:20270311T140000
DTSTAMP:20260422T065502
CREATED:20260326T125835Z
LAST-MODIFIED:20260408T162833Z
UID:10026961-1804755600-1804773600@blabladubai.ae
SUMMARY:Breakfast | A Casa Restaurant
DESCRIPTION:Start your day the right way at A Casa. \nOur extended breakfast menu is now available\, giving you more time to ease into the day with your favourites. \nDaily | 9am to 2pm \nA Casa Restaurant \n*T&Cs apply
URL:https://blabladubai.ae/event/breakfast-a-casa-restaurant/2027-03-11/
CATEGORIES:Restaurant
ATTACH;FMTTYPE=image/png:https://blabladubai.ae/wp-content/uploads/2026/03/breakfast.png
END:VEVENT
BEGIN:VEVENT
DTSTART;TZID=Asia/Dubai:20270311T180000
DTEND;TZID=Asia/Dubai:20270311T210000
DTSTAMP:20260422T065502
CREATED:20260420T142602Z
LAST-MODIFIED:20260420T142602Z
UID:10032077-1804788000-1804798800@blabladubai.ae
SUMMARY:Table for Two | A Casa Restaurant
DESCRIPTION:Enjoy a curated 3-course menu designed for two\, paired with a bottle of wine\, all for AED249.\nThe perfect excuse to slow down\, settle in\, and make an evening of it. \nDaily | 6pm to 9pm\nT&C Apply
URL:https://blabladubai.ae/event/table-for-two-a-casa-restaurant/2027-03-11/
LOCATION:Bla Bla Dubai\, Dubai\, United Arab Emirates
CATEGORIES:Restaurant
ATTACH;FMTTYPE=image/png:https://blabladubai.ae/wp-content/uploads/2026/04/1.png
END:VEVENT
BEGIN:VEVENT
DTSTART;TZID=UTC:20270312T090000
DTEND;TZID=UTC:20270312T140000
DTSTAMP:20260422T065502
CREATED:20260326T125835Z
LAST-MODIFIED:20260408T162833Z
UID:10026962-1804842000-1804860000@blabladubai.ae
SUMMARY:Breakfast | A Casa Restaurant
DESCRIPTION:Start your day the right way at A Casa. \nOur extended breakfast menu is now available\, giving you more time to ease into the day with your favourites. \nDaily | 9am to 2pm \nA Casa Restaurant \n*T&Cs apply
URL:https://blabladubai.ae/event/breakfast-a-casa-restaurant/2027-03-12/
CATEGORIES:Restaurant
ATTACH;FMTTYPE=image/png:https://blabladubai.ae/wp-content/uploads/2026/03/breakfast.png
END:VEVENT
BEGIN:VEVENT
DTSTART;TZID=Asia/Dubai:20270312T180000
DTEND;TZID=Asia/Dubai:20270312T210000
DTSTAMP:20260422T065502
CREATED:20260420T142602Z
LAST-MODIFIED:20260420T142602Z
UID:10032078-1804874400-1804885200@blabladubai.ae
SUMMARY:Table for Two | A Casa Restaurant
DESCRIPTION:Enjoy a curated 3-course menu designed for two\, paired with a bottle of wine\, all for AED249.\nThe perfect excuse to slow down\, settle in\, and make an evening of it. \nDaily | 6pm to 9pm\nT&C Apply
URL:https://blabladubai.ae/event/table-for-two-a-casa-restaurant/2027-03-12/
LOCATION:Bla Bla Dubai\, Dubai\, United Arab Emirates
CATEGORIES:Restaurant
ATTACH;FMTTYPE=image/png:https://blabladubai.ae/wp-content/uploads/2026/04/1.png
END:VEVENT
BEGIN:VEVENT
DTSTART;TZID=UTC:20270313T090000
DTEND;TZID=UTC:20270313T140000
DTSTAMP:20260422T065502
CREATED:20260326T125835Z
LAST-MODIFIED:20260408T162833Z
UID:10026963-1804928400-1804946400@blabladubai.ae
SUMMARY:Breakfast | A Casa Restaurant
DESCRIPTION:Start your day the right way at A Casa. \nOur extended breakfast menu is now available\, giving you more time to ease into the day with your favourites. \nDaily | 9am to 2pm \nA Casa Restaurant \n*T&Cs apply
URL:https://blabladubai.ae/event/breakfast-a-casa-restaurant/2027-03-13/
CATEGORIES:Restaurant
ATTACH;FMTTYPE=image/png:https://blabladubai.ae/wp-content/uploads/2026/03/breakfast.png
END:VEVENT
BEGIN:VEVENT
DTSTART;TZID=Asia/Dubai:20270313T180000
DTEND;TZID=Asia/Dubai:20270313T210000
DTSTAMP:20260422T065502
CREATED:20260420T142602Z
LAST-MODIFIED:20260420T142602Z
UID:10032079-1804960800-1804971600@blabladubai.ae
SUMMARY:Table for Two | A Casa Restaurant
DESCRIPTION:Enjoy a curated 3-course menu designed for two\, paired with a bottle of wine\, all for AED249.\nThe perfect excuse to slow down\, settle in\, and make an evening of it. \nDaily | 6pm to 9pm\nT&C Apply
URL:https://blabladubai.ae/event/table-for-two-a-casa-restaurant/2027-03-13/
LOCATION:Bla Bla Dubai\, Dubai\, United Arab Emirates
CATEGORIES:Restaurant
ATTACH;FMTTYPE=image/png:https://blabladubai.ae/wp-content/uploads/2026/04/1.png
END:VEVENT
BEGIN:VEVENT
DTSTART;TZID=UTC:20270314T090000
DTEND;TZID=UTC:20270314T140000
DTSTAMP:20260422T065502
CREATED:20260326T125835Z
LAST-MODIFIED:20260408T162833Z
UID:10026964-1805014800-1805032800@blabladubai.ae
SUMMARY:Breakfast | A Casa Restaurant
DESCRIPTION:Start your day the right way at A Casa. \nOur extended breakfast menu is now available\, giving you more time to ease into the day with your favourites. \nDaily | 9am to 2pm \nA Casa Restaurant \n*T&Cs apply
URL:https://blabladubai.ae/event/breakfast-a-casa-restaurant/2027-03-14/
CATEGORIES:Restaurant
ATTACH;FMTTYPE=image/png:https://blabladubai.ae/wp-content/uploads/2026/03/breakfast.png
END:VEVENT
BEGIN:VEVENT
DTSTART;TZID=Asia/Dubai:20270314T120000
DTEND;TZID=Asia/Dubai:20270314T180000
DTSTAMP:20260422T065502
CREATED:20260404T143034Z
LAST-MODIFIED:20260405T164636Z
UID:10030889-1805025600-1805047200@blabladubai.ae
SUMMARY:Roast by the Coast | A Casa Restaurant
DESCRIPTION:Choose from a selection of classic roasts\,\neach served with all the right sides. \nADD-ON AED199 DRINKS PACKAGE\n2-hour unlimited house drinks from selected menu. \nA Casa Restaurant\nSundays | 12pm to 6pm\nT&Cs Apply
URL:https://blabladubai.ae/event/sunday-roast-a-casa-restaurant-2-2/2027-03-14/
LOCATION:Bla Bla Dubai\, Dubai\, United Arab Emirates
CATEGORIES:Restaurant
ATTACH;FMTTYPE=image/png:https://blabladubai.ae/wp-content/uploads/2024/09/sunday-roast.png
END:VEVENT
BEGIN:VEVENT
DTSTART;TZID=Asia/Dubai:20270314T180000
DTEND;TZID=Asia/Dubai:20270314T210000
DTSTAMP:20260422T065502
CREATED:20260420T142602Z
LAST-MODIFIED:20260420T142602Z
UID:10032080-1805047200-1805058000@blabladubai.ae
SUMMARY:Table for Two | A Casa Restaurant
DESCRIPTION:Enjoy a curated 3-course menu designed for two\, paired with a bottle of wine\, all for AED249.\nThe perfect excuse to slow down\, settle in\, and make an evening of it. \nDaily | 6pm to 9pm\nT&C Apply
URL:https://blabladubai.ae/event/table-for-two-a-casa-restaurant/2027-03-14/
LOCATION:Bla Bla Dubai\, Dubai\, United Arab Emirates
CATEGORIES:Restaurant
ATTACH;FMTTYPE=image/png:https://blabladubai.ae/wp-content/uploads/2026/04/1.png
END:VEVENT
BEGIN:VEVENT
DTSTART;TZID=UTC:20270315T090000
DTEND;TZID=UTC:20270315T140000
DTSTAMP:20260422T065502
CREATED:20260326T125835Z
LAST-MODIFIED:20260408T162833Z
UID:10026965-1805101200-1805119200@blabladubai.ae
SUMMARY:Breakfast | A Casa Restaurant
DESCRIPTION:Start your day the right way at A Casa. \nOur extended breakfast menu is now available\, giving you more time to ease into the day with your favourites. \nDaily | 9am to 2pm \nA Casa Restaurant \n*T&Cs apply
URL:https://blabladubai.ae/event/breakfast-a-casa-restaurant/2027-03-15/
CATEGORIES:Restaurant
ATTACH;FMTTYPE=image/png:https://blabladubai.ae/wp-content/uploads/2026/03/breakfast.png
END:VEVENT
BEGIN:VEVENT
DTSTART;TZID=Asia/Dubai:20270315T180000
DTEND;TZID=Asia/Dubai:20270315T210000
DTSTAMP:20260422T065502
CREATED:20260420T142602Z
LAST-MODIFIED:20260420T142602Z
UID:10032081-1805133600-1805144400@blabladubai.ae
SUMMARY:Table for Two | A Casa Restaurant
DESCRIPTION:Enjoy a curated 3-course menu designed for two\, paired with a bottle of wine\, all for AED249.\nThe perfect excuse to slow down\, settle in\, and make an evening of it. \nDaily | 6pm to 9pm\nT&C Apply
URL:https://blabladubai.ae/event/table-for-two-a-casa-restaurant/2027-03-15/
LOCATION:Bla Bla Dubai\, Dubai\, United Arab Emirates
CATEGORIES:Restaurant
ATTACH;FMTTYPE=image/png:https://blabladubai.ae/wp-content/uploads/2026/04/1.png
END:VEVENT
BEGIN:VEVENT
DTSTART;TZID=UTC:20270316T090000
DTEND;TZID=UTC:20270316T140000
DTSTAMP:20260422T065502
CREATED:20260326T125835Z
LAST-MODIFIED:20260408T162833Z
UID:10026966-1805187600-1805205600@blabladubai.ae
SUMMARY:Breakfast | A Casa Restaurant
DESCRIPTION:Start your day the right way at A Casa. \nOur extended breakfast menu is now available\, giving you more time to ease into the day with your favourites. \nDaily | 9am to 2pm \nA Casa Restaurant \n*T&Cs apply
URL:https://blabladubai.ae/event/breakfast-a-casa-restaurant/2027-03-16/
CATEGORIES:Restaurant
ATTACH;FMTTYPE=image/png:https://blabladubai.ae/wp-content/uploads/2026/03/breakfast.png
END:VEVENT
BEGIN:VEVENT
DTSTART;TZID=Asia/Dubai:20270316T180000
DTEND;TZID=Asia/Dubai:20270316T210000
DTSTAMP:20260422T065502
CREATED:20260420T142602Z
LAST-MODIFIED:20260420T142602Z
UID:10032082-1805220000-1805230800@blabladubai.ae
SUMMARY:Table for Two | A Casa Restaurant
DESCRIPTION:Enjoy a curated 3-course menu designed for two\, paired with a bottle of wine\, all for AED249.\nThe perfect excuse to slow down\, settle in\, and make an evening of it. \nDaily | 6pm to 9pm\nT&C Apply
URL:https://blabladubai.ae/event/table-for-two-a-casa-restaurant/2027-03-16/
LOCATION:Bla Bla Dubai\, Dubai\, United Arab Emirates
CATEGORIES:Restaurant
ATTACH;FMTTYPE=image/png:https://blabladubai.ae/wp-content/uploads/2026/04/1.png
END:VEVENT
BEGIN:VEVENT
DTSTART;TZID=UTC:20270317T090000
DTEND;TZID=UTC:20270317T140000
DTSTAMP:20260422T065502
CREATED:20260326T125835Z
LAST-MODIFIED:20260408T162833Z
UID:10026967-1805274000-1805292000@blabladubai.ae
SUMMARY:Breakfast | A Casa Restaurant
DESCRIPTION:Start your day the right way at A Casa. \nOur extended breakfast menu is now available\, giving you more time to ease into the day with your favourites. \nDaily | 9am to 2pm \nA Casa Restaurant \n*T&Cs apply
URL:https://blabladubai.ae/event/breakfast-a-casa-restaurant/2027-03-17/
CATEGORIES:Restaurant
ATTACH;FMTTYPE=image/png:https://blabladubai.ae/wp-content/uploads/2026/03/breakfast.png
END:VEVENT
BEGIN:VEVENT
DTSTART;TZID=Asia/Dubai:20270317T180000
DTEND;TZID=Asia/Dubai:20270317T210000
DTSTAMP:20260422T065502
CREATED:20260420T142602Z
LAST-MODIFIED:20260420T142602Z
UID:10032083-1805306400-1805317200@blabladubai.ae
SUMMARY:Table for Two | A Casa Restaurant
DESCRIPTION:Enjoy a curated 3-course menu designed for two\, paired with a bottle of wine\, all for AED249.\nThe perfect excuse to slow down\, settle in\, and make an evening of it. \nDaily | 6pm to 9pm\nT&C Apply
URL:https://blabladubai.ae/event/table-for-two-a-casa-restaurant/2027-03-17/
LOCATION:Bla Bla Dubai\, Dubai\, United Arab Emirates
CATEGORIES:Restaurant
ATTACH;FMTTYPE=image/png:https://blabladubai.ae/wp-content/uploads/2026/04/1.png
END:VEVENT
BEGIN:VEVENT
DTSTART;TZID=UTC:20270318T090000
DTEND;TZID=UTC:20270318T140000
DTSTAMP:20260422T065502
CREATED:20260326T125835Z
LAST-MODIFIED:20260408T162833Z
UID:10026968-1805360400-1805378400@blabladubai.ae
SUMMARY:Breakfast | A Casa Restaurant
DESCRIPTION:Start your day the right way at A Casa. \nOur extended breakfast menu is now available\, giving you more time to ease into the day with your favourites. \nDaily | 9am to 2pm \nA Casa Restaurant \n*T&Cs apply
URL:https://blabladubai.ae/event/breakfast-a-casa-restaurant/2027-03-18/
CATEGORIES:Restaurant
ATTACH;FMTTYPE=image/png:https://blabladubai.ae/wp-content/uploads/2026/03/breakfast.png
END:VEVENT
BEGIN:VEVENT
DTSTART;TZID=Asia/Dubai:20270318T180000
DTEND;TZID=Asia/Dubai:20270318T210000
DTSTAMP:20260422T065502
CREATED:20260420T142602Z
LAST-MODIFIED:20260420T142602Z
UID:10032084-1805392800-1805403600@blabladubai.ae
SUMMARY:Table for Two | A Casa Restaurant
DESCRIPTION:Enjoy a curated 3-course menu designed for two\, paired with a bottle of wine\, all for AED249.\nThe perfect excuse to slow down\, settle in\, and make an evening of it. \nDaily | 6pm to 9pm\nT&C Apply
URL:https://blabladubai.ae/event/table-for-two-a-casa-restaurant/2027-03-18/
LOCATION:Bla Bla Dubai\, Dubai\, United Arab Emirates
CATEGORIES:Restaurant
ATTACH;FMTTYPE=image/png:https://blabladubai.ae/wp-content/uploads/2026/04/1.png
END:VEVENT
BEGIN:VEVENT
DTSTART;TZID=UTC:20270319T090000
DTEND;TZID=UTC:20270319T140000
DTSTAMP:20260422T065502
CREATED:20260326T125835Z
LAST-MODIFIED:20260408T162833Z
UID:10026969-1805446800-1805464800@blabladubai.ae
SUMMARY:Breakfast | A Casa Restaurant
DESCRIPTION:Start your day the right way at A Casa. \nOur extended breakfast menu is now available\, giving you more time to ease into the day with your favourites. \nDaily | 9am to 2pm \nA Casa Restaurant \n*T&Cs apply
URL:https://blabladubai.ae/event/breakfast-a-casa-restaurant/2027-03-19/
CATEGORIES:Restaurant
ATTACH;FMTTYPE=image/png:https://blabladubai.ae/wp-content/uploads/2026/03/breakfast.png
END:VEVENT
BEGIN:VEVENT
DTSTART;TZID=Asia/Dubai:20270319T180000
DTEND;TZID=Asia/Dubai:20270319T210000
DTSTAMP:20260422T065502
CREATED:20260420T142602Z
LAST-MODIFIED:20260420T142602Z
UID:10032085-1805479200-1805490000@blabladubai.ae
SUMMARY:Table for Two | A Casa Restaurant
DESCRIPTION:Enjoy a curated 3-course menu designed for two\, paired with a bottle of wine\, all for AED249.\nThe perfect excuse to slow down\, settle in\, and make an evening of it. \nDaily | 6pm to 9pm\nT&C Apply
URL:https://blabladubai.ae/event/table-for-two-a-casa-restaurant/2027-03-19/
LOCATION:Bla Bla Dubai\, Dubai\, United Arab Emirates
CATEGORIES:Restaurant
ATTACH;FMTTYPE=image/png:https://blabladubai.ae/wp-content/uploads/2026/04/1.png
END:VEVENT
BEGIN:VEVENT
DTSTART;TZID=UTC:20270320T090000
DTEND;TZID=UTC:20270320T140000
DTSTAMP:20260422T065502
CREATED:20260326T125835Z
LAST-MODIFIED:20260408T162833Z
UID:10026970-1805533200-1805551200@blabladubai.ae
SUMMARY:Breakfast | A Casa Restaurant
DESCRIPTION:Start your day the right way at A Casa. \nOur extended breakfast menu is now available\, giving you more time to ease into the day with your favourites. \nDaily | 9am to 2pm \nA Casa Restaurant \n*T&Cs apply
URL:https://blabladubai.ae/event/breakfast-a-casa-restaurant/2027-03-20/
CATEGORIES:Restaurant
ATTACH;FMTTYPE=image/png:https://blabladubai.ae/wp-content/uploads/2026/03/breakfast.png
END:VEVENT
BEGIN:VEVENT
DTSTART;TZID=Asia/Dubai:20270320T180000
DTEND;TZID=Asia/Dubai:20270320T210000
DTSTAMP:20260422T065502
CREATED:20260420T142602Z
LAST-MODIFIED:20260420T142602Z
UID:10032086-1805565600-1805576400@blabladubai.ae
SUMMARY:Table for Two | A Casa Restaurant
DESCRIPTION:Enjoy a curated 3-course menu designed for two\, paired with a bottle of wine\, all for AED249.\nThe perfect excuse to slow down\, settle in\, and make an evening of it. \nDaily | 6pm to 9pm\nT&C Apply
URL:https://blabladubai.ae/event/table-for-two-a-casa-restaurant/2027-03-20/
LOCATION:Bla Bla Dubai\, Dubai\, United Arab Emirates
CATEGORIES:Restaurant
ATTACH;FMTTYPE=image/png:https://blabladubai.ae/wp-content/uploads/2026/04/1.png
END:VEVENT
BEGIN:VEVENT
DTSTART;TZID=UTC:20270321T090000
DTEND;TZID=UTC:20270321T140000
DTSTAMP:20260422T065502
CREATED:20260326T125835Z
LAST-MODIFIED:20260408T162833Z
UID:10026971-1805619600-1805637600@blabladubai.ae
SUMMARY:Breakfast | A Casa Restaurant
DESCRIPTION:Start your day the right way at A Casa. \nOur extended breakfast menu is now available\, giving you more time to ease into the day with your favourites. \nDaily | 9am to 2pm \nA Casa Restaurant \n*T&Cs apply
URL:https://blabladubai.ae/event/breakfast-a-casa-restaurant/2027-03-21/
CATEGORIES:Restaurant
ATTACH;FMTTYPE=image/png:https://blabladubai.ae/wp-content/uploads/2026/03/breakfast.png
END:VEVENT
BEGIN:VEVENT
DTSTART;TZID=Asia/Dubai:20270321T120000
DTEND;TZID=Asia/Dubai:20270321T180000
DTSTAMP:20260422T065502
CREATED:20260404T143034Z
LAST-MODIFIED:20260405T164636Z
UID:10030890-1805630400-1805652000@blabladubai.ae
SUMMARY:Roast by the Coast | A Casa Restaurant
DESCRIPTION:Choose from a selection of classic roasts\,\neach served with all the right sides. \nADD-ON AED199 DRINKS PACKAGE\n2-hour unlimited house drinks from selected menu. \nA Casa Restaurant\nSundays | 12pm to 6pm\nT&Cs Apply
URL:https://blabladubai.ae/event/sunday-roast-a-casa-restaurant-2-2/2027-03-21/
LOCATION:Bla Bla Dubai\, Dubai\, United Arab Emirates
CATEGORIES:Restaurant
ATTACH;FMTTYPE=image/png:https://blabladubai.ae/wp-content/uploads/2024/09/sunday-roast.png
END:VEVENT
BEGIN:VEVENT
DTSTART;TZID=Asia/Dubai:20270321T180000
DTEND;TZID=Asia/Dubai:20270321T210000
DTSTAMP:20260422T065502
CREATED:20260420T142602Z
LAST-MODIFIED:20260420T142602Z
UID:10032087-1805652000-1805662800@blabladubai.ae
SUMMARY:Table for Two | A Casa Restaurant
DESCRIPTION:Enjoy a curated 3-course menu designed for two\, paired with a bottle of wine\, all for AED249.\nThe perfect excuse to slow down\, settle in\, and make an evening of it. \nDaily | 6pm to 9pm\nT&C Apply
URL:https://blabladubai.ae/event/table-for-two-a-casa-restaurant/2027-03-21/
LOCATION:Bla Bla Dubai\, Dubai\, United Arab Emirates
CATEGORIES:Restaurant
ATTACH;FMTTYPE=image/png:https://blabladubai.ae/wp-content/uploads/2026/04/1.png
END:VEVENT
BEGIN:VEVENT
DTSTART;TZID=UTC:20270322T090000
DTEND;TZID=UTC:20270322T140000
DTSTAMP:20260422T065502
CREATED:20260326T125835Z
LAST-MODIFIED:20260408T162833Z
UID:10026972-1805706000-1805724000@blabladubai.ae
SUMMARY:Breakfast | A Casa Restaurant
DESCRIPTION:Start your day the right way at A Casa. \nOur extended breakfast menu is now available\, giving you more time to ease into the day with your favourites. \nDaily | 9am to 2pm \nA Casa Restaurant \n*T&Cs apply
URL:https://blabladubai.ae/event/breakfast-a-casa-restaurant/2027-03-22/
CATEGORIES:Restaurant
ATTACH;FMTTYPE=image/png:https://blabladubai.ae/wp-content/uploads/2026/03/breakfast.png
END:VEVENT
BEGIN:VEVENT
DTSTART;TZID=Asia/Dubai:20270322T180000
DTEND;TZID=Asia/Dubai:20270322T210000
DTSTAMP:20260422T065502
CREATED:20260420T142602Z
LAST-MODIFIED:20260420T142602Z
UID:10032088-1805738400-1805749200@blabladubai.ae
SUMMARY:Table for Two | A Casa Restaurant
DESCRIPTION:Enjoy a curated 3-course menu designed for two\, paired with a bottle of wine\, all for AED249.\nThe perfect excuse to slow down\, settle in\, and make an evening of it. \nDaily | 6pm to 9pm\nT&C Apply
URL:https://blabladubai.ae/event/table-for-two-a-casa-restaurant/2027-03-22/
LOCATION:Bla Bla Dubai\, Dubai\, United Arab Emirates
CATEGORIES:Restaurant
ATTACH;FMTTYPE=image/png:https://blabladubai.ae/wp-content/uploads/2026/04/1.png
END:VEVENT
BEGIN:VEVENT
DTSTART;TZID=UTC:20270323T090000
DTEND;TZID=UTC:20270323T140000
DTSTAMP:20260422T065502
CREATED:20260326T125835Z
LAST-MODIFIED:20260408T162833Z
UID:10026973-1805792400-1805810400@blabladubai.ae
SUMMARY:Breakfast | A Casa Restaurant
DESCRIPTION:Start your day the right way at A Casa. \nOur extended breakfast menu is now available\, giving you more time to ease into the day with your favourites. \nDaily | 9am to 2pm \nA Casa Restaurant \n*T&Cs apply
URL:https://blabladubai.ae/event/breakfast-a-casa-restaurant/2027-03-23/
CATEGORIES:Restaurant
ATTACH;FMTTYPE=image/png:https://blabladubai.ae/wp-content/uploads/2026/03/breakfast.png
END:VEVENT
BEGIN:VEVENT
DTSTART;TZID=Asia/Dubai:20270323T180000
DTEND;TZID=Asia/Dubai:20270323T210000
DTSTAMP:20260422T065502
CREATED:20260420T142602Z
LAST-MODIFIED:20260420T142602Z
UID:10032089-1805824800-1805835600@blabladubai.ae
SUMMARY:Table for Two | A Casa Restaurant
DESCRIPTION:Enjoy a curated 3-course menu designed for two\, paired with a bottle of wine\, all for AED249.\nThe perfect excuse to slow down\, settle in\, and make an evening of it. \nDaily | 6pm to 9pm\nT&C Apply
URL:https://blabladubai.ae/event/table-for-two-a-casa-restaurant/2027-03-23/
LOCATION:Bla Bla Dubai\, Dubai\, United Arab Emirates
CATEGORIES:Restaurant
ATTACH;FMTTYPE=image/png:https://blabladubai.ae/wp-content/uploads/2026/04/1.png
END:VEVENT
END:VCALENDAR