BEGIN:VCALENDAR
VERSION:2.0
PRODID:-//Bla Bla by McGettigan&#039;s - ECPv6.15.13//NONSGML v1.0//EN
CALSCALE:GREGORIAN
METHOD:PUBLISH
X-ORIGINAL-URL:https://blabladubai.ae
X-WR-CALDESC:Events for Bla Bla by McGettigan&#039;s
REFRESH-INTERVAL;VALUE=DURATION:PT1H
X-Robots-Tag:noindex
X-PUBLISHED-TTL:PT1H
BEGIN:VTIMEZONE
TZID:UTC
BEGIN:STANDARD
TZOFFSETFROM:+0000
TZOFFSETTO:+0000
TZNAME:UTC
DTSTART:20250101T000000
END:STANDARD
END:VTIMEZONE
BEGIN:VTIMEZONE
TZID:Asia/Dubai
BEGIN:STANDARD
TZOFFSETFROM:+0400
TZOFFSETTO:+0400
TZNAME:+04
DTSTART:20250101T000000
END:STANDARD
END:VTIMEZONE
BEGIN:VEVENT
DTSTART;TZID=UTC:20260925T090000
DTEND;TZID=UTC:20260925T140000
DTSTAMP:20260422T014306
CREATED:20260326T125835Z
LAST-MODIFIED:20260408T162833Z
UID:10026794-1790326800-1790344800@blabladubai.ae
SUMMARY:Breakfast | A Casa Restaurant
DESCRIPTION:Start your day the right way at A Casa. \nOur extended breakfast menu is now available\, giving you more time to ease into the day with your favourites. \nDaily | 9am to 2pm \nA Casa Restaurant \n*T&Cs apply
URL:https://blabladubai.ae/event/breakfast-a-casa-restaurant/2026-09-25/
CATEGORIES:Restaurant
ATTACH;FMTTYPE=image/png:https://blabladubai.ae/wp-content/uploads/2026/03/breakfast.png
END:VEVENT
BEGIN:VEVENT
DTSTART;TZID=Asia/Dubai:20260925T180000
DTEND;TZID=Asia/Dubai:20260925T210000
DTSTAMP:20260422T014306
CREATED:20260420T142602Z
LAST-MODIFIED:20260420T142602Z
UID:10031910-1790359200-1790370000@blabladubai.ae
SUMMARY:Table for Two | A Casa Restaurant
DESCRIPTION:Enjoy a curated 3-course menu designed for two\, paired with a bottle of wine\, all for AED249.\nThe perfect excuse to slow down\, settle in\, and make an evening of it. \nDaily | 6pm to 9pm\nT&C Apply
URL:https://blabladubai.ae/event/table-for-two-a-casa-restaurant/2026-09-25/
LOCATION:Bla Bla Dubai\, Dubai\, United Arab Emirates
CATEGORIES:Restaurant
ATTACH;FMTTYPE=image/png:https://blabladubai.ae/wp-content/uploads/2026/04/1.png
END:VEVENT
BEGIN:VEVENT
DTSTART;TZID=UTC:20260926T090000
DTEND;TZID=UTC:20260926T140000
DTSTAMP:20260422T014306
CREATED:20260326T125835Z
LAST-MODIFIED:20260408T162833Z
UID:10026795-1790413200-1790431200@blabladubai.ae
SUMMARY:Breakfast | A Casa Restaurant
DESCRIPTION:Start your day the right way at A Casa. \nOur extended breakfast menu is now available\, giving you more time to ease into the day with your favourites. \nDaily | 9am to 2pm \nA Casa Restaurant \n*T&Cs apply
URL:https://blabladubai.ae/event/breakfast-a-casa-restaurant/2026-09-26/
CATEGORIES:Restaurant
ATTACH;FMTTYPE=image/png:https://blabladubai.ae/wp-content/uploads/2026/03/breakfast.png
END:VEVENT
BEGIN:VEVENT
DTSTART;TZID=Asia/Dubai:20260926T180000
DTEND;TZID=Asia/Dubai:20260926T210000
DTSTAMP:20260422T014306
CREATED:20260420T142602Z
LAST-MODIFIED:20260420T142602Z
UID:10031911-1790445600-1790456400@blabladubai.ae
SUMMARY:Table for Two | A Casa Restaurant
DESCRIPTION:Enjoy a curated 3-course menu designed for two\, paired with a bottle of wine\, all for AED249.\nThe perfect excuse to slow down\, settle in\, and make an evening of it. \nDaily | 6pm to 9pm\nT&C Apply
URL:https://blabladubai.ae/event/table-for-two-a-casa-restaurant/2026-09-26/
LOCATION:Bla Bla Dubai\, Dubai\, United Arab Emirates
CATEGORIES:Restaurant
ATTACH;FMTTYPE=image/png:https://blabladubai.ae/wp-content/uploads/2026/04/1.png
END:VEVENT
BEGIN:VEVENT
DTSTART;TZID=UTC:20260927T090000
DTEND;TZID=UTC:20260927T140000
DTSTAMP:20260422T014306
CREATED:20260326T125835Z
LAST-MODIFIED:20260408T162833Z
UID:10026796-1790499600-1790517600@blabladubai.ae
SUMMARY:Breakfast | A Casa Restaurant
DESCRIPTION:Start your day the right way at A Casa. \nOur extended breakfast menu is now available\, giving you more time to ease into the day with your favourites. \nDaily | 9am to 2pm \nA Casa Restaurant \n*T&Cs apply
URL:https://blabladubai.ae/event/breakfast-a-casa-restaurant/2026-09-27/
CATEGORIES:Restaurant
ATTACH;FMTTYPE=image/png:https://blabladubai.ae/wp-content/uploads/2026/03/breakfast.png
END:VEVENT
BEGIN:VEVENT
DTSTART;TZID=Asia/Dubai:20260927T120000
DTEND;TZID=Asia/Dubai:20260927T180000
DTSTAMP:20260422T014306
CREATED:20260404T143034Z
LAST-MODIFIED:20260405T164636Z
UID:10030865-1790510400-1790532000@blabladubai.ae
SUMMARY:Roast by the Coast | A Casa Restaurant
DESCRIPTION:Choose from a selection of classic roasts\,\neach served with all the right sides. \nADD-ON AED199 DRINKS PACKAGE\n2-hour unlimited house drinks from selected menu. \nA Casa Restaurant\nSundays | 12pm to 6pm\nT&Cs Apply
URL:https://blabladubai.ae/event/sunday-roast-a-casa-restaurant-2-2/2026-09-27/
LOCATION:Bla Bla Dubai\, Dubai\, United Arab Emirates
CATEGORIES:Restaurant
ATTACH;FMTTYPE=image/png:https://blabladubai.ae/wp-content/uploads/2024/09/sunday-roast.png
END:VEVENT
BEGIN:VEVENT
DTSTART;TZID=Asia/Dubai:20260927T180000
DTEND;TZID=Asia/Dubai:20260927T210000
DTSTAMP:20260422T014306
CREATED:20260420T142602Z
LAST-MODIFIED:20260420T142602Z
UID:10031912-1790532000-1790542800@blabladubai.ae
SUMMARY:Table for Two | A Casa Restaurant
DESCRIPTION:Enjoy a curated 3-course menu designed for two\, paired with a bottle of wine\, all for AED249.\nThe perfect excuse to slow down\, settle in\, and make an evening of it. \nDaily | 6pm to 9pm\nT&C Apply
URL:https://blabladubai.ae/event/table-for-two-a-casa-restaurant/2026-09-27/
LOCATION:Bla Bla Dubai\, Dubai\, United Arab Emirates
CATEGORIES:Restaurant
ATTACH;FMTTYPE=image/png:https://blabladubai.ae/wp-content/uploads/2026/04/1.png
END:VEVENT
BEGIN:VEVENT
DTSTART;TZID=UTC:20260928T090000
DTEND;TZID=UTC:20260928T140000
DTSTAMP:20260422T014306
CREATED:20260326T125835Z
LAST-MODIFIED:20260408T162833Z
UID:10026797-1790586000-1790604000@blabladubai.ae
SUMMARY:Breakfast | A Casa Restaurant
DESCRIPTION:Start your day the right way at A Casa. \nOur extended breakfast menu is now available\, giving you more time to ease into the day with your favourites. \nDaily | 9am to 2pm \nA Casa Restaurant \n*T&Cs apply
URL:https://blabladubai.ae/event/breakfast-a-casa-restaurant/2026-09-28/
CATEGORIES:Restaurant
ATTACH;FMTTYPE=image/png:https://blabladubai.ae/wp-content/uploads/2026/03/breakfast.png
END:VEVENT
BEGIN:VEVENT
DTSTART;TZID=Asia/Dubai:20260928T180000
DTEND;TZID=Asia/Dubai:20260928T210000
DTSTAMP:20260422T014306
CREATED:20260420T142602Z
LAST-MODIFIED:20260420T142602Z
UID:10031913-1790618400-1790629200@blabladubai.ae
SUMMARY:Table for Two | A Casa Restaurant
DESCRIPTION:Enjoy a curated 3-course menu designed for two\, paired with a bottle of wine\, all for AED249.\nThe perfect excuse to slow down\, settle in\, and make an evening of it. \nDaily | 6pm to 9pm\nT&C Apply
URL:https://blabladubai.ae/event/table-for-two-a-casa-restaurant/2026-09-28/
LOCATION:Bla Bla Dubai\, Dubai\, United Arab Emirates
CATEGORIES:Restaurant
ATTACH;FMTTYPE=image/png:https://blabladubai.ae/wp-content/uploads/2026/04/1.png
END:VEVENT
BEGIN:VEVENT
DTSTART;TZID=UTC:20260929T090000
DTEND;TZID=UTC:20260929T140000
DTSTAMP:20260422T014306
CREATED:20260326T125835Z
LAST-MODIFIED:20260408T162833Z
UID:10026798-1790672400-1790690400@blabladubai.ae
SUMMARY:Breakfast | A Casa Restaurant
DESCRIPTION:Start your day the right way at A Casa. \nOur extended breakfast menu is now available\, giving you more time to ease into the day with your favourites. \nDaily | 9am to 2pm \nA Casa Restaurant \n*T&Cs apply
URL:https://blabladubai.ae/event/breakfast-a-casa-restaurant/2026-09-29/
CATEGORIES:Restaurant
ATTACH;FMTTYPE=image/png:https://blabladubai.ae/wp-content/uploads/2026/03/breakfast.png
END:VEVENT
BEGIN:VEVENT
DTSTART;TZID=Asia/Dubai:20260929T180000
DTEND;TZID=Asia/Dubai:20260929T210000
DTSTAMP:20260422T014306
CREATED:20260420T142602Z
LAST-MODIFIED:20260420T142602Z
UID:10031914-1790704800-1790715600@blabladubai.ae
SUMMARY:Table for Two | A Casa Restaurant
DESCRIPTION:Enjoy a curated 3-course menu designed for two\, paired with a bottle of wine\, all for AED249.\nThe perfect excuse to slow down\, settle in\, and make an evening of it. \nDaily | 6pm to 9pm\nT&C Apply
URL:https://blabladubai.ae/event/table-for-two-a-casa-restaurant/2026-09-29/
LOCATION:Bla Bla Dubai\, Dubai\, United Arab Emirates
CATEGORIES:Restaurant
ATTACH;FMTTYPE=image/png:https://blabladubai.ae/wp-content/uploads/2026/04/1.png
END:VEVENT
BEGIN:VEVENT
DTSTART;TZID=UTC:20260930T090000
DTEND;TZID=UTC:20260930T140000
DTSTAMP:20260422T014306
CREATED:20260326T125835Z
LAST-MODIFIED:20260408T162833Z
UID:10026799-1790758800-1790776800@blabladubai.ae
SUMMARY:Breakfast | A Casa Restaurant
DESCRIPTION:Start your day the right way at A Casa. \nOur extended breakfast menu is now available\, giving you more time to ease into the day with your favourites. \nDaily | 9am to 2pm \nA Casa Restaurant \n*T&Cs apply
URL:https://blabladubai.ae/event/breakfast-a-casa-restaurant/2026-09-30/
CATEGORIES:Restaurant
ATTACH;FMTTYPE=image/png:https://blabladubai.ae/wp-content/uploads/2026/03/breakfast.png
END:VEVENT
BEGIN:VEVENT
DTSTART;TZID=Asia/Dubai:20260930T180000
DTEND;TZID=Asia/Dubai:20260930T210000
DTSTAMP:20260422T014306
CREATED:20260420T142602Z
LAST-MODIFIED:20260420T142602Z
UID:10031915-1790791200-1790802000@blabladubai.ae
SUMMARY:Table for Two | A Casa Restaurant
DESCRIPTION:Enjoy a curated 3-course menu designed for two\, paired with a bottle of wine\, all for AED249.\nThe perfect excuse to slow down\, settle in\, and make an evening of it. \nDaily | 6pm to 9pm\nT&C Apply
URL:https://blabladubai.ae/event/table-for-two-a-casa-restaurant/2026-09-30/
LOCATION:Bla Bla Dubai\, Dubai\, United Arab Emirates
CATEGORIES:Restaurant
ATTACH;FMTTYPE=image/png:https://blabladubai.ae/wp-content/uploads/2026/04/1.png
END:VEVENT
BEGIN:VEVENT
DTSTART;TZID=UTC:20261001T090000
DTEND;TZID=UTC:20261001T140000
DTSTAMP:20260422T014306
CREATED:20260326T125835Z
LAST-MODIFIED:20260408T162833Z
UID:10026800-1790845200-1790863200@blabladubai.ae
SUMMARY:Breakfast | A Casa Restaurant
DESCRIPTION:Start your day the right way at A Casa. \nOur extended breakfast menu is now available\, giving you more time to ease into the day with your favourites. \nDaily | 9am to 2pm \nA Casa Restaurant \n*T&Cs apply
URL:https://blabladubai.ae/event/breakfast-a-casa-restaurant/2026-10-01/
CATEGORIES:Restaurant
ATTACH;FMTTYPE=image/png:https://blabladubai.ae/wp-content/uploads/2026/03/breakfast.png
END:VEVENT
BEGIN:VEVENT
DTSTART;TZID=Asia/Dubai:20261001T180000
DTEND;TZID=Asia/Dubai:20261001T210000
DTSTAMP:20260422T014306
CREATED:20260420T142602Z
LAST-MODIFIED:20260420T142602Z
UID:10031916-1790877600-1790888400@blabladubai.ae
SUMMARY:Table for Two | A Casa Restaurant
DESCRIPTION:Enjoy a curated 3-course menu designed for two\, paired with a bottle of wine\, all for AED249.\nThe perfect excuse to slow down\, settle in\, and make an evening of it. \nDaily | 6pm to 9pm\nT&C Apply
URL:https://blabladubai.ae/event/table-for-two-a-casa-restaurant/2026-10-01/
LOCATION:Bla Bla Dubai\, Dubai\, United Arab Emirates
CATEGORIES:Restaurant
ATTACH;FMTTYPE=image/png:https://blabladubai.ae/wp-content/uploads/2026/04/1.png
END:VEVENT
BEGIN:VEVENT
DTSTART;TZID=UTC:20261002T090000
DTEND;TZID=UTC:20261002T140000
DTSTAMP:20260422T014306
CREATED:20260326T125835Z
LAST-MODIFIED:20260408T162833Z
UID:10026801-1790931600-1790949600@blabladubai.ae
SUMMARY:Breakfast | A Casa Restaurant
DESCRIPTION:Start your day the right way at A Casa. \nOur extended breakfast menu is now available\, giving you more time to ease into the day with your favourites. \nDaily | 9am to 2pm \nA Casa Restaurant \n*T&Cs apply
URL:https://blabladubai.ae/event/breakfast-a-casa-restaurant/2026-10-02/
CATEGORIES:Restaurant
ATTACH;FMTTYPE=image/png:https://blabladubai.ae/wp-content/uploads/2026/03/breakfast.png
END:VEVENT
BEGIN:VEVENT
DTSTART;TZID=Asia/Dubai:20261002T180000
DTEND;TZID=Asia/Dubai:20261002T210000
DTSTAMP:20260422T014306
CREATED:20260420T142602Z
LAST-MODIFIED:20260420T142602Z
UID:10031917-1790964000-1790974800@blabladubai.ae
SUMMARY:Table for Two | A Casa Restaurant
DESCRIPTION:Enjoy a curated 3-course menu designed for two\, paired with a bottle of wine\, all for AED249.\nThe perfect excuse to slow down\, settle in\, and make an evening of it. \nDaily | 6pm to 9pm\nT&C Apply
URL:https://blabladubai.ae/event/table-for-two-a-casa-restaurant/2026-10-02/
LOCATION:Bla Bla Dubai\, Dubai\, United Arab Emirates
CATEGORIES:Restaurant
ATTACH;FMTTYPE=image/png:https://blabladubai.ae/wp-content/uploads/2026/04/1.png
END:VEVENT
BEGIN:VEVENT
DTSTART;TZID=UTC:20261003T090000
DTEND;TZID=UTC:20261003T140000
DTSTAMP:20260422T014306
CREATED:20260326T125835Z
LAST-MODIFIED:20260408T162833Z
UID:10026802-1791018000-1791036000@blabladubai.ae
SUMMARY:Breakfast | A Casa Restaurant
DESCRIPTION:Start your day the right way at A Casa. \nOur extended breakfast menu is now available\, giving you more time to ease into the day with your favourites. \nDaily | 9am to 2pm \nA Casa Restaurant \n*T&Cs apply
URL:https://blabladubai.ae/event/breakfast-a-casa-restaurant/2026-10-03/
CATEGORIES:Restaurant
ATTACH;FMTTYPE=image/png:https://blabladubai.ae/wp-content/uploads/2026/03/breakfast.png
END:VEVENT
BEGIN:VEVENT
DTSTART;TZID=Asia/Dubai:20261003T180000
DTEND;TZID=Asia/Dubai:20261003T210000
DTSTAMP:20260422T014306
CREATED:20260420T142602Z
LAST-MODIFIED:20260420T142602Z
UID:10031918-1791050400-1791061200@blabladubai.ae
SUMMARY:Table for Two | A Casa Restaurant
DESCRIPTION:Enjoy a curated 3-course menu designed for two\, paired with a bottle of wine\, all for AED249.\nThe perfect excuse to slow down\, settle in\, and make an evening of it. \nDaily | 6pm to 9pm\nT&C Apply
URL:https://blabladubai.ae/event/table-for-two-a-casa-restaurant/2026-10-03/
LOCATION:Bla Bla Dubai\, Dubai\, United Arab Emirates
CATEGORIES:Restaurant
ATTACH;FMTTYPE=image/png:https://blabladubai.ae/wp-content/uploads/2026/04/1.png
END:VEVENT
BEGIN:VEVENT
DTSTART;TZID=UTC:20261004T090000
DTEND;TZID=UTC:20261004T140000
DTSTAMP:20260422T014306
CREATED:20260326T125835Z
LAST-MODIFIED:20260408T162833Z
UID:10026803-1791104400-1791122400@blabladubai.ae
SUMMARY:Breakfast | A Casa Restaurant
DESCRIPTION:Start your day the right way at A Casa. \nOur extended breakfast menu is now available\, giving you more time to ease into the day with your favourites. \nDaily | 9am to 2pm \nA Casa Restaurant \n*T&Cs apply
URL:https://blabladubai.ae/event/breakfast-a-casa-restaurant/2026-10-04/
CATEGORIES:Restaurant
ATTACH;FMTTYPE=image/png:https://blabladubai.ae/wp-content/uploads/2026/03/breakfast.png
END:VEVENT
BEGIN:VEVENT
DTSTART;TZID=Asia/Dubai:20261004T120000
DTEND;TZID=Asia/Dubai:20261004T180000
DTSTAMP:20260422T014306
CREATED:20260404T143034Z
LAST-MODIFIED:20260405T164636Z
UID:10030866-1791115200-1791136800@blabladubai.ae
SUMMARY:Roast by the Coast | A Casa Restaurant
DESCRIPTION:Choose from a selection of classic roasts\,\neach served with all the right sides. \nADD-ON AED199 DRINKS PACKAGE\n2-hour unlimited house drinks from selected menu. \nA Casa Restaurant\nSundays | 12pm to 6pm\nT&Cs Apply
URL:https://blabladubai.ae/event/sunday-roast-a-casa-restaurant-2-2/2026-10-04/
LOCATION:Bla Bla Dubai\, Dubai\, United Arab Emirates
CATEGORIES:Restaurant
ATTACH;FMTTYPE=image/png:https://blabladubai.ae/wp-content/uploads/2024/09/sunday-roast.png
END:VEVENT
BEGIN:VEVENT
DTSTART;TZID=Asia/Dubai:20261004T180000
DTEND;TZID=Asia/Dubai:20261004T210000
DTSTAMP:20260422T014306
CREATED:20260420T142602Z
LAST-MODIFIED:20260420T142602Z
UID:10031919-1791136800-1791147600@blabladubai.ae
SUMMARY:Table for Two | A Casa Restaurant
DESCRIPTION:Enjoy a curated 3-course menu designed for two\, paired with a bottle of wine\, all for AED249.\nThe perfect excuse to slow down\, settle in\, and make an evening of it. \nDaily | 6pm to 9pm\nT&C Apply
URL:https://blabladubai.ae/event/table-for-two-a-casa-restaurant/2026-10-04/
LOCATION:Bla Bla Dubai\, Dubai\, United Arab Emirates
CATEGORIES:Restaurant
ATTACH;FMTTYPE=image/png:https://blabladubai.ae/wp-content/uploads/2026/04/1.png
END:VEVENT
BEGIN:VEVENT
DTSTART;TZID=UTC:20261005T090000
DTEND;TZID=UTC:20261005T140000
DTSTAMP:20260422T014306
CREATED:20260326T125835Z
LAST-MODIFIED:20260408T162833Z
UID:10026804-1791190800-1791208800@blabladubai.ae
SUMMARY:Breakfast | A Casa Restaurant
DESCRIPTION:Start your day the right way at A Casa. \nOur extended breakfast menu is now available\, giving you more time to ease into the day with your favourites. \nDaily | 9am to 2pm \nA Casa Restaurant \n*T&Cs apply
URL:https://blabladubai.ae/event/breakfast-a-casa-restaurant/2026-10-05/
CATEGORIES:Restaurant
ATTACH;FMTTYPE=image/png:https://blabladubai.ae/wp-content/uploads/2026/03/breakfast.png
END:VEVENT
BEGIN:VEVENT
DTSTART;TZID=Asia/Dubai:20261005T180000
DTEND;TZID=Asia/Dubai:20261005T210000
DTSTAMP:20260422T014306
CREATED:20260420T142602Z
LAST-MODIFIED:20260420T142602Z
UID:10031920-1791223200-1791234000@blabladubai.ae
SUMMARY:Table for Two | A Casa Restaurant
DESCRIPTION:Enjoy a curated 3-course menu designed for two\, paired with a bottle of wine\, all for AED249.\nThe perfect excuse to slow down\, settle in\, and make an evening of it. \nDaily | 6pm to 9pm\nT&C Apply
URL:https://blabladubai.ae/event/table-for-two-a-casa-restaurant/2026-10-05/
LOCATION:Bla Bla Dubai\, Dubai\, United Arab Emirates
CATEGORIES:Restaurant
ATTACH;FMTTYPE=image/png:https://blabladubai.ae/wp-content/uploads/2026/04/1.png
END:VEVENT
BEGIN:VEVENT
DTSTART;TZID=UTC:20261006T090000
DTEND;TZID=UTC:20261006T140000
DTSTAMP:20260422T014306
CREATED:20260326T125835Z
LAST-MODIFIED:20260408T162833Z
UID:10026805-1791277200-1791295200@blabladubai.ae
SUMMARY:Breakfast | A Casa Restaurant
DESCRIPTION:Start your day the right way at A Casa. \nOur extended breakfast menu is now available\, giving you more time to ease into the day with your favourites. \nDaily | 9am to 2pm \nA Casa Restaurant \n*T&Cs apply
URL:https://blabladubai.ae/event/breakfast-a-casa-restaurant/2026-10-06/
CATEGORIES:Restaurant
ATTACH;FMTTYPE=image/png:https://blabladubai.ae/wp-content/uploads/2026/03/breakfast.png
END:VEVENT
BEGIN:VEVENT
DTSTART;TZID=Asia/Dubai:20261006T180000
DTEND;TZID=Asia/Dubai:20261006T210000
DTSTAMP:20260422T014306
CREATED:20260420T142602Z
LAST-MODIFIED:20260420T142602Z
UID:10031921-1791309600-1791320400@blabladubai.ae
SUMMARY:Table for Two | A Casa Restaurant
DESCRIPTION:Enjoy a curated 3-course menu designed for two\, paired with a bottle of wine\, all for AED249.\nThe perfect excuse to slow down\, settle in\, and make an evening of it. \nDaily | 6pm to 9pm\nT&C Apply
URL:https://blabladubai.ae/event/table-for-two-a-casa-restaurant/2026-10-06/
LOCATION:Bla Bla Dubai\, Dubai\, United Arab Emirates
CATEGORIES:Restaurant
ATTACH;FMTTYPE=image/png:https://blabladubai.ae/wp-content/uploads/2026/04/1.png
END:VEVENT
BEGIN:VEVENT
DTSTART;TZID=UTC:20261007T090000
DTEND;TZID=UTC:20261007T140000
DTSTAMP:20260422T014306
CREATED:20260326T125835Z
LAST-MODIFIED:20260408T162833Z
UID:10026806-1791363600-1791381600@blabladubai.ae
SUMMARY:Breakfast | A Casa Restaurant
DESCRIPTION:Start your day the right way at A Casa. \nOur extended breakfast menu is now available\, giving you more time to ease into the day with your favourites. \nDaily | 9am to 2pm \nA Casa Restaurant \n*T&Cs apply
URL:https://blabladubai.ae/event/breakfast-a-casa-restaurant/2026-10-07/
CATEGORIES:Restaurant
ATTACH;FMTTYPE=image/png:https://blabladubai.ae/wp-content/uploads/2026/03/breakfast.png
END:VEVENT
BEGIN:VEVENT
DTSTART;TZID=Asia/Dubai:20261007T180000
DTEND;TZID=Asia/Dubai:20261007T210000
DTSTAMP:20260422T014306
CREATED:20260420T142602Z
LAST-MODIFIED:20260420T142602Z
UID:10031922-1791396000-1791406800@blabladubai.ae
SUMMARY:Table for Two | A Casa Restaurant
DESCRIPTION:Enjoy a curated 3-course menu designed for two\, paired with a bottle of wine\, all for AED249.\nThe perfect excuse to slow down\, settle in\, and make an evening of it. \nDaily | 6pm to 9pm\nT&C Apply
URL:https://blabladubai.ae/event/table-for-two-a-casa-restaurant/2026-10-07/
LOCATION:Bla Bla Dubai\, Dubai\, United Arab Emirates
CATEGORIES:Restaurant
ATTACH;FMTTYPE=image/png:https://blabladubai.ae/wp-content/uploads/2026/04/1.png
END:VEVENT
BEGIN:VEVENT
DTSTART;TZID=UTC:20261008T090000
DTEND;TZID=UTC:20261008T140000
DTSTAMP:20260422T014306
CREATED:20260326T125835Z
LAST-MODIFIED:20260408T162833Z
UID:10026807-1791450000-1791468000@blabladubai.ae
SUMMARY:Breakfast | A Casa Restaurant
DESCRIPTION:Start your day the right way at A Casa. \nOur extended breakfast menu is now available\, giving you more time to ease into the day with your favourites. \nDaily | 9am to 2pm \nA Casa Restaurant \n*T&Cs apply
URL:https://blabladubai.ae/event/breakfast-a-casa-restaurant/2026-10-08/
CATEGORIES:Restaurant
ATTACH;FMTTYPE=image/png:https://blabladubai.ae/wp-content/uploads/2026/03/breakfast.png
END:VEVENT
BEGIN:VEVENT
DTSTART;TZID=Asia/Dubai:20261008T180000
DTEND;TZID=Asia/Dubai:20261008T210000
DTSTAMP:20260422T014306
CREATED:20260420T142602Z
LAST-MODIFIED:20260420T142602Z
UID:10031923-1791482400-1791493200@blabladubai.ae
SUMMARY:Table for Two | A Casa Restaurant
DESCRIPTION:Enjoy a curated 3-course menu designed for two\, paired with a bottle of wine\, all for AED249.\nThe perfect excuse to slow down\, settle in\, and make an evening of it. \nDaily | 6pm to 9pm\nT&C Apply
URL:https://blabladubai.ae/event/table-for-two-a-casa-restaurant/2026-10-08/
LOCATION:Bla Bla Dubai\, Dubai\, United Arab Emirates
CATEGORIES:Restaurant
ATTACH;FMTTYPE=image/png:https://blabladubai.ae/wp-content/uploads/2026/04/1.png
END:VEVENT
END:VCALENDAR