BEGIN:VCALENDAR
VERSION:2.0
PRODID:-//Bla Bla by McGettigan&#039;s - ECPv6.15.13//NONSGML v1.0//EN
CALSCALE:GREGORIAN
METHOD:PUBLISH
X-WR-CALNAME:Bla Bla by McGettigan&#039;s
X-ORIGINAL-URL:https://blabladubai.ae
X-WR-CALDESC:Events for Bla Bla by McGettigan&#039;s
REFRESH-INTERVAL;VALUE=DURATION:PT1H
X-Robots-Tag:noindex
X-PUBLISHED-TTL:PT1H
BEGIN:VTIMEZONE
TZID:UTC
BEGIN:STANDARD
TZOFFSETFROM:+0000
TZOFFSETTO:+0000
TZNAME:UTC
DTSTART:20250101T000000
END:STANDARD
END:VTIMEZONE
BEGIN:VTIMEZONE
TZID:Asia/Dubai
BEGIN:STANDARD
TZOFFSETFROM:+0400
TZOFFSETTO:+0400
TZNAME:+04
DTSTART:20250101T000000
END:STANDARD
END:VTIMEZONE
BEGIN:VEVENT
DTSTART;TZID=UTC:20260731T090000
DTEND;TZID=UTC:20260731T140000
DTSTAMP:20260421T173431
CREATED:20260326T125835Z
LAST-MODIFIED:20260408T162833Z
UID:10026738-1785488400-1785506400@blabladubai.ae
SUMMARY:Breakfast | A Casa Restaurant
DESCRIPTION:Start your day the right way at A Casa. \nOur extended breakfast menu is now available\, giving you more time to ease into the day with your favourites. \nDaily | 9am to 2pm \nA Casa Restaurant \n*T&Cs apply
URL:https://blabladubai.ae/event/breakfast-a-casa-restaurant/2026-07-31/
CATEGORIES:Restaurant
ATTACH;FMTTYPE=image/png:https://blabladubai.ae/wp-content/uploads/2026/03/breakfast.png
END:VEVENT
BEGIN:VEVENT
DTSTART;TZID=Asia/Dubai:20260731T180000
DTEND;TZID=Asia/Dubai:20260731T210000
DTSTAMP:20260421T173431
CREATED:20260420T142602Z
LAST-MODIFIED:20260420T142602Z
UID:10031854-1785520800-1785531600@blabladubai.ae
SUMMARY:Table for Two | A Casa Restaurant
DESCRIPTION:Enjoy a curated 3-course menu designed for two\, paired with a bottle of wine\, all for AED249.\nThe perfect excuse to slow down\, settle in\, and make an evening of it. \nDaily | 6pm to 9pm\nT&C Apply
URL:https://blabladubai.ae/event/table-for-two-a-casa-restaurant/2026-07-31/
LOCATION:Bla Bla Dubai\, Dubai\, United Arab Emirates
CATEGORIES:Restaurant
ATTACH;FMTTYPE=image/png:https://blabladubai.ae/wp-content/uploads/2026/04/1.png
END:VEVENT
BEGIN:VEVENT
DTSTART;TZID=UTC:20260801T090000
DTEND;TZID=UTC:20260801T140000
DTSTAMP:20260421T173431
CREATED:20260326T125835Z
LAST-MODIFIED:20260408T162833Z
UID:10026739-1785574800-1785592800@blabladubai.ae
SUMMARY:Breakfast | A Casa Restaurant
DESCRIPTION:Start your day the right way at A Casa. \nOur extended breakfast menu is now available\, giving you more time to ease into the day with your favourites. \nDaily | 9am to 2pm \nA Casa Restaurant \n*T&Cs apply
URL:https://blabladubai.ae/event/breakfast-a-casa-restaurant/2026-08-01/
CATEGORIES:Restaurant
ATTACH;FMTTYPE=image/png:https://blabladubai.ae/wp-content/uploads/2026/03/breakfast.png
END:VEVENT
BEGIN:VEVENT
DTSTART;TZID=Asia/Dubai:20260801T180000
DTEND;TZID=Asia/Dubai:20260801T210000
DTSTAMP:20260421T173431
CREATED:20260420T142602Z
LAST-MODIFIED:20260420T142602Z
UID:10031855-1785607200-1785618000@blabladubai.ae
SUMMARY:Table for Two | A Casa Restaurant
DESCRIPTION:Enjoy a curated 3-course menu designed for two\, paired with a bottle of wine\, all for AED249.\nThe perfect excuse to slow down\, settle in\, and make an evening of it. \nDaily | 6pm to 9pm\nT&C Apply
URL:https://blabladubai.ae/event/table-for-two-a-casa-restaurant/2026-08-01/
LOCATION:Bla Bla Dubai\, Dubai\, United Arab Emirates
CATEGORIES:Restaurant
ATTACH;FMTTYPE=image/png:https://blabladubai.ae/wp-content/uploads/2026/04/1.png
END:VEVENT
BEGIN:VEVENT
DTSTART;TZID=UTC:20260802T090000
DTEND;TZID=UTC:20260802T140000
DTSTAMP:20260421T173431
CREATED:20260326T125835Z
LAST-MODIFIED:20260408T162833Z
UID:10026740-1785661200-1785679200@blabladubai.ae
SUMMARY:Breakfast | A Casa Restaurant
DESCRIPTION:Start your day the right way at A Casa. \nOur extended breakfast menu is now available\, giving you more time to ease into the day with your favourites. \nDaily | 9am to 2pm \nA Casa Restaurant \n*T&Cs apply
URL:https://blabladubai.ae/event/breakfast-a-casa-restaurant/2026-08-02/
CATEGORIES:Restaurant
ATTACH;FMTTYPE=image/png:https://blabladubai.ae/wp-content/uploads/2026/03/breakfast.png
END:VEVENT
BEGIN:VEVENT
DTSTART;TZID=Asia/Dubai:20260802T120000
DTEND;TZID=Asia/Dubai:20260802T180000
DTSTAMP:20260421T173431
CREATED:20260404T143034Z
LAST-MODIFIED:20260405T164636Z
UID:10030857-1785672000-1785693600@blabladubai.ae
SUMMARY:Roast by the Coast | A Casa Restaurant
DESCRIPTION:Choose from a selection of classic roasts\,\neach served with all the right sides. \nADD-ON AED199 DRINKS PACKAGE\n2-hour unlimited house drinks from selected menu. \nA Casa Restaurant\nSundays | 12pm to 6pm\nT&Cs Apply
URL:https://blabladubai.ae/event/sunday-roast-a-casa-restaurant-2-2/2026-08-02/
LOCATION:Bla Bla Dubai\, Dubai\, United Arab Emirates
CATEGORIES:Restaurant
ATTACH;FMTTYPE=image/png:https://blabladubai.ae/wp-content/uploads/2024/09/sunday-roast.png
END:VEVENT
BEGIN:VEVENT
DTSTART;TZID=Asia/Dubai:20260802T180000
DTEND;TZID=Asia/Dubai:20260802T210000
DTSTAMP:20260421T173431
CREATED:20260420T142602Z
LAST-MODIFIED:20260420T142602Z
UID:10031856-1785693600-1785704400@blabladubai.ae
SUMMARY:Table for Two | A Casa Restaurant
DESCRIPTION:Enjoy a curated 3-course menu designed for two\, paired with a bottle of wine\, all for AED249.\nThe perfect excuse to slow down\, settle in\, and make an evening of it. \nDaily | 6pm to 9pm\nT&C Apply
URL:https://blabladubai.ae/event/table-for-two-a-casa-restaurant/2026-08-02/
LOCATION:Bla Bla Dubai\, Dubai\, United Arab Emirates
CATEGORIES:Restaurant
ATTACH;FMTTYPE=image/png:https://blabladubai.ae/wp-content/uploads/2026/04/1.png
END:VEVENT
BEGIN:VEVENT
DTSTART;TZID=UTC:20260803T090000
DTEND;TZID=UTC:20260803T140000
DTSTAMP:20260421T173431
CREATED:20260326T125835Z
LAST-MODIFIED:20260408T162833Z
UID:10026741-1785747600-1785765600@blabladubai.ae
SUMMARY:Breakfast | A Casa Restaurant
DESCRIPTION:Start your day the right way at A Casa. \nOur extended breakfast menu is now available\, giving you more time to ease into the day with your favourites. \nDaily | 9am to 2pm \nA Casa Restaurant \n*T&Cs apply
URL:https://blabladubai.ae/event/breakfast-a-casa-restaurant/2026-08-03/
CATEGORIES:Restaurant
ATTACH;FMTTYPE=image/png:https://blabladubai.ae/wp-content/uploads/2026/03/breakfast.png
END:VEVENT
BEGIN:VEVENT
DTSTART;TZID=Asia/Dubai:20260803T180000
DTEND;TZID=Asia/Dubai:20260803T210000
DTSTAMP:20260421T173431
CREATED:20260420T142602Z
LAST-MODIFIED:20260420T142602Z
UID:10031857-1785780000-1785790800@blabladubai.ae
SUMMARY:Table for Two | A Casa Restaurant
DESCRIPTION:Enjoy a curated 3-course menu designed for two\, paired with a bottle of wine\, all for AED249.\nThe perfect excuse to slow down\, settle in\, and make an evening of it. \nDaily | 6pm to 9pm\nT&C Apply
URL:https://blabladubai.ae/event/table-for-two-a-casa-restaurant/2026-08-03/
LOCATION:Bla Bla Dubai\, Dubai\, United Arab Emirates
CATEGORIES:Restaurant
ATTACH;FMTTYPE=image/png:https://blabladubai.ae/wp-content/uploads/2026/04/1.png
END:VEVENT
BEGIN:VEVENT
DTSTART;TZID=UTC:20260804T090000
DTEND;TZID=UTC:20260804T140000
DTSTAMP:20260421T173431
CREATED:20260326T125835Z
LAST-MODIFIED:20260408T162833Z
UID:10026742-1785834000-1785852000@blabladubai.ae
SUMMARY:Breakfast | A Casa Restaurant
DESCRIPTION:Start your day the right way at A Casa. \nOur extended breakfast menu is now available\, giving you more time to ease into the day with your favourites. \nDaily | 9am to 2pm \nA Casa Restaurant \n*T&Cs apply
URL:https://blabladubai.ae/event/breakfast-a-casa-restaurant/2026-08-04/
CATEGORIES:Restaurant
ATTACH;FMTTYPE=image/png:https://blabladubai.ae/wp-content/uploads/2026/03/breakfast.png
END:VEVENT
BEGIN:VEVENT
DTSTART;TZID=Asia/Dubai:20260804T180000
DTEND;TZID=Asia/Dubai:20260804T210000
DTSTAMP:20260421T173431
CREATED:20260420T142602Z
LAST-MODIFIED:20260420T142602Z
UID:10031858-1785866400-1785877200@blabladubai.ae
SUMMARY:Table for Two | A Casa Restaurant
DESCRIPTION:Enjoy a curated 3-course menu designed for two\, paired with a bottle of wine\, all for AED249.\nThe perfect excuse to slow down\, settle in\, and make an evening of it. \nDaily | 6pm to 9pm\nT&C Apply
URL:https://blabladubai.ae/event/table-for-two-a-casa-restaurant/2026-08-04/
LOCATION:Bla Bla Dubai\, Dubai\, United Arab Emirates
CATEGORIES:Restaurant
ATTACH;FMTTYPE=image/png:https://blabladubai.ae/wp-content/uploads/2026/04/1.png
END:VEVENT
BEGIN:VEVENT
DTSTART;TZID=UTC:20260805T090000
DTEND;TZID=UTC:20260805T140000
DTSTAMP:20260421T173431
CREATED:20260326T125835Z
LAST-MODIFIED:20260408T162833Z
UID:10026743-1785920400-1785938400@blabladubai.ae
SUMMARY:Breakfast | A Casa Restaurant
DESCRIPTION:Start your day the right way at A Casa. \nOur extended breakfast menu is now available\, giving you more time to ease into the day with your favourites. \nDaily | 9am to 2pm \nA Casa Restaurant \n*T&Cs apply
URL:https://blabladubai.ae/event/breakfast-a-casa-restaurant/2026-08-05/
CATEGORIES:Restaurant
ATTACH;FMTTYPE=image/png:https://blabladubai.ae/wp-content/uploads/2026/03/breakfast.png
END:VEVENT
BEGIN:VEVENT
DTSTART;TZID=Asia/Dubai:20260805T180000
DTEND;TZID=Asia/Dubai:20260805T210000
DTSTAMP:20260421T173431
CREATED:20260420T142602Z
LAST-MODIFIED:20260420T142602Z
UID:10031859-1785952800-1785963600@blabladubai.ae
SUMMARY:Table for Two | A Casa Restaurant
DESCRIPTION:Enjoy a curated 3-course menu designed for two\, paired with a bottle of wine\, all for AED249.\nThe perfect excuse to slow down\, settle in\, and make an evening of it. \nDaily | 6pm to 9pm\nT&C Apply
URL:https://blabladubai.ae/event/table-for-two-a-casa-restaurant/2026-08-05/
LOCATION:Bla Bla Dubai\, Dubai\, United Arab Emirates
CATEGORIES:Restaurant
ATTACH;FMTTYPE=image/png:https://blabladubai.ae/wp-content/uploads/2026/04/1.png
END:VEVENT
BEGIN:VEVENT
DTSTART;TZID=UTC:20260806T090000
DTEND;TZID=UTC:20260806T140000
DTSTAMP:20260421T173431
CREATED:20260326T125835Z
LAST-MODIFIED:20260408T162833Z
UID:10026744-1786006800-1786024800@blabladubai.ae
SUMMARY:Breakfast | A Casa Restaurant
DESCRIPTION:Start your day the right way at A Casa. \nOur extended breakfast menu is now available\, giving you more time to ease into the day with your favourites. \nDaily | 9am to 2pm \nA Casa Restaurant \n*T&Cs apply
URL:https://blabladubai.ae/event/breakfast-a-casa-restaurant/2026-08-06/
CATEGORIES:Restaurant
ATTACH;FMTTYPE=image/png:https://blabladubai.ae/wp-content/uploads/2026/03/breakfast.png
END:VEVENT
BEGIN:VEVENT
DTSTART;TZID=Asia/Dubai:20260806T180000
DTEND;TZID=Asia/Dubai:20260806T210000
DTSTAMP:20260421T173431
CREATED:20260420T142602Z
LAST-MODIFIED:20260420T142602Z
UID:10031860-1786039200-1786050000@blabladubai.ae
SUMMARY:Table for Two | A Casa Restaurant
DESCRIPTION:Enjoy a curated 3-course menu designed for two\, paired with a bottle of wine\, all for AED249.\nThe perfect excuse to slow down\, settle in\, and make an evening of it. \nDaily | 6pm to 9pm\nT&C Apply
URL:https://blabladubai.ae/event/table-for-two-a-casa-restaurant/2026-08-06/
LOCATION:Bla Bla Dubai\, Dubai\, United Arab Emirates
CATEGORIES:Restaurant
ATTACH;FMTTYPE=image/png:https://blabladubai.ae/wp-content/uploads/2026/04/1.png
END:VEVENT
BEGIN:VEVENT
DTSTART;TZID=UTC:20260807T090000
DTEND;TZID=UTC:20260807T140000
DTSTAMP:20260421T173431
CREATED:20260326T125835Z
LAST-MODIFIED:20260408T162833Z
UID:10026745-1786093200-1786111200@blabladubai.ae
SUMMARY:Breakfast | A Casa Restaurant
DESCRIPTION:Start your day the right way at A Casa. \nOur extended breakfast menu is now available\, giving you more time to ease into the day with your favourites. \nDaily | 9am to 2pm \nA Casa Restaurant \n*T&Cs apply
URL:https://blabladubai.ae/event/breakfast-a-casa-restaurant/2026-08-07/
CATEGORIES:Restaurant
ATTACH;FMTTYPE=image/png:https://blabladubai.ae/wp-content/uploads/2026/03/breakfast.png
END:VEVENT
BEGIN:VEVENT
DTSTART;TZID=Asia/Dubai:20260807T180000
DTEND;TZID=Asia/Dubai:20260807T210000
DTSTAMP:20260421T173431
CREATED:20260420T142602Z
LAST-MODIFIED:20260420T142602Z
UID:10031861-1786125600-1786136400@blabladubai.ae
SUMMARY:Table for Two | A Casa Restaurant
DESCRIPTION:Enjoy a curated 3-course menu designed for two\, paired with a bottle of wine\, all for AED249.\nThe perfect excuse to slow down\, settle in\, and make an evening of it. \nDaily | 6pm to 9pm\nT&C Apply
URL:https://blabladubai.ae/event/table-for-two-a-casa-restaurant/2026-08-07/
LOCATION:Bla Bla Dubai\, Dubai\, United Arab Emirates
CATEGORIES:Restaurant
ATTACH;FMTTYPE=image/png:https://blabladubai.ae/wp-content/uploads/2026/04/1.png
END:VEVENT
BEGIN:VEVENT
DTSTART;TZID=UTC:20260808T090000
DTEND;TZID=UTC:20260808T140000
DTSTAMP:20260421T173431
CREATED:20260326T125835Z
LAST-MODIFIED:20260408T162833Z
UID:10026746-1786179600-1786197600@blabladubai.ae
SUMMARY:Breakfast | A Casa Restaurant
DESCRIPTION:Start your day the right way at A Casa. \nOur extended breakfast menu is now available\, giving you more time to ease into the day with your favourites. \nDaily | 9am to 2pm \nA Casa Restaurant \n*T&Cs apply
URL:https://blabladubai.ae/event/breakfast-a-casa-restaurant/2026-08-08/
CATEGORIES:Restaurant
ATTACH;FMTTYPE=image/png:https://blabladubai.ae/wp-content/uploads/2026/03/breakfast.png
END:VEVENT
BEGIN:VEVENT
DTSTART;TZID=Asia/Dubai:20260808T180000
DTEND;TZID=Asia/Dubai:20260808T210000
DTSTAMP:20260421T173431
CREATED:20260420T142602Z
LAST-MODIFIED:20260420T142602Z
UID:10031862-1786212000-1786222800@blabladubai.ae
SUMMARY:Table for Two | A Casa Restaurant
DESCRIPTION:Enjoy a curated 3-course menu designed for two\, paired with a bottle of wine\, all for AED249.\nThe perfect excuse to slow down\, settle in\, and make an evening of it. \nDaily | 6pm to 9pm\nT&C Apply
URL:https://blabladubai.ae/event/table-for-two-a-casa-restaurant/2026-08-08/
LOCATION:Bla Bla Dubai\, Dubai\, United Arab Emirates
CATEGORIES:Restaurant
ATTACH;FMTTYPE=image/png:https://blabladubai.ae/wp-content/uploads/2026/04/1.png
END:VEVENT
BEGIN:VEVENT
DTSTART;TZID=UTC:20260809T090000
DTEND;TZID=UTC:20260809T140000
DTSTAMP:20260421T173431
CREATED:20260326T125835Z
LAST-MODIFIED:20260408T162833Z
UID:10026747-1786266000-1786284000@blabladubai.ae
SUMMARY:Breakfast | A Casa Restaurant
DESCRIPTION:Start your day the right way at A Casa. \nOur extended breakfast menu is now available\, giving you more time to ease into the day with your favourites. \nDaily | 9am to 2pm \nA Casa Restaurant \n*T&Cs apply
URL:https://blabladubai.ae/event/breakfast-a-casa-restaurant/2026-08-09/
CATEGORIES:Restaurant
ATTACH;FMTTYPE=image/png:https://blabladubai.ae/wp-content/uploads/2026/03/breakfast.png
END:VEVENT
BEGIN:VEVENT
DTSTART;TZID=Asia/Dubai:20260809T120000
DTEND;TZID=Asia/Dubai:20260809T180000
DTSTAMP:20260421T173431
CREATED:20260404T143034Z
LAST-MODIFIED:20260405T164636Z
UID:10030858-1786276800-1786298400@blabladubai.ae
SUMMARY:Roast by the Coast | A Casa Restaurant
DESCRIPTION:Choose from a selection of classic roasts\,\neach served with all the right sides. \nADD-ON AED199 DRINKS PACKAGE\n2-hour unlimited house drinks from selected menu. \nA Casa Restaurant\nSundays | 12pm to 6pm\nT&Cs Apply
URL:https://blabladubai.ae/event/sunday-roast-a-casa-restaurant-2-2/2026-08-09/
LOCATION:Bla Bla Dubai\, Dubai\, United Arab Emirates
CATEGORIES:Restaurant
ATTACH;FMTTYPE=image/png:https://blabladubai.ae/wp-content/uploads/2024/09/sunday-roast.png
END:VEVENT
BEGIN:VEVENT
DTSTART;TZID=Asia/Dubai:20260809T180000
DTEND;TZID=Asia/Dubai:20260809T210000
DTSTAMP:20260421T173431
CREATED:20260420T142602Z
LAST-MODIFIED:20260420T142602Z
UID:10031863-1786298400-1786309200@blabladubai.ae
SUMMARY:Table for Two | A Casa Restaurant
DESCRIPTION:Enjoy a curated 3-course menu designed for two\, paired with a bottle of wine\, all for AED249.\nThe perfect excuse to slow down\, settle in\, and make an evening of it. \nDaily | 6pm to 9pm\nT&C Apply
URL:https://blabladubai.ae/event/table-for-two-a-casa-restaurant/2026-08-09/
LOCATION:Bla Bla Dubai\, Dubai\, United Arab Emirates
CATEGORIES:Restaurant
ATTACH;FMTTYPE=image/png:https://blabladubai.ae/wp-content/uploads/2026/04/1.png
END:VEVENT
BEGIN:VEVENT
DTSTART;TZID=UTC:20260810T090000
DTEND;TZID=UTC:20260810T140000
DTSTAMP:20260421T173431
CREATED:20260326T125835Z
LAST-MODIFIED:20260408T162833Z
UID:10026748-1786352400-1786370400@blabladubai.ae
SUMMARY:Breakfast | A Casa Restaurant
DESCRIPTION:Start your day the right way at A Casa. \nOur extended breakfast menu is now available\, giving you more time to ease into the day with your favourites. \nDaily | 9am to 2pm \nA Casa Restaurant \n*T&Cs apply
URL:https://blabladubai.ae/event/breakfast-a-casa-restaurant/2026-08-10/
CATEGORIES:Restaurant
ATTACH;FMTTYPE=image/png:https://blabladubai.ae/wp-content/uploads/2026/03/breakfast.png
END:VEVENT
BEGIN:VEVENT
DTSTART;TZID=Asia/Dubai:20260810T180000
DTEND;TZID=Asia/Dubai:20260810T210000
DTSTAMP:20260421T173431
CREATED:20260420T142602Z
LAST-MODIFIED:20260420T142602Z
UID:10031864-1786384800-1786395600@blabladubai.ae
SUMMARY:Table for Two | A Casa Restaurant
DESCRIPTION:Enjoy a curated 3-course menu designed for two\, paired with a bottle of wine\, all for AED249.\nThe perfect excuse to slow down\, settle in\, and make an evening of it. \nDaily | 6pm to 9pm\nT&C Apply
URL:https://blabladubai.ae/event/table-for-two-a-casa-restaurant/2026-08-10/
LOCATION:Bla Bla Dubai\, Dubai\, United Arab Emirates
CATEGORIES:Restaurant
ATTACH;FMTTYPE=image/png:https://blabladubai.ae/wp-content/uploads/2026/04/1.png
END:VEVENT
BEGIN:VEVENT
DTSTART;TZID=UTC:20260811T090000
DTEND;TZID=UTC:20260811T140000
DTSTAMP:20260421T173431
CREATED:20260326T125835Z
LAST-MODIFIED:20260408T162833Z
UID:10026749-1786438800-1786456800@blabladubai.ae
SUMMARY:Breakfast | A Casa Restaurant
DESCRIPTION:Start your day the right way at A Casa. \nOur extended breakfast menu is now available\, giving you more time to ease into the day with your favourites. \nDaily | 9am to 2pm \nA Casa Restaurant \n*T&Cs apply
URL:https://blabladubai.ae/event/breakfast-a-casa-restaurant/2026-08-11/
CATEGORIES:Restaurant
ATTACH;FMTTYPE=image/png:https://blabladubai.ae/wp-content/uploads/2026/03/breakfast.png
END:VEVENT
BEGIN:VEVENT
DTSTART;TZID=Asia/Dubai:20260811T180000
DTEND;TZID=Asia/Dubai:20260811T210000
DTSTAMP:20260421T173431
CREATED:20260420T142602Z
LAST-MODIFIED:20260420T142602Z
UID:10031865-1786471200-1786482000@blabladubai.ae
SUMMARY:Table for Two | A Casa Restaurant
DESCRIPTION:Enjoy a curated 3-course menu designed for two\, paired with a bottle of wine\, all for AED249.\nThe perfect excuse to slow down\, settle in\, and make an evening of it. \nDaily | 6pm to 9pm\nT&C Apply
URL:https://blabladubai.ae/event/table-for-two-a-casa-restaurant/2026-08-11/
LOCATION:Bla Bla Dubai\, Dubai\, United Arab Emirates
CATEGORIES:Restaurant
ATTACH;FMTTYPE=image/png:https://blabladubai.ae/wp-content/uploads/2026/04/1.png
END:VEVENT
BEGIN:VEVENT
DTSTART;TZID=UTC:20260812T090000
DTEND;TZID=UTC:20260812T140000
DTSTAMP:20260421T173431
CREATED:20260326T125835Z
LAST-MODIFIED:20260408T162833Z
UID:10026750-1786525200-1786543200@blabladubai.ae
SUMMARY:Breakfast | A Casa Restaurant
DESCRIPTION:Start your day the right way at A Casa. \nOur extended breakfast menu is now available\, giving you more time to ease into the day with your favourites. \nDaily | 9am to 2pm \nA Casa Restaurant \n*T&Cs apply
URL:https://blabladubai.ae/event/breakfast-a-casa-restaurant/2026-08-12/
CATEGORIES:Restaurant
ATTACH;FMTTYPE=image/png:https://blabladubai.ae/wp-content/uploads/2026/03/breakfast.png
END:VEVENT
BEGIN:VEVENT
DTSTART;TZID=Asia/Dubai:20260812T180000
DTEND;TZID=Asia/Dubai:20260812T210000
DTSTAMP:20260421T173431
CREATED:20260420T142602Z
LAST-MODIFIED:20260420T142602Z
UID:10031866-1786557600-1786568400@blabladubai.ae
SUMMARY:Table for Two | A Casa Restaurant
DESCRIPTION:Enjoy a curated 3-course menu designed for two\, paired with a bottle of wine\, all for AED249.\nThe perfect excuse to slow down\, settle in\, and make an evening of it. \nDaily | 6pm to 9pm\nT&C Apply
URL:https://blabladubai.ae/event/table-for-two-a-casa-restaurant/2026-08-12/
LOCATION:Bla Bla Dubai\, Dubai\, United Arab Emirates
CATEGORIES:Restaurant
ATTACH;FMTTYPE=image/png:https://blabladubai.ae/wp-content/uploads/2026/04/1.png
END:VEVENT
BEGIN:VEVENT
DTSTART;TZID=UTC:20260813T090000
DTEND;TZID=UTC:20260813T140000
DTSTAMP:20260421T173431
CREATED:20260326T125835Z
LAST-MODIFIED:20260408T162833Z
UID:10026751-1786611600-1786629600@blabladubai.ae
SUMMARY:Breakfast | A Casa Restaurant
DESCRIPTION:Start your day the right way at A Casa. \nOur extended breakfast menu is now available\, giving you more time to ease into the day with your favourites. \nDaily | 9am to 2pm \nA Casa Restaurant \n*T&Cs apply
URL:https://blabladubai.ae/event/breakfast-a-casa-restaurant/2026-08-13/
CATEGORIES:Restaurant
ATTACH;FMTTYPE=image/png:https://blabladubai.ae/wp-content/uploads/2026/03/breakfast.png
END:VEVENT
BEGIN:VEVENT
DTSTART;TZID=Asia/Dubai:20260813T180000
DTEND;TZID=Asia/Dubai:20260813T210000
DTSTAMP:20260421T173431
CREATED:20260420T142602Z
LAST-MODIFIED:20260420T142602Z
UID:10031867-1786644000-1786654800@blabladubai.ae
SUMMARY:Table for Two | A Casa Restaurant
DESCRIPTION:Enjoy a curated 3-course menu designed for two\, paired with a bottle of wine\, all for AED249.\nThe perfect excuse to slow down\, settle in\, and make an evening of it. \nDaily | 6pm to 9pm\nT&C Apply
URL:https://blabladubai.ae/event/table-for-two-a-casa-restaurant/2026-08-13/
LOCATION:Bla Bla Dubai\, Dubai\, United Arab Emirates
CATEGORIES:Restaurant
ATTACH;FMTTYPE=image/png:https://blabladubai.ae/wp-content/uploads/2026/04/1.png
END:VEVENT
END:VCALENDAR