BEGIN:VCALENDAR
VERSION:2.0
PRODID:-//Bla Bla by McGettigan&#039;s - ECPv6.15.13//NONSGML v1.0//EN
CALSCALE:GREGORIAN
METHOD:PUBLISH
X-WR-CALNAME:Bla Bla by McGettigan&#039;s
X-ORIGINAL-URL:https://blabladubai.ae
X-WR-CALDESC:Events for Bla Bla by McGettigan&#039;s
REFRESH-INTERVAL;VALUE=DURATION:PT1H
X-Robots-Tag:noindex
X-PUBLISHED-TTL:PT1H
BEGIN:VTIMEZONE
TZID:UTC
BEGIN:STANDARD
TZOFFSETFROM:+0000
TZOFFSETTO:+0000
TZNAME:UTC
DTSTART:20250101T000000
END:STANDARD
END:VTIMEZONE
BEGIN:VTIMEZONE
TZID:Asia/Dubai
BEGIN:STANDARD
TZOFFSETFROM:+0400
TZOFFSETTO:+0400
TZNAME:+04
DTSTART:20250101T000000
END:STANDARD
END:VTIMEZONE
BEGIN:VEVENT
DTSTART;TZID=UTC:20260619T090000
DTEND;TZID=UTC:20260619T140000
DTSTAMP:20260421T034219
CREATED:20260326T125835Z
LAST-MODIFIED:20260408T162833Z
UID:10026696-1781859600-1781877600@blabladubai.ae
SUMMARY:Breakfast | A Casa Restaurant
DESCRIPTION:Start your day the right way at A Casa. \nOur extended breakfast menu is now available\, giving you more time to ease into the day with your favourites. \nDaily | 9am to 2pm \nA Casa Restaurant \n*T&Cs apply
URL:https://blabladubai.ae/event/breakfast-a-casa-restaurant/2026-06-19/
CATEGORIES:Restaurant
ATTACH;FMTTYPE=image/png:https://blabladubai.ae/wp-content/uploads/2026/03/breakfast.png
END:VEVENT
BEGIN:VEVENT
DTSTART;TZID=Asia/Dubai:20260619T180000
DTEND;TZID=Asia/Dubai:20260619T210000
DTSTAMP:20260421T034219
CREATED:20260420T142602Z
LAST-MODIFIED:20260420T142602Z
UID:10031812-1781892000-1781902800@blabladubai.ae
SUMMARY:Table for Two | A Casa Restaurant
DESCRIPTION:Enjoy a curated 3-course menu designed for two\, paired with a bottle of wine\, all for AED249.\nThe perfect excuse to slow down\, settle in\, and make an evening of it. \nDaily | 6pm to 9pm\nT&C Apply
URL:https://blabladubai.ae/event/table-for-two-a-casa-restaurant/2026-06-19/
LOCATION:Bla Bla Dubai\, Dubai\, United Arab Emirates
CATEGORIES:Restaurant
ATTACH;FMTTYPE=image/png:https://blabladubai.ae/wp-content/uploads/2026/04/1.png
END:VEVENT
BEGIN:VEVENT
DTSTART;TZID=UTC:20260620T090000
DTEND;TZID=UTC:20260620T140000
DTSTAMP:20260421T034219
CREATED:20260326T125835Z
LAST-MODIFIED:20260408T162833Z
UID:10026697-1781946000-1781964000@blabladubai.ae
SUMMARY:Breakfast | A Casa Restaurant
DESCRIPTION:Start your day the right way at A Casa. \nOur extended breakfast menu is now available\, giving you more time to ease into the day with your favourites. \nDaily | 9am to 2pm \nA Casa Restaurant \n*T&Cs apply
URL:https://blabladubai.ae/event/breakfast-a-casa-restaurant/2026-06-20/
CATEGORIES:Restaurant
ATTACH;FMTTYPE=image/png:https://blabladubai.ae/wp-content/uploads/2026/03/breakfast.png
END:VEVENT
BEGIN:VEVENT
DTSTART;TZID=Asia/Dubai:20260620T180000
DTEND;TZID=Asia/Dubai:20260620T210000
DTSTAMP:20260421T034219
CREATED:20260420T142602Z
LAST-MODIFIED:20260420T142602Z
UID:10031813-1781978400-1781989200@blabladubai.ae
SUMMARY:Table for Two | A Casa Restaurant
DESCRIPTION:Enjoy a curated 3-course menu designed for two\, paired with a bottle of wine\, all for AED249.\nThe perfect excuse to slow down\, settle in\, and make an evening of it. \nDaily | 6pm to 9pm\nT&C Apply
URL:https://blabladubai.ae/event/table-for-two-a-casa-restaurant/2026-06-20/
LOCATION:Bla Bla Dubai\, Dubai\, United Arab Emirates
CATEGORIES:Restaurant
ATTACH;FMTTYPE=image/png:https://blabladubai.ae/wp-content/uploads/2026/04/1.png
END:VEVENT
BEGIN:VEVENT
DTSTART;TZID=UTC:20260621T090000
DTEND;TZID=UTC:20260621T140000
DTSTAMP:20260421T034219
CREATED:20260326T125835Z
LAST-MODIFIED:20260408T162833Z
UID:10026698-1782032400-1782050400@blabladubai.ae
SUMMARY:Breakfast | A Casa Restaurant
DESCRIPTION:Start your day the right way at A Casa. \nOur extended breakfast menu is now available\, giving you more time to ease into the day with your favourites. \nDaily | 9am to 2pm \nA Casa Restaurant \n*T&Cs apply
URL:https://blabladubai.ae/event/breakfast-a-casa-restaurant/2026-06-21/
CATEGORIES:Restaurant
ATTACH;FMTTYPE=image/png:https://blabladubai.ae/wp-content/uploads/2026/03/breakfast.png
END:VEVENT
BEGIN:VEVENT
DTSTART;TZID=Asia/Dubai:20260621T120000
DTEND;TZID=Asia/Dubai:20260621T180000
DTSTAMP:20260421T034219
CREATED:20260404T143034Z
LAST-MODIFIED:20260405T164636Z
UID:10030851-1782043200-1782064800@blabladubai.ae
SUMMARY:Roast by the Coast | A Casa Restaurant
DESCRIPTION:Choose from a selection of classic roasts\,\neach served with all the right sides. \nADD-ON AED199 DRINKS PACKAGE\n2-hour unlimited house drinks from selected menu. \nA Casa Restaurant\nSundays | 12pm to 6pm\nT&Cs Apply
URL:https://blabladubai.ae/event/sunday-roast-a-casa-restaurant-2-2/2026-06-21/
LOCATION:Bla Bla Dubai\, Dubai\, United Arab Emirates
CATEGORIES:Restaurant
ATTACH;FMTTYPE=image/png:https://blabladubai.ae/wp-content/uploads/2024/09/sunday-roast.png
END:VEVENT
BEGIN:VEVENT
DTSTART;TZID=Asia/Dubai:20260621T180000
DTEND;TZID=Asia/Dubai:20260621T210000
DTSTAMP:20260421T034219
CREATED:20260420T142602Z
LAST-MODIFIED:20260420T142602Z
UID:10031814-1782064800-1782075600@blabladubai.ae
SUMMARY:Table for Two | A Casa Restaurant
DESCRIPTION:Enjoy a curated 3-course menu designed for two\, paired with a bottle of wine\, all for AED249.\nThe perfect excuse to slow down\, settle in\, and make an evening of it. \nDaily | 6pm to 9pm\nT&C Apply
URL:https://blabladubai.ae/event/table-for-two-a-casa-restaurant/2026-06-21/
LOCATION:Bla Bla Dubai\, Dubai\, United Arab Emirates
CATEGORIES:Restaurant
ATTACH;FMTTYPE=image/png:https://blabladubai.ae/wp-content/uploads/2026/04/1.png
END:VEVENT
BEGIN:VEVENT
DTSTART;TZID=UTC:20260622T090000
DTEND;TZID=UTC:20260622T140000
DTSTAMP:20260421T034219
CREATED:20260326T125835Z
LAST-MODIFIED:20260408T162833Z
UID:10026699-1782118800-1782136800@blabladubai.ae
SUMMARY:Breakfast | A Casa Restaurant
DESCRIPTION:Start your day the right way at A Casa. \nOur extended breakfast menu is now available\, giving you more time to ease into the day with your favourites. \nDaily | 9am to 2pm \nA Casa Restaurant \n*T&Cs apply
URL:https://blabladubai.ae/event/breakfast-a-casa-restaurant/2026-06-22/
CATEGORIES:Restaurant
ATTACH;FMTTYPE=image/png:https://blabladubai.ae/wp-content/uploads/2026/03/breakfast.png
END:VEVENT
BEGIN:VEVENT
DTSTART;TZID=Asia/Dubai:20260622T180000
DTEND;TZID=Asia/Dubai:20260622T210000
DTSTAMP:20260421T034219
CREATED:20260420T142602Z
LAST-MODIFIED:20260420T142602Z
UID:10031815-1782151200-1782162000@blabladubai.ae
SUMMARY:Table for Two | A Casa Restaurant
DESCRIPTION:Enjoy a curated 3-course menu designed for two\, paired with a bottle of wine\, all for AED249.\nThe perfect excuse to slow down\, settle in\, and make an evening of it. \nDaily | 6pm to 9pm\nT&C Apply
URL:https://blabladubai.ae/event/table-for-two-a-casa-restaurant/2026-06-22/
LOCATION:Bla Bla Dubai\, Dubai\, United Arab Emirates
CATEGORIES:Restaurant
ATTACH;FMTTYPE=image/png:https://blabladubai.ae/wp-content/uploads/2026/04/1.png
END:VEVENT
BEGIN:VEVENT
DTSTART;TZID=UTC:20260623T090000
DTEND;TZID=UTC:20260623T140000
DTSTAMP:20260421T034219
CREATED:20260326T125835Z
LAST-MODIFIED:20260408T162833Z
UID:10026700-1782205200-1782223200@blabladubai.ae
SUMMARY:Breakfast | A Casa Restaurant
DESCRIPTION:Start your day the right way at A Casa. \nOur extended breakfast menu is now available\, giving you more time to ease into the day with your favourites. \nDaily | 9am to 2pm \nA Casa Restaurant \n*T&Cs apply
URL:https://blabladubai.ae/event/breakfast-a-casa-restaurant/2026-06-23/
CATEGORIES:Restaurant
ATTACH;FMTTYPE=image/png:https://blabladubai.ae/wp-content/uploads/2026/03/breakfast.png
END:VEVENT
BEGIN:VEVENT
DTSTART;TZID=Asia/Dubai:20260623T180000
DTEND;TZID=Asia/Dubai:20260623T210000
DTSTAMP:20260421T034219
CREATED:20260420T142602Z
LAST-MODIFIED:20260420T142602Z
UID:10031816-1782237600-1782248400@blabladubai.ae
SUMMARY:Table for Two | A Casa Restaurant
DESCRIPTION:Enjoy a curated 3-course menu designed for two\, paired with a bottle of wine\, all for AED249.\nThe perfect excuse to slow down\, settle in\, and make an evening of it. \nDaily | 6pm to 9pm\nT&C Apply
URL:https://blabladubai.ae/event/table-for-two-a-casa-restaurant/2026-06-23/
LOCATION:Bla Bla Dubai\, Dubai\, United Arab Emirates
CATEGORIES:Restaurant
ATTACH;FMTTYPE=image/png:https://blabladubai.ae/wp-content/uploads/2026/04/1.png
END:VEVENT
BEGIN:VEVENT
DTSTART;TZID=UTC:20260624T090000
DTEND;TZID=UTC:20260624T140000
DTSTAMP:20260421T034219
CREATED:20260326T125835Z
LAST-MODIFIED:20260408T162833Z
UID:10026701-1782291600-1782309600@blabladubai.ae
SUMMARY:Breakfast | A Casa Restaurant
DESCRIPTION:Start your day the right way at A Casa. \nOur extended breakfast menu is now available\, giving you more time to ease into the day with your favourites. \nDaily | 9am to 2pm \nA Casa Restaurant \n*T&Cs apply
URL:https://blabladubai.ae/event/breakfast-a-casa-restaurant/2026-06-24/
CATEGORIES:Restaurant
ATTACH;FMTTYPE=image/png:https://blabladubai.ae/wp-content/uploads/2026/03/breakfast.png
END:VEVENT
BEGIN:VEVENT
DTSTART;TZID=Asia/Dubai:20260624T180000
DTEND;TZID=Asia/Dubai:20260624T210000
DTSTAMP:20260421T034219
CREATED:20260420T142602Z
LAST-MODIFIED:20260420T142602Z
UID:10031817-1782324000-1782334800@blabladubai.ae
SUMMARY:Table for Two | A Casa Restaurant
DESCRIPTION:Enjoy a curated 3-course menu designed for two\, paired with a bottle of wine\, all for AED249.\nThe perfect excuse to slow down\, settle in\, and make an evening of it. \nDaily | 6pm to 9pm\nT&C Apply
URL:https://blabladubai.ae/event/table-for-two-a-casa-restaurant/2026-06-24/
LOCATION:Bla Bla Dubai\, Dubai\, United Arab Emirates
CATEGORIES:Restaurant
ATTACH;FMTTYPE=image/png:https://blabladubai.ae/wp-content/uploads/2026/04/1.png
END:VEVENT
BEGIN:VEVENT
DTSTART;TZID=UTC:20260625T090000
DTEND;TZID=UTC:20260625T140000
DTSTAMP:20260421T034219
CREATED:20260326T125835Z
LAST-MODIFIED:20260408T162833Z
UID:10026702-1782378000-1782396000@blabladubai.ae
SUMMARY:Breakfast | A Casa Restaurant
DESCRIPTION:Start your day the right way at A Casa. \nOur extended breakfast menu is now available\, giving you more time to ease into the day with your favourites. \nDaily | 9am to 2pm \nA Casa Restaurant \n*T&Cs apply
URL:https://blabladubai.ae/event/breakfast-a-casa-restaurant/2026-06-25/
CATEGORIES:Restaurant
ATTACH;FMTTYPE=image/png:https://blabladubai.ae/wp-content/uploads/2026/03/breakfast.png
END:VEVENT
BEGIN:VEVENT
DTSTART;TZID=Asia/Dubai:20260625T180000
DTEND;TZID=Asia/Dubai:20260625T210000
DTSTAMP:20260421T034219
CREATED:20260420T142602Z
LAST-MODIFIED:20260420T142602Z
UID:10031818-1782410400-1782421200@blabladubai.ae
SUMMARY:Table for Two | A Casa Restaurant
DESCRIPTION:Enjoy a curated 3-course menu designed for two\, paired with a bottle of wine\, all for AED249.\nThe perfect excuse to slow down\, settle in\, and make an evening of it. \nDaily | 6pm to 9pm\nT&C Apply
URL:https://blabladubai.ae/event/table-for-two-a-casa-restaurant/2026-06-25/
LOCATION:Bla Bla Dubai\, Dubai\, United Arab Emirates
CATEGORIES:Restaurant
ATTACH;FMTTYPE=image/png:https://blabladubai.ae/wp-content/uploads/2026/04/1.png
END:VEVENT
BEGIN:VEVENT
DTSTART;TZID=UTC:20260626T090000
DTEND;TZID=UTC:20260626T140000
DTSTAMP:20260421T034219
CREATED:20260326T125835Z
LAST-MODIFIED:20260408T162833Z
UID:10026703-1782464400-1782482400@blabladubai.ae
SUMMARY:Breakfast | A Casa Restaurant
DESCRIPTION:Start your day the right way at A Casa. \nOur extended breakfast menu is now available\, giving you more time to ease into the day with your favourites. \nDaily | 9am to 2pm \nA Casa Restaurant \n*T&Cs apply
URL:https://blabladubai.ae/event/breakfast-a-casa-restaurant/2026-06-26/
CATEGORIES:Restaurant
ATTACH;FMTTYPE=image/png:https://blabladubai.ae/wp-content/uploads/2026/03/breakfast.png
END:VEVENT
BEGIN:VEVENT
DTSTART;TZID=Asia/Dubai:20260626T180000
DTEND;TZID=Asia/Dubai:20260626T210000
DTSTAMP:20260421T034219
CREATED:20260420T142602Z
LAST-MODIFIED:20260420T142602Z
UID:10031819-1782496800-1782507600@blabladubai.ae
SUMMARY:Table for Two | A Casa Restaurant
DESCRIPTION:Enjoy a curated 3-course menu designed for two\, paired with a bottle of wine\, all for AED249.\nThe perfect excuse to slow down\, settle in\, and make an evening of it. \nDaily | 6pm to 9pm\nT&C Apply
URL:https://blabladubai.ae/event/table-for-two-a-casa-restaurant/2026-06-26/
LOCATION:Bla Bla Dubai\, Dubai\, United Arab Emirates
CATEGORIES:Restaurant
ATTACH;FMTTYPE=image/png:https://blabladubai.ae/wp-content/uploads/2026/04/1.png
END:VEVENT
BEGIN:VEVENT
DTSTART;TZID=UTC:20260627T090000
DTEND;TZID=UTC:20260627T140000
DTSTAMP:20260421T034219
CREATED:20260326T125835Z
LAST-MODIFIED:20260408T162833Z
UID:10026704-1782550800-1782568800@blabladubai.ae
SUMMARY:Breakfast | A Casa Restaurant
DESCRIPTION:Start your day the right way at A Casa. \nOur extended breakfast menu is now available\, giving you more time to ease into the day with your favourites. \nDaily | 9am to 2pm \nA Casa Restaurant \n*T&Cs apply
URL:https://blabladubai.ae/event/breakfast-a-casa-restaurant/2026-06-27/
CATEGORIES:Restaurant
ATTACH;FMTTYPE=image/png:https://blabladubai.ae/wp-content/uploads/2026/03/breakfast.png
END:VEVENT
BEGIN:VEVENT
DTSTART;TZID=Asia/Dubai:20260627T180000
DTEND;TZID=Asia/Dubai:20260627T210000
DTSTAMP:20260421T034219
CREATED:20260420T142602Z
LAST-MODIFIED:20260420T142602Z
UID:10031820-1782583200-1782594000@blabladubai.ae
SUMMARY:Table for Two | A Casa Restaurant
DESCRIPTION:Enjoy a curated 3-course menu designed for two\, paired with a bottle of wine\, all for AED249.\nThe perfect excuse to slow down\, settle in\, and make an evening of it. \nDaily | 6pm to 9pm\nT&C Apply
URL:https://blabladubai.ae/event/table-for-two-a-casa-restaurant/2026-06-27/
LOCATION:Bla Bla Dubai\, Dubai\, United Arab Emirates
CATEGORIES:Restaurant
ATTACH;FMTTYPE=image/png:https://blabladubai.ae/wp-content/uploads/2026/04/1.png
END:VEVENT
BEGIN:VEVENT
DTSTART;TZID=UTC:20260628T090000
DTEND;TZID=UTC:20260628T140000
DTSTAMP:20260421T034219
CREATED:20260326T125835Z
LAST-MODIFIED:20260408T162833Z
UID:10026705-1782637200-1782655200@blabladubai.ae
SUMMARY:Breakfast | A Casa Restaurant
DESCRIPTION:Start your day the right way at A Casa. \nOur extended breakfast menu is now available\, giving you more time to ease into the day with your favourites. \nDaily | 9am to 2pm \nA Casa Restaurant \n*T&Cs apply
URL:https://blabladubai.ae/event/breakfast-a-casa-restaurant/2026-06-28/
CATEGORIES:Restaurant
ATTACH;FMTTYPE=image/png:https://blabladubai.ae/wp-content/uploads/2026/03/breakfast.png
END:VEVENT
BEGIN:VEVENT
DTSTART;TZID=Asia/Dubai:20260628T120000
DTEND;TZID=Asia/Dubai:20260628T180000
DTSTAMP:20260421T034219
CREATED:20260404T143034Z
LAST-MODIFIED:20260405T164636Z
UID:10030852-1782648000-1782669600@blabladubai.ae
SUMMARY:Roast by the Coast | A Casa Restaurant
DESCRIPTION:Choose from a selection of classic roasts\,\neach served with all the right sides. \nADD-ON AED199 DRINKS PACKAGE\n2-hour unlimited house drinks from selected menu. \nA Casa Restaurant\nSundays | 12pm to 6pm\nT&Cs Apply
URL:https://blabladubai.ae/event/sunday-roast-a-casa-restaurant-2-2/2026-06-28/
LOCATION:Bla Bla Dubai\, Dubai\, United Arab Emirates
CATEGORIES:Restaurant
ATTACH;FMTTYPE=image/png:https://blabladubai.ae/wp-content/uploads/2024/09/sunday-roast.png
END:VEVENT
BEGIN:VEVENT
DTSTART;TZID=Asia/Dubai:20260628T180000
DTEND;TZID=Asia/Dubai:20260628T210000
DTSTAMP:20260421T034219
CREATED:20260420T142602Z
LAST-MODIFIED:20260420T142602Z
UID:10031821-1782669600-1782680400@blabladubai.ae
SUMMARY:Table for Two | A Casa Restaurant
DESCRIPTION:Enjoy a curated 3-course menu designed for two\, paired with a bottle of wine\, all for AED249.\nThe perfect excuse to slow down\, settle in\, and make an evening of it. \nDaily | 6pm to 9pm\nT&C Apply
URL:https://blabladubai.ae/event/table-for-two-a-casa-restaurant/2026-06-28/
LOCATION:Bla Bla Dubai\, Dubai\, United Arab Emirates
CATEGORIES:Restaurant
ATTACH;FMTTYPE=image/png:https://blabladubai.ae/wp-content/uploads/2026/04/1.png
END:VEVENT
BEGIN:VEVENT
DTSTART;TZID=UTC:20260629T090000
DTEND;TZID=UTC:20260629T140000
DTSTAMP:20260421T034219
CREATED:20260326T125835Z
LAST-MODIFIED:20260408T162833Z
UID:10026706-1782723600-1782741600@blabladubai.ae
SUMMARY:Breakfast | A Casa Restaurant
DESCRIPTION:Start your day the right way at A Casa. \nOur extended breakfast menu is now available\, giving you more time to ease into the day with your favourites. \nDaily | 9am to 2pm \nA Casa Restaurant \n*T&Cs apply
URL:https://blabladubai.ae/event/breakfast-a-casa-restaurant/2026-06-29/
CATEGORIES:Restaurant
ATTACH;FMTTYPE=image/png:https://blabladubai.ae/wp-content/uploads/2026/03/breakfast.png
END:VEVENT
BEGIN:VEVENT
DTSTART;TZID=Asia/Dubai:20260629T180000
DTEND;TZID=Asia/Dubai:20260629T210000
DTSTAMP:20260421T034219
CREATED:20260420T142602Z
LAST-MODIFIED:20260420T142602Z
UID:10031822-1782756000-1782766800@blabladubai.ae
SUMMARY:Table for Two | A Casa Restaurant
DESCRIPTION:Enjoy a curated 3-course menu designed for two\, paired with a bottle of wine\, all for AED249.\nThe perfect excuse to slow down\, settle in\, and make an evening of it. \nDaily | 6pm to 9pm\nT&C Apply
URL:https://blabladubai.ae/event/table-for-two-a-casa-restaurant/2026-06-29/
LOCATION:Bla Bla Dubai\, Dubai\, United Arab Emirates
CATEGORIES:Restaurant
ATTACH;FMTTYPE=image/png:https://blabladubai.ae/wp-content/uploads/2026/04/1.png
END:VEVENT
BEGIN:VEVENT
DTSTART;TZID=UTC:20260630T090000
DTEND;TZID=UTC:20260630T140000
DTSTAMP:20260421T034219
CREATED:20260326T125835Z
LAST-MODIFIED:20260408T162833Z
UID:10026707-1782810000-1782828000@blabladubai.ae
SUMMARY:Breakfast | A Casa Restaurant
DESCRIPTION:Start your day the right way at A Casa. \nOur extended breakfast menu is now available\, giving you more time to ease into the day with your favourites. \nDaily | 9am to 2pm \nA Casa Restaurant \n*T&Cs apply
URL:https://blabladubai.ae/event/breakfast-a-casa-restaurant/2026-06-30/
CATEGORIES:Restaurant
ATTACH;FMTTYPE=image/png:https://blabladubai.ae/wp-content/uploads/2026/03/breakfast.png
END:VEVENT
BEGIN:VEVENT
DTSTART;TZID=Asia/Dubai:20260630T180000
DTEND;TZID=Asia/Dubai:20260630T210000
DTSTAMP:20260421T034219
CREATED:20260420T142602Z
LAST-MODIFIED:20260420T142602Z
UID:10031823-1782842400-1782853200@blabladubai.ae
SUMMARY:Table for Two | A Casa Restaurant
DESCRIPTION:Enjoy a curated 3-course menu designed for two\, paired with a bottle of wine\, all for AED249.\nThe perfect excuse to slow down\, settle in\, and make an evening of it. \nDaily | 6pm to 9pm\nT&C Apply
URL:https://blabladubai.ae/event/table-for-two-a-casa-restaurant/2026-06-30/
LOCATION:Bla Bla Dubai\, Dubai\, United Arab Emirates
CATEGORIES:Restaurant
ATTACH;FMTTYPE=image/png:https://blabladubai.ae/wp-content/uploads/2026/04/1.png
END:VEVENT
BEGIN:VEVENT
DTSTART;TZID=UTC:20260701T090000
DTEND;TZID=UTC:20260701T140000
DTSTAMP:20260421T034219
CREATED:20260326T125835Z
LAST-MODIFIED:20260408T162833Z
UID:10026708-1782896400-1782914400@blabladubai.ae
SUMMARY:Breakfast | A Casa Restaurant
DESCRIPTION:Start your day the right way at A Casa. \nOur extended breakfast menu is now available\, giving you more time to ease into the day with your favourites. \nDaily | 9am to 2pm \nA Casa Restaurant \n*T&Cs apply
URL:https://blabladubai.ae/event/breakfast-a-casa-restaurant/2026-07-01/
CATEGORIES:Restaurant
ATTACH;FMTTYPE=image/png:https://blabladubai.ae/wp-content/uploads/2026/03/breakfast.png
END:VEVENT
BEGIN:VEVENT
DTSTART;TZID=Asia/Dubai:20260701T180000
DTEND;TZID=Asia/Dubai:20260701T210000
DTSTAMP:20260421T034219
CREATED:20260420T142602Z
LAST-MODIFIED:20260420T142602Z
UID:10031824-1782928800-1782939600@blabladubai.ae
SUMMARY:Table for Two | A Casa Restaurant
DESCRIPTION:Enjoy a curated 3-course menu designed for two\, paired with a bottle of wine\, all for AED249.\nThe perfect excuse to slow down\, settle in\, and make an evening of it. \nDaily | 6pm to 9pm\nT&C Apply
URL:https://blabladubai.ae/event/table-for-two-a-casa-restaurant/2026-07-01/
LOCATION:Bla Bla Dubai\, Dubai\, United Arab Emirates
CATEGORIES:Restaurant
ATTACH;FMTTYPE=image/png:https://blabladubai.ae/wp-content/uploads/2026/04/1.png
END:VEVENT
BEGIN:VEVENT
DTSTART;TZID=UTC:20260702T090000
DTEND;TZID=UTC:20260702T140000
DTSTAMP:20260421T034219
CREATED:20260326T125835Z
LAST-MODIFIED:20260408T162833Z
UID:10026709-1782982800-1783000800@blabladubai.ae
SUMMARY:Breakfast | A Casa Restaurant
DESCRIPTION:Start your day the right way at A Casa. \nOur extended breakfast menu is now available\, giving you more time to ease into the day with your favourites. \nDaily | 9am to 2pm \nA Casa Restaurant \n*T&Cs apply
URL:https://blabladubai.ae/event/breakfast-a-casa-restaurant/2026-07-02/
CATEGORIES:Restaurant
ATTACH;FMTTYPE=image/png:https://blabladubai.ae/wp-content/uploads/2026/03/breakfast.png
END:VEVENT
BEGIN:VEVENT
DTSTART;TZID=Asia/Dubai:20260702T180000
DTEND;TZID=Asia/Dubai:20260702T210000
DTSTAMP:20260421T034219
CREATED:20260420T142602Z
LAST-MODIFIED:20260420T142602Z
UID:10031825-1783015200-1783026000@blabladubai.ae
SUMMARY:Table for Two | A Casa Restaurant
DESCRIPTION:Enjoy a curated 3-course menu designed for two\, paired with a bottle of wine\, all for AED249.\nThe perfect excuse to slow down\, settle in\, and make an evening of it. \nDaily | 6pm to 9pm\nT&C Apply
URL:https://blabladubai.ae/event/table-for-two-a-casa-restaurant/2026-07-02/
LOCATION:Bla Bla Dubai\, Dubai\, United Arab Emirates
CATEGORIES:Restaurant
ATTACH;FMTTYPE=image/png:https://blabladubai.ae/wp-content/uploads/2026/04/1.png
END:VEVENT
END:VCALENDAR