BEGIN:VCALENDAR
VERSION:2.0
PRODID:-//Bla Bla by McGettigan&#039;s - ECPv6.15.13//NONSGML v1.0//EN
CALSCALE:GREGORIAN
METHOD:PUBLISH
X-ORIGINAL-URL:https://blabladubai.ae
X-WR-CALDESC:Events for Bla Bla by McGettigan&#039;s
REFRESH-INTERVAL;VALUE=DURATION:PT1H
X-Robots-Tag:noindex
X-PUBLISHED-TTL:PT1H
BEGIN:VTIMEZONE
TZID:UTC
BEGIN:STANDARD
TZOFFSETFROM:+0000
TZOFFSETTO:+0000
TZNAME:UTC
DTSTART:20230101T000000
END:STANDARD
END:VTIMEZONE
BEGIN:VEVENT
DTSTART;TZID=UTC:20240917T180000
DTEND;TZID=UTC:20240917T220000
DTSTAMP:20260420T110117
CREATED:20240911T092557Z
LAST-MODIFIED:20250619T113149Z
UID:10000277-1726596000-1726610400@blabladubai.ae
SUMMARY:Ladies Night Dinner
DESCRIPTION:Ladies…join us for ladies’ night at A CASA by Bla Bla every Tuesday! \n\nAED 165 pp. for a 3-course set menu and 3 drinks\nor\nAED 195 pp. for the sparkling upgrade\n\nSEE MENU \nBla Bla Dubai:\n☎️ +971 4 584 4111 (Call)\n📱 +971 58 606 3535 (WhatsApp)\n📧 reserve@blabladubai.ae\n📍The Beach\, JBR\n🚫 Strictly 21 and over
URL:https://blabladubai.ae/event/ladies-night-dinner-2/
LOCATION:Bla Bla Dubai\, Dubai\, United Arab Emirates
CATEGORIES:Restaurant
ATTACH;FMTTYPE=image/png:https://blabladubai.ae/wp-content/uploads/2024/09/Ladies-Night-dinner-Instagram-Post.png
END:VEVENT
END:VCALENDAR